Workbook
Name OLE_LINK1: '文件归档登记移交表-日常维修、中小修及其他项目'!#REF!
Name 导线价: [1]架线附表!$M$5
Name 导线重: [1]架线附表!$E$4
Name 地网重: [1]杆塔附表!$W$13
Name 地线重: [1]架线附表!$E$17
Name 附件重: [1]附件附表!$E$53
Name 基筋重: [1]基础附表!$L$10
Name 脚栓重: [1]基础附表!$L$18
Name 金具价: [1]附件附表!$M$15
Name 全长: #REF!
Name 水泥价: [1]基础附表!$L$3
Name 水泥重: [1]基础附表!$L$2
Name 砼C15方量: [1]基础材料!$E$54
Name 砼C20方量: [1]基础材料!$G$54
Name _1_C15FANGLIANG: [1]基础材料!$E$54
Name _2.5_2_0.04_2_6.25_0.016: #REF!
Name _LC10: #N/A
Name _LC11: #N/A
Name _LC12: #N/A
Name _LC13: #N/A
Name _LC14: #N/A
Name _LC15: #N/A
Name _LC16: #N/A
Name _LC17: #N/A
Name _LC18: #N/A
Name _LC19: #N/A
Name _LC20: #N/A
Name _LC21: #N/A
Name _LC22: #N/A
Name _LC23: #N/A
Name _LC24: #N/A
Name _LC25: #N/A
Name _LC26: #N/A
Name _LC27: #N/A
Name _LC28: #N/A
Name _LC5: #N/A
Name _LC6: #N/A
Name _LC7: #N/A
Name _LC8: #N/A
Name _LC9: #N/A
Name _LD10: #N/A
Name _LD11: #N/A
Name _LD12: #N/A
Name _LD13: #N/A
Name _LD14: #N/A
Name _LD15: #N/A
Name _LD16: #N/A
Name _LD17: #N/A
Name _LD18: #N/A
Name _LD19: #N/A
Name _LD20: #N/A
Name _LD21: #N/A
Name _LD22: #N/A
Name _LD23: #N/A
Name _LD24: #N/A
Name _LD25: #N/A
Name _LD26: #N/A
Name _LD27: #N/A
Name _LD28: #N/A
Name _LD5: #N/A

Sheet 工程信息
A1: 造价员 | C1: 杜建辉（胡寿尚） | D1: 工程内容 | E1: 对广东电网有限责任公司下属机关和各地市局单位的车辆维修及保养，年检、车辆清洁等项目进行招标控制价编制 | J1: 定额体系清单
A2: 委托单位 （标题第一行） | C2: 广东电网有限责任公司 | J2: 《20kV及以下配电网工程预算定额（2009）》
A3: 工程名称 （标题第二行） | C3: 2024-2025年广东电网有限责任公司车辆维修及保养、年检代办、车辆清洁服务项目 | D3: 承包方式 | J3: 《20kV及以下配电网工程预算定额（2016）》
A4: 增值税 | C4: 0.06 | D4: 结算原则 | E4: 常规 | J4: 《电网检修工程预算定额（2010）》
A5: 编制日期： | C5: 45237 | D5: 建设单位 | E5: =C2 -> 广东电网有限责任公司 | F5: 承包单位 | J5: 《电网技术改造工程预算定额（2010）》
A6: 业务编号： | D6: 无设计单位 | F6: 监理单位 | J6: 《广东省建筑与装饰工程综合定额（2010）》
A7: 咨询费下浮率 | C7: 0.9 | D7: 开工日期 | F7: 竣工日期 | J7: 《广东省安装工程综合定额（2010）》
A8: 施工中标费率 （审核后下浮） | C8: 1 | D8: 定额体系 | E8: 广东省定额(2018) | F8: 计价方式 | G8: 清单计价法 | J8: 《广东省市政工程综合定额（2010）》
A9: 最低咨询费 | C9: 600 | D9: 套用定额 | E9: 《广东省通用安装工程综合定额（2018）》 | J9: 《广东省园林绿化工程综合定额（2010）》
A10: 施工合同号 | D10: 材料信息价 | E10: 穗建造价〔2022〕42号 | F10: 2022 | G10: 1 | J10: 《广东省房屋建筑和市政修缮工程综合定额（2012）》
A11: 工程编号 | C11: / | D11: 厂商价 | F11: 2022 | G11: 一 | J11: 《电网检修工程预算定额（2015年版）》
A12: 限价金额 | B12: 建筑部分 | C12: 889317.4 | D12: 建设单位提供的 | E12: 工程量清单 | J12: 《电网技术改造工程预算定额（2015年版）》
B13: 安装部分 | D13: 配网定额年价差 | E13: 定额〔2019〕26号《关于发布20kV及以下配电网工程预算定额2019年上半年价格水平调整系数的通知》 | J13: 《电网拆除工程预算定额（2015年版）》
A14: 报告版/次 | C14: A/0 | D14: 技改检修定额年价差 | E14: 定额〔2020〕26号《关于发布2015版电网技术改造和检修工程概预算定额2020年上半年价格水平调整系数的通知》 | J14: 广东电行〔2015〕19号关于印发《广东省电力行业10kv配电线路带电作业收费标准》的通知
A15: 汇总表版/次 | C15: A/0 | D15: 核减结算情况说明 | E15: 根据施工图重新核查工程量，按最新材价文件调整乙供材料价格，并按相关规定文件调整工程取费， | J15: 《电网拆除工程预算定额估价表（2015年版）》
J16: 《电网检修工程预算定额估价表（2015年版）》
J17: 《电网技术改造工程预算定额估价表（2015年版）》
J18: 《广东省房屋建筑与装饰工程综合定额（2018）》
J19: 《广东省通用安装工程综合定额（2018）》
J20: 《广东省市政工程综合定额（2018）》
J21: 《广东省园林绿化工程综合定额（2018）》

Sheet 文件归档登记移交表-日常维修、中小修及其他项目
A1: 广州竣盛工程造价咨询有限公司
A2: 日常维修、中小修及其他项目工程造价文件归档登记移交表
A3: 项目名称 | B3: =工程信息!C3 -> 2024-2025年广东电网有限责任公司车辆维修及保养、年检代办、车辆清洁服务项目 | D3: 工程类别 | E3: 其他 | G3: 项目属性 | H3: 招标控制价编制
D4: 业务编号 | E4: =工程信息!C6 -> 0 | G4: 日 期 | H4: =工程信息!C5 -> 45237
D5: 申 请 人 | E5: =工程信息!C1 -> 杜建辉（胡寿尚） | G5: 所属组别 | H5: 造价二组
A6: 资料类别 | B6: 编号 | C6: 关键性 | D6: 资料名称 | E6: 归档 | F6: 归档形式 | G6: 备注
A7: 成果文件 | B7: 1 | C7: ★ | D7: 限价汇总表 | F7: 原件
B8: 2 | C8: ★ | D8: 编制报告 | E8: √ | F8: 原件
B9: 3
A10: 支撑性材料 | B10: 1 | C10: ★ | D10: 其它必要的支撑证明材料 | F10: 原件或电子版
B11: 2
B12: 3
B13: 4
B14: 5
B15: 6
B16: 7
B17: 8
B18: 9
B19: 10
B20: 11
B21: 12
B22: 13
... B27: 18
A28: 备注： 1．广州供电局配网基建结算审核支撑性文件电子版文件在业主的工程系统中归档； 2．纸质版文件在公司档案室归档； 3．√代表提交的资料； 4．其他需归档资料在空白处填写。
A29: 档案管理员签收： | E29: 归档日期：

Sheet 自检表 (新3)
A1: 广州竣盛工程造价咨询有限公司
A2: 工程造价成果自检表
A3: 业务编号 | C3: =工程信息!C6 -> 0 | F3: 项目负责人 | G3: =工程信息!C1 -> 杜建辉（胡寿尚）
A4: 序号 | B4: 自检项目 | F4: 自检情况 | G4: 备注
A5: 1 | B5: 造价成果编审依据 | C5: 采用定额体系□09配网、□16年配网、□15年检修技改、□10广东省定额、□18广东省定额、□其他 | G5: 如采用其他的请填写具体定额体系
C6: 采用计费程序的文件
C7: 采用的人材机调整系数及价差文件
A8: 2 | B8: 预、结算书部分 | C8: 工程量复核
C9: 定额子目套用
C10: 材料设备单价
C11: 计费费率、人材机调整系数
A12: 3 | B12: 项目基本信息 | C12: 项目批次□、标段□、业务编号□、项目名称□、项目编号□
C13: 送审金额□、审定金额□、施工费费率□、咨询费费率□、咨询费支付方□
C14: 成果数据与各系统一致□
C15: 建设单位□、施工单位□、工程概况□、工作内容□、开竣工日期□
A16: 4 | B16: 核减原因及结论 | C16: 审核情况说明
C17: 税率、大小写审定金额核对
A18: 注：编审员按以上自检项目进行逐项自检，自校无误后在自检情况列打“√”；序号1的自检项，需填写相应的体系或文号

Sheet 审核汇总表
A1: =工程信息!C2 -> 广东电网有限责任公司
A2: =工程信息!C3&"招标控限价汇总表" -> 2024-2025年广东电网有限责任公司车辆维修及保养、年检代办、车辆清洁服务项目招标控限价汇总表
A3: ="编号：JSECC-QR-业务-05 版/次："&TEXT(工程信息!C14,0)&" 业务编号："&工程信息!C6&" 日期："&TEXT(工程信息!C5,"yyyy年m月d日")&" 单位：元" -> 编号：JSECC-QR-业务-05 版/次：A/0 业务编号： 日期：2023年11月7日 单位：元
A4: 序号 | B4: 工程名称 | C4: 工程编号 | D4: 招标控制价 | E4: ="咨询费（中标费率"&TEXT(工程信息!C7,"0.00%")&"）" -> 咨询费（中标费率90.00%） | F4: 备 注 | G4: 咨询费计算表 | O4: 咨询费 | U4: 计算过程
G5: 咨询费 | H5: 100万以内 | I5: 101- 500万 | J5: 501-1000万 | K5: 1001-5000万 | L5: 5000万-1亿 | M5: 1亿以上 | N5: 核增减费率 | O5: 100万以内 | P5: 101- 500万 | Q5: 501-1000万 | R5: 1001-5000万 | S5: 5000万-1亿 | T5: 1亿以上
A6: 1 | B6: =工程信息!C3 -> 2024-2025年广东电网有限责任公司车辆维修及保养、年检代办、车辆清洁服务项目 | C6: =TEXT(工程信息!C11,) -> / | D6: =工程信息!C12 -> 889317.4 | E6: =G6 -> 3841.85 | F6: 咨询费不足600元,按600元收。 | G6: =IF(SUM(O6:U6)*工程信息!C7<工程信息!C9,工程信息!C9,SUM(O6:U6)*工程信息!C7) -> 3841.8512 | H6: 0.0048 | I6: 0.0041 | J6: 0.0038 | K6: 0.0034 | L6: 0.0029 | M6: 0.0026 | N6: 0 | O6: =IF(D6<=1000000,D6*H6,1000000*H6) -> 4268.7235 | P6: =IF(1000000<D6,IF(D6<=5000000,(D6-1000000)*I6,4000000*I6),0) -> 0 | Q6: =IF(5000000<D6,IF(D6<=10000000,(D6-5000000)*J6,5000000*J6),0) -> 0 | R6: =IF(10000000<D6,IF(D6<=50000000,(D6-10000000)*K6,40000000*K6),0) -> 0 | S6: =IF(50000000<D6,IF(D6<=100000000,(D6-50000000)*L6,50000000*L6),0) -> 0 | T6: =IF(100000000<D6,(D6-100000000)*M6,0) -> 0 | V6: =IF(D6<=1000000,TEXT(D6,"0.00")&"×"&TEXT(H6,"0.0000"),"1000000×"&TEXT(H6,"0.0000")) -> 889317.40×0.0048 | W6: =IF(1000000<D6,IF(D6<=5000000,"+"&TEXT(D6-1000000,"0.00")&"×"&TEXT(I6,"0.0000")&"+"&TEXT(IF(D6>0,D6,D6),"0.00")&"×0.05","+"&"4000000×"&TEXT(I6,"0.0000")),"") | X6: =IF(5000000<D6,IF(D6<=10000000,"+"&TEXT(D6-5000000,"0.00")&"×"&TEXT(J6,"0.0000")&"+"&TEXT(IF(D6>0,D6,D6),"0.00")&"×0.05","+"&"5000000×"&TEXT(J6,"0.0000")),"") | Y6: =IF(10000000<D6,IF(D6<=50000000,"+"&TEXT(D6-10000000,"0.00")&"×"&TEXT(K6,"0.0000")&"+"&TEXT(IF(D6>0,D6,D6),"0.00")&"×0.05","+"&"40000000×"&TEXT(K6,"0.0000")),"") | Z6: =IF(50000000<D6,IF(D6<=10000000,"+"&TEXT(D6-50000000,"0.00")&"×"&TEXT(L6,"0.0000")&"+"&TEXT(IF(D6>0,D6,D6),"0.00")&"×0.05","+"&"50000000×"&TEXT(L6,"0.0000")),"") | AA6: =IF(100000000<D6,"+"&TEXT(D6-100000000,"0.00")&"×"&TEXT(M6,"0.0000")&"+"&TEXT(D6,"0.00")&"×0.05","") | AB6: =IF(工程信息!C7=100%,TEXT(V6,)&TEXT(W6,)&TEXT(X6,)&TEXT(Y6,)&TEXT(Z6,)&TEXT(AA6,),TEXT("("&V6,)&TEXT(W6,)&TEXT(X6,)&TEXT(Y6,)&TEXT(Z6,)&TEXT(AA6&")",)&"×"&TEXT(工程信息!C7,"0.00%")) -> (889317.40×0.0048)×90.00%
B7: 合 计 | D7: =D6 -> 889317.4 | E7: =E6 -> 3841.85 | J7: =IF(X6=FALSE,"",X6) | K7: =IF(Y6=FALSE,"",Y6) | L7: =IF(Z6=FALSE,"",Z6) | M7: =AA6
A8: 委托单位：（盖章） | D8: 审核单位：广州竣盛工程造价咨询有限公司
D10: 编 制 人：
A12: 主 管： | D12: 审 核 人：

Sheet 审核报告P1
A2: =工程信息!C2 -> 广东电网有限责任公司
A3: =工程信息!C3 -> 2024-2025年广东电网有限责任公司车辆维修及保养、年检代办、车辆清洁服务项目
A5: ="委托方合同编号："&TEXT(工程信息!C10,) -> 委托方合同编号：
A6: ="工程编号："&TEXT(工程信息!C11,) -> 工程编号：/
A7: ="业务编号："&TEXT(工程信息!C6,) -> 业务编号：
A9: 招 标 控 制 价 报 告
E12: JSECC-QR-业务-04
A14: ="版/次："&TEXT(工程信息!C15,0) -> 版/次：A/0

Sheet 审核报告P2
A2: =审核报告P1!A2 -> 广东电网有限责任公司
A3: =审核报告P1!A3 -> 2024-2025年广东电网有限责任公司车辆维修及保养、年检代办、车辆清洁服务项目
A6: =审核报告P1!A9 -> 招 标 控 制 价 报 告
C17: 审批：
C21: 审核：
C25: 校核：
C29: 编制：
A34: ·广州竣盛工程造价咨询有限公司·

Sheet 审核报告P3
A1: 关于广东电网公司2023年车辆维修及保养、年检代办、车辆清洁服务项目招标控制价编制报告
A5: =TEXT(工程信息!E5,0)&"：" -> 广东电网有限责任公司：
A6: =" 受贵局委托，广州竣盛工程造价咨询有限公司对"&TEXT(工程信息!C2,)&TEXT(工程信息!C3,)&"工程的工程招标控制价进行编制，本次编制是在项目建设单位提供的相关资料基础上进行的，项目建设单位对所提供资料的完整性、真实性、合法性、有效性负责。广州竣盛工程造价咨询有限公司依据国家现行的法律、法规、规章、规范性文件及行业规定和相应的标准、规范、技术文件要求，对工程量计算与计价、相关费用的确定、编制意见的准确性、正确性和公正性负责。现将工程编制结果报告如下：" -> 受贵局委托，广州竣盛工程造价咨询有限公司对广东电网有限责任公司2024-2025年广东电网有限责任公司车辆维修及保养、年检代办、车辆清洁服务项目工程的工程招标控制价进行编制，本次编制是在项目建设单位提供的相关资料基础上进行的，项目建设单位对所提供资料的完整性、真实性、合法性、有效性负责。广州竣盛工程造价咨询有限公司依据国家现行的法律、法规、规章、规范性文件及行业规定和相应的标准、规范、技术文件要求，对工程量计算与计价、相关费用的确定、编制意见的准确性、正确性和公正性负责。现将工程编制结果报告如下：
A7: 一、项目概况
A8: （一）工作内容：
A9: =" "&TEXT(工程信息!C2,)&TEXT(工程信息!C3,)&"的工作内容是"&TEXT(工程信息!E1,)&"。" -> 广东电网有限责任公司2024-2025年广东电网有限责任公司车辆维修及保养、年检代办、车辆清洁服务项目的工作内容是对广东电网有限责任公司下属机关和各地市局单位的车辆维修及保养，年检、车辆清洁等项目进行招标控制价编制。
A10: 二、编制范围
A11: 依据广东电网公司2023年车辆维修及保养、年检代办、车辆清洁服务项目等内容进行招标控制价编制。
A12: 三、编制准则、标准和依据
A13: （一）编制行为准则：
A14: 1.《关于下发<工程造价咨询单位执业行为准则>、<造价工程师执业道德行为准则>的通知》(中价协〔2002〕第015号)；
A16: 2.《工程造价咨询业务操作指导规程》(中价协〔2002〕第016号)；
A18: 3.《建设工程造价咨询规范》（GB/T 51095-2015）。
A19: （二）编制标准：
A20: 本工程招标控制价按以下标准进行编制：
A21: 1.根据车辆维修及保养，年检代办服务、车辆清洁等的工作内容进行编制；
A23: 2.参考各地市《人力资源市场工资价位（2021年）》汽车摩托车修理技术服务人员工资差异，根据地区差异分为三类地区设置招标控制价。
A25: 3.招标控制价采用平移法进行编制；
A27: 四、编制结论
A28: =" 本招标控制价编制车辆维修及保养，年检代办服务、车辆清洁单价等控制价，其单价不含税。" -> 本招标控制价编制车辆维修及保养，年检代办服务、车辆清洁单价等控制价，其单价不含税。
A30: 附件：1.招标控制价
G32: 编制单位：（盖章）
G33: =TEXT(工程信息!C5,"yyyy年m月d日") -> 2023年11月7日
A34: 广州供电局2013年第一批中低压配电网项目 | B34: 083000WP20120007 | C34: 绿洲站F24调整绿洲站F23负荷 | D34: 广州从化供电局 标段1 | E34: 130954.27 | F34: 4974.36 | G34: 40719.45 | H34: 4974.36 | I34: 40719.45

Sheet 结算书封面
A4: 招 标 控 制 价
B17: 工程名称： | C17: =审核汇总表!B6 -> 2024-2025年广东电网有限责任公司车辆维修及保养、年检代办、车辆清洁服务项目
B20: 建设单位： | C20: =工程信息!E5 -> 广东电网有限责任公司
B23: 日 期： | C23: =工程信息!C5 -> 45237

Sheet 生产工器具、仪器仪表检测报价（适用标的2）
A1: 招标控制价清单表
A2: 项目名称：佛山供电局2026-2027年生产工器具、仪器仪表检测框架招标（适用标的2） | F2: 单位：元
A3: 序号 | B3: 项目名称 | C3: 工程量 | D3: 综合价 | E3: 单位 | F3: 合计
A4: 1 | B4: 电力10kV电流互感器实验室检测（0.1-0.5级）、电力低压电流互感器实验室检测（0.5级及以下） | C4: 1 | D4: 3000 | E4: 元/组 | F4: =D4*C4 -> 3000
A5: 2 | B5: 标准电压互感器实验室检定、标准电流互感器实验室检定 | C5: 1 | D5: 2400 | E5: 元/组 | F5: =D5*C5 -> 2400
A6: 3 | B6: 电流互感器现场测试 | C6: 1 | D6: 3000 | E6: 元/组 | F6: =D6*C6 -> 3000
A7: 4 | B7: 电流比例标准(电流比例标准（十万分之一） | C7: 1 | D7: 2400 | E7: 元/组 | F7: =D7*C7 -> 2400
A8: 5 | B8: 关口电能表实验室检测(0.2S、0.5S级全性能试验) | C8: 1 | D8: 21000 | E8: 元/只 | F8: =D8*C8 -> 21000
A9: 6 | B9: 关口电能表实验室检测(0.5、0.5S级全性能试验) | C9: 1 | D9: 15000 | E9: 元/只 | F9: =D9*C9 -> 15000
A10: 7 | B10: 关口电能表实验室检测（0.2S、0.5S级误差试验） | C10: 1 | D10: 3000 | E10: 元/只 | F10: =D10*C10 -> 3000
A11: 8 | B11: 单相长寿命表（2.0级以下） | C11: 1 | D11: 5000 | E11: 元/台 | F11: =D11*C11 -> 5000
A12: 9 | B12: 三相长寿命表（1.0、2.0级） | C12: 1 | D12: 10000 | E12: 元/台 | F12: =D12*C12 -> 10000
A13: 10 | B13: 单相485接口电能表（2.0级以下）、单相载波电能表（2.0级以下） | C13: 1 | D13: 10000 | E13: 元/台 | F13: =D13*C13 -> 10000
A14: 11 | B14: 三相载波电能表（1.0级、2.0级及以下）、普通三相电能表（1.0级、2.0级及以下）、三相多功能电能表（0.5级、1.0级、2.0级及以下）、数字式多功能电能表（0.2 S、0.5S、0.5 1.0级等） | C14: 1 | D14: 15000 | E14: 元/台 | F14: =D14*C14 -> 15000
A15: 12 | B15: 二次压降测试仪 | C15: 1 | D15: 4000 | E15: 元/台 | F15: =D15*C15 -> 4000
A16: 13 | B16: 二次负载测试仪 | C16: 1 | D16: 4000 | E16: 元/台 | F16: =D16*C16 -> 4000
A17: 14 | B17: 单相标准电能表（0.1、0.2级） | C17: 1 | D17: 300+100（n-1）（n为设备数） | E17: 元/只 | F17: 300
A18: 15 | B18: 单相标准电能表（0.05级） | C18: 1 | D18: 600+200（n-1）（n为设备数） | E18: 元/只 | F18: 600
A19: 16 | B19: 三相标准电能表（0.1、0.2级） | C19: 1 | D19: 500+150（n-1）（n为设备数） | E19: 元/只 | F19: 500
A20: 17 | B20: 三相标准电能表（0.05级） | C20: 1 | D20: 1000+300（n-1）（n为设备数） | E20: 元/只 | F20: 1000
A21: 18 | B21: 电流互感器负载箱、电压互感器负载箱 | C21: 1 | D21: 30*n元(n为设备的量程数) | E21: 元/台 | F21: 30
A22: 19 | B22: 二次压降测试仪、二次负载测试仪 | C22: 1 | D22: 1000 | E22: 元/台 | F22: =D22*C22 -> 1000
A23: 20 | B23: 标准电压互感器实验室检定、标准电流互感器实验室检定 | C23: 1 | D23: 800 | E23: 元/组 | F23: =D23*C23 -> 800
A24: 21 | B24: 电压互感器二次导线压降测试 | C24: 1 | D24: 3500+1500（n-1）（n为设备数） | E24: 元/组 | F24: 3500
A25: 22 | B25: 互感器二次回路负载测试 | C25: 1 | D25: 1500+1000（n-1）（n为设备数） | E25: 元/组 | F25: 1500
A26: 23
A27: 24 | B27: 关口电能表实验室检测(0.2S级全性能试验) | C27: 1 | D27: 4000 | E27: 元/只 | F27: =D27*C27 -> 4000
A28: 25 | B28: 关口电能表实验室检测(0.5S级全性能试验) | C28: 1 | D28: 3000 | E28: 元/只 | F28: =D28*C28 -> 3000
A29: 26 | B29: 关口电能表实验室检测（0.2S、0.5S级误差试验） | C29: 1 | D29: 600 | E29: 元/只 | F29: =D29*C29 -> 600
A30: 27 | B30: 关口电能表现场检测（0.2S、0.5S级误差试验） | C30: 1 | D30: 600 | E30: 元/只 | F30: =D30*C30 -> 600
A31: 28 | B31: 单相长寿命表（2.0级以下） | C31: 1 | D31: 1000 | E31: 元/台 | F31: =D31*C31 -> 1000
A32: 29 | B32: 三相长寿命表（1.0、2.0级） | C32: 1 | D32: 2000 | E32: 元/台 | F32: =D32*C32 -> 2000
A33: 30 | B33: 单相485接口电能表（2.0级以下）、单相载波电能表（2.0级以下） | C33: 1 | D33: 2000 | E33: 元/台 | F33: =D33*C33 -> 2000
A34: 31 | B34: 三相载波电能表（1.0级、2.0级及以下）、普通三相电能表（1.0级、2.0级及以下）、三相多功能电能表（0.5级、1.0级、2.0级及以下）、数字式多功能电能表（0.2 S、0.5S、0.5 1.0级等） | C34: 1 | D34: 3000 | E34: 元/台 | F34: =D34*C34 -> 3000
A35: 32 | B35: 电力10kV电流互感器实验室检测（0.1-0.5级）、电力低压电流互感器实验室检测（0.5级及以下） | C35: 1 | D35: 1500 | E35: 元/组 | F35: =D35*C35 -> 1500
A36: 33 | B36: 电压监测仪 | C36: 1 | D36: 2000 | E36: 元/台 | F36: =D36*C36 -> 2000
A37: 34 | B37: 电压监测仪 | C37: 1 | D37: 2000 | E37: 元/台 | F37: =D37*C37 -> 2000
A38: 35 | B38: 绝缘电阻表检定装置 | C38: 1 | D38: 900 | E38: 元/套 | F38: =D38*C38 -> 900
A39: 36 | B39: 变送器（0.2-0.5级） | C39: 1 | D39: 400 | E39: 元/台 | F39: =D39*C39 -> 400
A40: 37 | B40: 电流表（0.5级）、电压表（0.5级）功率表（0.5级） | C40: 1 | D40: 60+40*(n-1)元（n为仪器的量程数） | E40: 元/台 | F40: 60
...
