Workbook
Name OLE_LINK1: '文件归档登记移交表-日常维修、中小修及其他项目'!#REF!
Name 导线价: [1]架线附表!$M$5
Name 导线重: [1]架线附表!$E$4
Name 地网重: [1]杆塔附表!$W$13
Name 地线重: [1]架线附表!$E$17
Name 附件重: [1]附件附表!$E$53
Name 基筋重: [1]基础附表!$L$10
Name 脚栓重: [1]基础附表!$L$18
Name 金具价: [1]附件附表!$M$15
Name 全长: #REF!
Name 水泥价: [1]基础附表!$L$3
Name 水泥重: [1]基础附表!$L$2
Name 砼C15方量: [1]基础材料!$E$54
Name 砼C20方量: [1]基础材料!$G$54
Name _1_C15FANGLIANG: [1]基础材料!$E$54
Name _2.5_2_0.04_2_6.25_0.016: #REF!
Name _LC10: #N/A
Name _LC11: #N/A
Name _LC12: #N/A
Name _LC13: #N/A
Name _LC14: #N/A
Name _LC15: #N/A
Name _LC16: #N/A
Name _LC17: #N/A
Name _LC18: #N/A
Name _LC19: #N/A
Name _LC20: #N/A
Name _LC21: #N/A
Name _LC22: #N/A
Name _LC23: #N/A
Name _LC24: #N/A
Name _LC25: #N/A
Name _LC26: #N/A
Name _LC27: #N/A
Name _LC28: #N/A
Name _LC5: #N/A
Name _LC6: #N/A
Name _LC7: #N/A
Name _LC8: #N/A
Name _LC9: #N/A
Name _LD10: #N/A
Name _LD11: #N/A
Name _LD12: #N/A
Name _LD13: #N/A
Name _LD14: #N/A
Name _LD15: #N/A
Name _LD16: #N/A
Name _LD17: #N/A
Name _LD18: #N/A
Name _LD19: #N/A
Name _LD20: #N/A
Name _LD21: #N/A
Name _LD22: #N/A
Name _LD23: #N/A
Name _LD24: #N/A
Name _LD25: #N/A
Name _LD26: #N/A
Name _LD27: #N/A
Name _LD28: #N/A
Name _LD5: #N/A

Sheet 工程信息
A1: 造价员 | C1: 杜建辉（胡寿尚） | D1: 工程内容 | E1: 对广东电网有限责任公司下属机关和各地市局单位的车辆维修及保养，年检、车辆清洁等项目进行招标控制价编制 | J1: 定额体系清单
A2: 委托单位 （标题第一行） | C2: 广东电网有限责任公司 | J2: 《20kV及以下配电网工程预算定额（2009）》
A3: 工程名称 （标题第二行） | C3: 2024-2025年广东电网有限责任公司车辆维修及保养、年检代办、车辆清洁服务项目 | D3: 承包方式 | J3: 《20kV及以下配电网工程预算定额（2016）》
A4: 增值税 | C4: 0.06 | D4: 结算原则 | E4: 常规 | J4: 《电网检修工程预算定额（2010）》
A5: 编制日期： | C5: 45237 | D5: 建设单位 | E5: =C2 -> 广东电网有限责任公司 | F5: 承包单位 | J5: 《电网技术改造工程预算定额（2010）》
A6: 业务编号： | D6: 无设计单位 | F6: 监理单位 | J6: 《广东省建筑与装饰工程综合定额（2010）》
A7: 咨询费下浮率 | C7: 0.9 | D7: 开工日期 | F7: 竣工日期 | J7: 《广东省安装工程综合定额（2010）》
A8: 施工中标费率 （审核后下浮） | C8: 1 | D8: 定额体系 | E8: 广东省定额(2018) | F8: 计价方式 | G8: 清单计价法 | J8: 《广东省市政工程综合定额（2010）》
A9: 最低咨询费 | C9: 600 | D9: 套用定额 | E9: 《广东省通用安装工程综合定额（2018）》 | J9: 《广东省园林绿化工程综合定额（2010）》
A10: 施工合同号 | D10: 材料信息价 | E10: 穗建造价〔2022〕42号 | F10: 2022 | G10: 1 | J10: 《广东省房屋建筑和市政修缮工程综合定额（2012）》
A11: 工程编号 | C11: / | D11: 厂商价 | F11: 2022 | G11: 一 | J11: 《电网检修工程预算定额（2015年版）》
A12: 限价金额 | B12: 建筑部分 | C12: 889317.4 | D12: 建设单位提供的 | E12: 工程量清单 | J12: 《电网技术改造工程预算定额（2015年版）》
B13: 安装部分 | D13: 配网定额年价差 | E13: 定额〔2019〕26号《关于发布20kV及以下配电网工程预算定额2019年上半年价格水平调整系数的通知》 | J13: 《电网拆除工程预算定额（2015年版）》
A14: 报告版/次 | C14: A/0 | D14: 技改检修定额年价差 | E14: 定额〔2020〕26号《关于发布2015版电网技术改造和检修工程概预算定额2020年上半年价格水平调整系数的通知》 | J14: 广东电行〔2015〕19号关于印发《广东省电力行业10kv配电线路带电作业收费标准》的通知
A15: 汇总表版/次 | C15: A/0 | D15: 核减结算情况说明 | E15: 根据施工图重新核查工程量，按最新材价文件调整乙供材料价格，并按相关规定文件调整工程取费， | J15: 《电网拆除工程预算定额估价表（2015年版）》
J16: 《电网检修工程预算定额估价表（2015年版）》
J17: 《电网技术改造工程预算定额估价表（2015年版）》
J18: 《广东省房屋建筑与装饰工程综合定额（2018）》
J19: 《广东省通用安装工程综合定额（2018）》
J20: 《广东省市政工程综合定额（2018）》
J21: 《广东省园林绿化工程综合定额（2018）》

Sheet 文件归档登记移交表-日常维修、中小修及其他项目
A1: 广州竣盛工程造价咨询有限公司
A2: 日常维修、中小修及其他项目工程造价文件归档登记移交表
A3: 项目名称 | B3: =工程信息!C3 -> 2024-2025年广东电网有限责任公司车辆维修及保养、年检代办、车辆清洁服务项目 | D3: 工程类别 | E3: 其他 | G3: 项目属性 | H3: 招标控制价编制
D4: 业务编号 | E4: =工程信息!C6 -> 0 | G4: 日 期 | H4: =工程信息!C5 -> 45237
D5: 申 请 人 | E5: =工程信息!C1 -> 杜建辉（胡寿尚） | G5: 所属组别 | H5: 造价二组
A6: 资料类别 | B6: 编号 | C6: 关键性 | D6: 资料名称 | E6: 归档 | F6: 归档形式 | G6: 备注
A7: 成果文件 | B7: 1 | C7: ★ | D7: 限价汇总表 | F7: 原件
B8: 2 | C8: ★ | D8: 编制报告 | E8: √ | F8: 原件
B9: 3
A10: 支撑性材料 | B10: 1 | C10: ★ | D10: 其它必要的支撑证明材料 | F10: 原件或电子版
B11: 2
B12: 3
B13: 4
B14: 5
B15: 6
B16: 7
B17: 8
B18: 9
B19: 10
B20: 11
B21: 12
B22: 13
... B27: 18
A28: 备注： 1．广州供电局配网基建结算审核支撑性文件电子版文件在业主的工程系统中归档； 2．纸质版文件在公司档案室归档； 3．√代表提交的资料； 4．其他需归档资料在空白处填写。
A29: 档案管理员签收： | E29: 归档日期：

Sheet 自检表 (新3)
A1: 广州竣盛工程造价咨询有限公司
A2: 工程造价成果自检表
A3: 业务编号 | C3: =工程信息!C6 -> 0 | F3: 项目负责人 | G3: =工程信息!C1 -> 杜建辉（胡寿尚）
A4: 序号 | B4: 自检项目 | F4: 自检情况 | G4: 备注
A5: 1 | B5: 造价成果编审依据 | C5: 采用定额体系□09配网、□16年配网、□15年检修技改、□10广东省定额、□18广东省定额、□其他 | G5: 如采用其他的请填写具体定额体系
C6: 采用计费程序的文件
C7: 采用的人材机调整系数及价差文件
A8: 2 | B8: 预、结算书部分 | C8: 工程量复核
C9: 定额子目套用
C10: 材料设备单价
C11: 计费费率、人材机调整系数
A12: 3 | B12: 项目基本信息 | C12: 项目批次□、标段□、业务编号□、项目名称□、项目编号□
C13: 送审金额□、审定金额□、施工费费率□、咨询费费率□、咨询费支付方□
C14: 成果数据与各系统一致□
C15: 建设单位□、施工单位□、工程概况□、工作内容□、开竣工日期□
A16: 4 | B16: 核减原因及结论 | C16: 审核情况说明
C17: 税率、大小写审定金额核对
A18: 注：编审员按以上自检项目进行逐项自检，自校无误后在自检情况列打“√”；序号1的自检项，需填写相应的体系或文号

Sheet 审核汇总表
A1: =工程信息!C2 -> 广东电网有限责任公司
A2: =工程信息!C3&"招标控限价汇总表" -> 2024-2025年广东电网有限责任公司车辆维修及保养、年检代办、车辆清洁服务项目招标控限价汇总表
A3: ="编号：JSECC-QR-业务-05 版/次："&TEXT(工程信息!C14,0)&" 业务编号："&工程信息!C6&" 日期："&TEXT(工程信息!C5,"yyyy年m月d日")&" 单位：元" -> 编号：JSECC-QR-业务-05 版/次：A/0 业务编号： 日期：2023年11月7日 单位：元
A4: 序号 | B4: 工程名称 | C4: 工程编号 | D4: 招标控制价 | E4: ="咨询费（中标费率"&TEXT(工程信息!C7,"0.00%")&"）" -> 咨询费（中标费率90.00%） | F4: 备 注 | G4: 咨询费计算表 | O4: 咨询费 | U4: 计算过程
G5: 咨询费 | H5: 100万以内 | I5: 101- 500万 | J5: 501-1000万 | K5: 1001-5000万 | L5: 5000万-1亿 | M5: 1亿以上 | N5: 核增减费率 | O5: 100万以内 | P5: 101- 500万 | Q5: 501-1000万 | R5: 1001-5000万 | S5: 5000万-1亿 | T5: 1亿以上
A6: 1 | B6: =工程信息!C3 -> 2024-2025年广东电网有限责任公司车辆维修及保养、年检代办、车辆清洁服务项目 | C6: =TEXT(工程信息!C11,) -> / | D6: =工程信息!C12 -> 889317.4 | E6: =G6 -> 3841.85 | F6: 咨询费不足600元,按600元收。 | G6: =IF(SUM(O6:U6)*工程信息!C7<工程信息!C9,工程信息!C9,SUM(O6:U6)*工程信息!C7) -> 3841.8512 | H6: 0.0048 | I6: 0.0041 | J6: 0.0038 | K6: 0.0034 | L6: 0.0029 | M6: 0.0026 | N6: 0 | O6: =IF(D6<=1000000,D6*H6,1000000*H6) -> 4268.7235 | P6: =IF(1000000<D6,IF(D6<=5000000,(D6-1000000)*I6,4000000*I6),0) -> 0 | Q6: =IF(5000000<D6,IF(D6<=10000000,(D6-5000000)*J6,5000000*J6),0) -> 0 | R6: =IF(10000000<D6,IF(D6<=50000000,(D6-10000000)*K6,40000000*K6),0) -> 0 | S6: =IF(50000000<D6,IF(D6<=100000000,(D6-50000000)*L6,50000000*L6),0) -> 0 | T6: =IF(100000000<D6,(D6-100000000)*M6,0) -> 0 | V6: =IF(D6<=1000000,TEXT(D6,"0.00")&"×"&TEXT(H6,"0.0000"),"1000000×"&TEXT(H6,"0.0000")) -> 889317.40×0.0048 | W6: =IF(1000000<D6,IF(D6<=5000000,"+"&TEXT(D6-1000000,"0.00")&"×"&TEXT(I6,"0.0000")&"+"&TEXT(IF(D6>0,D6,D6),"0.00")&"×0.05","+"&"4000000×"&TEXT(I6,"0.0000")),"") | X6: =IF(5000000<D6,IF(D6<=10000000,"+"&TEXT(D6-5000000,"0.00")&"×"&TEXT(J6,"0.0000")&"+"&TEXT(IF(D6>0,D6,D6),"0.00")&"×0.05","+"&"5000000×"&TEXT(J6,"0.0000")),"") | Y6: =IF(10000000<D6,IF(D6<=50000000,"+"&TEXT(D6-10000000,"0.00")&"×"&TEXT(K6,"0.0000")&"+"&TEXT(IF(D6>0,D6,D6),"0.00")&"×0.05","+"&"40000000×"&TEXT(K6,"0.0000")),"") | Z6: =IF(50000000<D6,IF(D6<=10000000,"+"&TEXT(D6-50000000,"0.00")&"×"&TEXT(L6,"0.0000")&"+"&TEXT(IF(D6>0,D6,D6),"0.00")&"×0.05","+"&"50000000×"&TEXT(L6,"0.0000")),"") | AA6: =IF(100000000<D6,"+"&TEXT(D6-100000000,"0.00")&"×"&TEXT(M6,"0.0000")&"+"&TEXT(D6,"0.00")&"×0.05","") | AB6: =IF(工程信息!C7=100%,TEXT(V6,)&TEXT(W6,)&TEXT(X6,)&TEXT(Y6,)&TEXT(Z6,)&TEXT(AA6,),TEXT("("&V6,)&TEXT(W6,)&TEXT(X6,)&TEXT(Y6,)&TEXT(Z6,)&TEXT(AA6&")",)&"×"&TEXT(工程信息!C7,"0.00%")) -> (889317.40×0.0048)×90.00%
B7: 合 计 | D7: =D6 -> 889317.4 | E7: =E6 -> 3841.85 | J7: =IF(X6=FALSE,"",X6) | K7: =IF(Y6=FALSE,"",Y6) | L7: =IF(Z6=FALSE,"",Z6) | M7: =AA6
A8: 委托单位：（盖章） | D8: 审核单位：广州竣盛工程造价咨询有限公司
D10: 编 制 人：
A12: 主 管： | D12: 审 核 人：

Sheet 审核报告P1
A2: =工程信息!C2 -> 广东电网有限责任公司
A3: =工程信息!C3 -> 2024-2025年广东电网有限责任公司车辆维修及保养、年检代办、车辆清洁服务项目
A5: ="委托方合同编号："&TEXT(工程信息!C10,) -> 委托方合同编号：
A6: ="工程编号："&TEXT(工程信息!C11,) -> 工程编号：/
A7: ="业务编号："&TEXT(工程信息!C6,) -> 业务编号：
A9: 招 标 控 制 价 报 告
E12: JSECC-QR-业务-04
A14: ="版/次："&TEXT(工程信息!C15,0) -> 版/次：A/0

Sheet 审核报告P2
A2: =审核报告P1!A2 -> 广东电网有限责任公司
A3: =审核报告P1!A3 -> 2024-2025年广东电网有限责任公司车辆维修及保养、年检代办、车辆清洁服务项目
A6: =审核报告P1!A9 -> 招 标 控 制 价 报 告
C17: 审批：
C21: 审核：
C25: 校核：
C29: 编制：
A34: ·广州竣盛工程造价咨询有限公司·

Sheet 审核报告P3
A1: 关于广东电网公司2023年车辆维修及保养、年检代办、车辆清洁服务项目招标控制价编制报告
A5: =TEXT(工程信息!E5,0)&"：" -> 广东电网有限责任公司：
A6: =" 受贵局委托，广州竣盛工程造价咨询有限公司对"&TEXT(工程信息!C2,)&TEXT(工程信息!C3,)&"工程的工程招标控制价进行编制，本次编制是在项目建设单位提供的相关资料基础上进行的，项目建设单位对所提供资料的完整性、真实性、合法性、有效性负责。广州竣盛工程造价咨询有限公司依据国家现行的法律、法规、规章、规范性文件及行业规定和相应的标准、规范、技术文件要求，对工程量计算与计价、相关费用的确定、编制意见的准确性、正确性和公正性负责。现将工程编制结果报告如下：" -> 受贵局委托，广州竣盛工程造价咨询有限公司对广东电网有限责任公司2024-2025年广东电网有限责任公司车辆维修及保养、年检代办、车辆清洁服务项目工程的工程招标控制价进行编制，本次编制是在项目建设单位提供的相关资料基础上进行的，项目建设单位对所提供资料的完整性、真实性、合法性、有效性负责。广州竣盛工程造价咨询有限公司依据国家现行的法律、法规、规章、规范性文件及行业规定和相应的标准、规范、技术文件要求，对工程量计算与计价、相关费用的确定、编制意见的准确性、正确性和公正性负责。现将工程编制结果报告如下：
A7: 一、项目概况
A8: （一）工作内容：
A9: =" "&TEXT(工程信息!C2,)&TEXT(工程信息!C3,)&"的工作内容是"&TEXT(工程信息!E1,)&"。" -> 广东电网有限责任公司2024-2025年广东电网有限责任公司车辆维修及保养、年检代办、车辆清洁服务项目的工作内容是对广东电网有限责任公司下属机关和各地市局单位的车辆维修及保养，年检、车辆清洁等项目进行招标控制价编制。
A10: 二、编制范围
A11: 依据广东电网公司2023年车辆维修及保养、年检代办、车辆清洁服务项目等内容进行招标控制价编制。
A12: 三、编制准则、标准和依据
A13: （一）编制行为准则：
A14: 1.《关于下发<工程造价咨询单位执业行为准则>、<造价工程师执业道德行为准则>的通知》(中价协〔2002〕第015号)；
A16: 2.《工程造价咨询业务操作指导规程》(中价协〔2002〕第016号)；
A18: 3.《建设工程造价咨询规范》（GB/T 51095-2015）。
A19: （二）编制标准：
A20: 本工程招标控制价按以下标准进行编制：
A21: 1.根据车辆维修及保养，年检代办服务、车辆清洁等的工作内容进行编制；
A23: 2.参考各地市《人力资源市场工资价位（2021年）》汽车摩托车修理技术服务人员工资差异，根据地区差异分为三类地区设置招标控制价。
A25: 3.招标控制价采用平移法进行编制；
A27: 四、编制结论
A28: =" 本招标控制价编制车辆维修及保养，年检代办服务、车辆清洁单价等控制价，其单价不含税。" -> 本招标控制价编制车辆维修及保养，年检代办服务、车辆清洁单价等控制价，其单价不含税。
A30: 附件：1.招标控制价
G32: 编制单位：（盖章）
G33: =TEXT(工程信息!C5,"yyyy年m月d日") -> 2023年11月7日
A34: 广州供电局2013年第一批中低压配电网项目 | B34: 083000WP20120007 | C34: 绿洲站F24调整绿洲站F23负荷 | D34: 广州从化供电局 标段1 | E34: 130954.27 | F34: 4974.36 | G34: 40719.45 | H34: 4974.36 | I34: 40719.45

Sheet 结算书封面
A4: 招 标 控 制 价
B17: 工程名称： | C17: =审核汇总表!B6 -> 2024-2025年广东电网有限责任公司车辆维修及保养、年检代办、车辆清洁服务项目
B20: 建设单位： | C20: =工程信息!E5 -> 广东电网有限责任公司
B23: 日 期： | C23: =工程信息!C5 -> 45237

Sheet 工时费清单限价表
A1: 车辆维修及保养、年检代办、车辆清洁服务基准价（工时费）
A2: 类别 | B2: 编号 | C2: 维修项目 | D2: 工时费 （一类片区） | E2: 工时费 （二类片区） | F2: 工时费 （三类片区） | G2: 备注
A3: 维修项目Ⅰ:整车保养 | B3: 101 | C3: 一级维护 | D3: 185 | E3: =D3*0.916 -> 169.46 | F3: =D3*0.857 -> 158.55
B4: 102 | C4: 二级维护 | D4: 462 | E4: =D4*0.916 -> 423.19 | F4: =D4*0.857 -> 395.93
B5: 103 | C5: 更换机油，机油滤清器 | D5: 56 | E5: =D5*0.916 -> 51.3 | F5: =D5*0.857 -> 47.99
B6: 104 | C6: 更换波箱油（手动） | D6: 74 | E6: =D6*0.916 -> 67.78 | F6: =D6*0.857 -> 63.42
B7: 105 | C7: 更换波箱油（自动） | D7: 111 | E7: =D7*0.916 -> 101.68 | F7: =D7*0.857 -> 95.13
B8: 106 | C8: 更换波箱油（电控波箱） | D8: 342 | E8: =D8*0.916 -> 313.27 | F8: =D8*0.857 -> 293.09
B9: 107 | C9: 保养四轮刹车 | D9: 185 | E9: =D9*0.916 -> 169.46 | F9: =D9*0.857 -> 158.55
B10: 108 | C10: 保养冷却系统 | D10: 111 | E10: =D10*0.916 -> 101.68 | F10: =D10*0.857 -> 95.13
B11: 109 | C11: 保养空调系统（不含加注雪种） | D11: 166 | E11: =D11*0.916 -> 152.06 | F11: =D11*0.857 -> 142.26
B12: 110 | C12: 保养转向系统 | D12: 111 | E12: =D12*0.916 -> 101.68 | F12: =D12*0.857 -> 95.13
B13: 111 | C13: 清洗发动机外表 | D13: 92 | E13: =D13*0.916 -> 84.27 | F13: =D13*0.857 -> 78.84
B14: 112 | C14: 车辆年检代办服务（仅包含代办服务费） | D14: 380 | E14: =D14*0.916 -> 348.08 | F14: =D14*0.857 -> 325.66 | G14: 小型车（总质量≤3.5吨）
B15: 113 | C15: 车辆年检代办服务（仅包含代办服务费） | D15: 760 | E15: =D15*0.916 -> 696.16 | F15: =D15*0.857 -> 651.32 | G15: 中型车（3.5吨＜总质量＜10吨）
B16: 114 | C16: 车辆报废代办服务（仅包含代办服务费） | D16: 200 | E16: =D16*0.916 -> 183.2 | F16: =D16*0.857 -> 171.4
A17: 维修项目Ⅱ:发动机 | B17: 201 | C17: 发动机大修（含吊装发动机） | D17: 2154 | E17: =D17*0.916 -> 1973.06 | F17: =D17*0.857 -> 1845.98
B18: 202 | C18: 吊装发动机总成 | D18: 923 | E18: =D18*0.916 -> 845.47 | F18: =D18*0.857 -> 791.01
B19: 203 | C19: 更换发动机下挡泥板 | D19: 56 | E19: =D19*0.916 -> 51.3 | F19: =D19*0.857 -> 47.99
B20: 204 | C20: 更换发动机左侧支承胶 | D20: 111 | E20: =D20*0.916 -> 101.68 | F20: =D20*0.857 -> 95.13
B21: 205 | C21: 更换发动机右侧支承胶 | D21: 111 | E21: =D21*0.916 -> 101.68 | F21: =D21*0.857 -> 95.13
B22: 206 | C22: 更换发动机后支承胶 | D22: 154 | E22: =D22*0.916 -> 141.06 | F22: =D22*0.857 -> 131.98
B23: 207 | C23: 清洗、调校喷油嘴（全车套）及节气门（4缸） | D23: 415 | E23: =D23*0.916 -> 380.14 | F23: =D23*0.857 -> 355.66
B24: 208 | C24: 清洗、调校喷油嘴（全车套）及节气门（6缸） | D24: 554 | E24: =D24*0.916 -> 507.46 | F24: =D24*0.857 -> 474.78
B25: 209 | C25: 更换喷油嘴（只）不含拆进气歧管费用 | D25: 56 | E25: =D25*0.916 -> 51.3 | F25: =D25*0.857 -> 47.99
B26: 210 | C26: 拆装燃油箱 (单拆装) | D26: 383 | E26: =D26*0.916 -> 350.83 | F26: =D26*0.857 -> 328.23
B27: 211 | C27: 更换缸内直喷喷油嘴 | D27: 592 | E27: =D27*0.916 -> 542.27 | F27: =D27*0.857 -> 507.34
B28: 212 | C28: 更换/检修电控柴油喷油嘴 | D28: 348 | E28: =D28*0.916 -> 318.77 | F28: =D28*0.857 -> 298.24
B29: 213 | C29: 取断头螺丝（支） | D29: 111 | E29: =D29*0.916 -> 101.68 | F29: =D29*0.857 -> 95.13
... B126: 310 | C126: 拆装清洗柴油喷油嘴（支） | D126: 92 | E126: =D126*0.916 -> 84.27 | F126: =D126*0.857 -> 78.84
A127: 维修项目Ⅲ:传动系统 | B127: 401 | C127: 更换离合器片 | D127: 462 | E127: =D127*0.916 -> 423.19 | F127: =D127*0.857 -> 395.93
B128: 402 | C128: 维修或保养离合器总泵 | D128: 138 | E128: =D128*0.916 -> 126.41 | F128: =D128*0.857 -> 118.27
B129: 403 | C129: 维修或保养离合器分泵 | D129: 111 | E129: =D129*0.916 -> 101.68 | F129: =D129*0.857 -> 95.13
B130: 404 | C130: 分解、修理差速器 | D130: 923 | E130: =D130*0.916 -> 845.47 | F130: =D130*0.857 -> 791.01
B131: 405 | C131: 分解、修理自动变速箱 | D131: 2585 | E131: =D131*0.916 -> 2367.86 | F131: =D131*0.857 -> 2215.35
B132: 406 | C132: 分解、修理手动变速箱 | D132: 1108 | E132: =D132*0.916 -> 1014.93 | F132: =D132*0.857 -> 949.56
B133: 407 | C133: 吊装变速箱总成 | D133: 400 | E133: =D133*0.916 -> 366.4 | F133: =D133*0.857 -> 342.8
B134: 408 | C134: 拆装波箱油底壳 | D134: 138 | E134: =D134*0.916 -> 126.41 | F134: =D134*0.857 -> 118.27
B135: 409 | C135: 更换波箱吊胶 | D135: 111 | E135: =D135*0.916 -> 101.68 | F135: =D135*0.857 -> 95.13
B136: 410 | C136: 更换或润滑波箱换挡拉索 | D136: 166 | E136: =D136*0.916 -> 152.06 | F136: =D136*0.857 -> 142.26
...

Sheet 配件限价表
A1: 车辆维修及保养、年检代办、车辆清洁服务基准价（配件单价）
A2: 序号 | B2: 配件名称 | C2: 品牌 | D2: 规格型号 | E2: 单位 | F2: 价格（元） | G2: 备注
A3: 1 | B3: 轮胎 | C3: 朝阳 | D3: （215/55R17) | E3: 条 | F3: 417.33
A4: 2 | B4: 轮胎 | C4: 朝阳 | D4: （215/60R17） | E4: 条 | F4: 416.33
A5: 3 | B5: 轮胎 | C5: 朝阳 | D5: (215/65R16) | E5: 条 | F5: 461.67
A6: 4 | B6: 轮胎 | C6: 朝阳 | D6: （215/70R16） | E6: 条 | F6: 729
A7: 5 | B7: 轮胎 | C7: 朝阳 | D7: （215/75R15） | E7: 条 | F7: 479
A8: 6 | B8: 轮胎 | C8: 朝阳 | D8: （225/60R17) | E8: 条 | F8: 570.67
A9: 7 | B9: 轮胎 | C9: 朝阳 | D9: （235/55R18） | E9: 条 | F9: 601.67
A10: 8 | B10: 轮胎 | C10: 朝阳 | D10: (235/55R19) | E10: 条 | F10: 872.33
A11: 9 | B11: 轮胎 | C11: 朝阳 | D11: 235/65R17(SU318A) | E11: 条 | F11: 585.67
A12: 10 | B12: 轮胎 | C12: 朝阳 | D12: （235/70R16) | E12: 条 | F12: 499
A13: 11 | B13: 轮胎 | C13: 朝阳 | D13: 245/70R16 | E13: 条 | F13: 669
A14: 12 | B14: 轮胎 | C14: 朝阳 | D14: 255/45R/20 | E14: 条 | F14: 1069
... A99: 97 | B99: 空气滤清器 | C99: 马勒 | D99: LX3316 | E99: 个 | F99: 48
A100: 98 | B100: 空气滤清器 | C100: 博世 | D100: 3190 | E100: 个 | F100: 33.27
A101: 99 | B101: 燃油滤清器 | C101: 曼牌 | D101: WK6031M标致3008308408 | E101: 个 | F101: 49.24
A102: 100 | B102: 燃油滤清器 | C102: 马勒 | D102: KL970 F30/F35 | E102: 个 | F102: 175
A103: 101 | B103: 燃油滤清器 | C103: 博世 | D103: 0986AF8277 | E103: 个 | F103: 53
A104: 102 | B104: 发电机皮带 | C104: 盖茨 | D104: 6PK1030SF | E104: 条 | F104: 104
A105: 103 | B105: 发电机皮带 | C105: 马牌 | D105: 6PK1210K2 | E105: 条 | F105: 280
A106: 104 | B106: 防冻液 | C106: 博世 | D106: 2L -45℃红色 | E106: 瓶 | F106: 42.97
A107: 105 | B107: 防冻液 | C107: 博世 | D107: 4L -25℃绿色 | E107: 瓶 | F107: 75
A108: 106 | B108: 刹车盘 | C108: 博世 | D108: 前轮（车型：长安悦翔、铃木雨燕） | E108: 套 | F108: 494.5
A109: 107 | B109: 刹车盘 | C109: 博世 | D109: 后轮（车型：比亚迪、长城赛玲、丰田卡罗拉、丰田雷凌） | E109: 套 | F109: 458.5
A110: 108 | B110: 刹车油 | C110: 博世 | D110: DOT4 基础款 | E110: 升 | F110: 77.5
A111: 109 | B111: 刹车油 | C111: 菲罗多 | D111: DOT4-FBX100F-D | E111: 升 | F111: 62
A112: 110 | B112: 正时皮带 | C112: 盖茨 | D112: K0176117 | E112: 条 | F112: 308
... A135: 133 | B135: 雪种 | C135: 电装 | D135: 300g | E135: 瓶 | F135: 38.1
