Workbook

Sheet Sheet1
A1: 南网超高压公司2026年第一批物资公开招标项目（2026-WZ-1-S-ZB1）-标包45：输电专业工器具 项目编号：CG0100022002278011
A2: =[1]供方1!A2 -> 序号 | B2: =[1]供方1!C2 -> 物资名称 | C2: =[1]供方1!D2 -> 规格型号 | D2: =[1]供方1!E2 -> 单位 | E2: =[1]供方1!F2 -> 需求数量 | F2: 澄清问题
A4: ='[1]物资类 (汇总)'!A5 -> 3 | B4: ='[1]物资类 (汇总)'!C5 -> 测量工器具 | C4: ='[1]物资类 (汇总)'!D5 -> 交流静电空间场强测量仪（适用于交流500kV输电线路带电作业） | D4: ='[1]物资类 (汇总)'!E5 -> 件 | E4: ='[1]物资类 (汇总)'!F5 -> 1 | F4: 参数详见技术规范书，参考图片见附图。 | G4: =_xlfn.DISPIMG("ID_D3AD3DF806C44A809C3D27FD19E27475",1) -> =DISPIMG("ID_D3AD3DF806C44A809C3D27FD19E27475",1)
A5: ='[1]物资类 (汇总)'!A12 -> 10 | B5: ='[1]物资类 (汇总)'!C12 -> 机动绞磨 | C5: ='[1]物资类 (汇总)'!D12 -> 牵引力50KN，按照技术规范书编码：0212026010000010537 的技术规范书内容进行采购。 | D5: ='[1]物资类 (汇总)'!E12 -> 台 | E5: ='[1]物资类 (汇总)'!F12 -> 1 | F5: =_xlfn.DISPIMG("ID_AEA7913CDA0240EAAA0601E67D00CAA7",1) -> =DISPIMG("ID_AEA7913CDA0240EAAA0601E67D00CAA7",1)
A6: ='[1]物资类 (汇总)'!A13 -> 11 | B6: ='[1]物资类 (汇总)'!C13 -> 机动绞磨 | C6: ='[1]物资类 (汇总)'!D13 -> 牵引力30KN、绝缘磨盘 | D6: ='[1]物资类 (汇总)'!E13 -> 台 | E6: ='[1]物资类 (汇总)'!F13 -> 1 | F6: =_xlfn.DISPIMG("ID_AEA7913CDA0240EAAA0601E67D00CAA7",1) -> =DISPIMG("ID_AEA7913CDA0240EAAA0601E67D00CAA7",1)
A7: ='[1]物资类 (汇总)'!A17 -> 15 | B7: ='[1]物资类 (汇总)'!C17 -> 三角挂架 | C7: ='[1]物资类 (汇总)'!D17 -> 无人机挂装器（升降装置挂线架），单位：套，规格型号：额定负荷≥0.5T，结构形式：整体式（含2个滚轮），适用导线截面：1035mm²及以下。数量：2套。技术规范书编码：0212026010000010417，主要技术参数详见技术规范书。 | D7: ='[1]物资类 (汇总)'!E17 -> 套 | E7: ='[1]物资类 (汇总)'!F17 -> 2 | F7: =_xlfn.DISPIMG("ID_09FF401541384DD5A7562A319DD7A5B2",1) -> =DISPIMG("ID_09FF401541384DD5A7562A319DD7A5B2",1) | G7: =_xlfn.DISPIMG("ID_DACF14F77FCD40A1A98FB9F0BEE9E785",1) -> =DISPIMG("ID_DACF14F77FCD40A1A98FB9F0BEE9E785",1)
A8: ='[1]物资类 (汇总)'!A18 -> 16 | B8: ='[1]物资类 (汇总)'!C18 -> 汽油机液压泵 | C8: ='[1]物资类 (汇总)'!D18 -> 详见技术规范书，详见：昆明局2025年输电线路电动液压卡具等设备购置项目技术规范书，编号：0212026010000010353 | D8: ='[1]物资类 (汇总)'!E18 -> 台 | E8: ='[1]物资类 (汇总)'!F18 -> 1 | F8: 汽油机液压泵为通用产品，无特殊型式要求，图片仅供参考，铭牌内容均在技术规范书明确。 | G8: =_xlfn.DISPIMG("ID_C179F4FD4D8748A3A1CBB7BC764A3959",1) -> =DISPIMG("ID_C179F4FD4D8748A3A1CBB7BC764A3959",1)
