Workbook

Sheet 试点品类管控清单
A1: 序号 | B1: 品类 | C1: 一级目录 | D1: 二级目录 | E1: 三级目录 | F1: 物资名称（SPU) | G1: 下探参数 | H1: SPU限价（元） | I1: 最高限价单位 | J1: SPU分类 | K1: 评论数要求 | L1: 备注
A2: 1 | B2: 办公通用类 | C2: 办公类用品 | D2: 办公日用 | E2: 日用百货 | F2: 保温箱 | G2: PU聚氨酯保温箱、容量：4~20L | H2: 450 | I2: 个 | J2: A类 | K2: 50及以上
A3: 2 | B3: 办公通用类 | C3: 办公类用品 | D3: 办公日用 | E3: 日用百货 | F3: 保温箱 | G3: PU聚氨酯保温箱、容量：21~40L | H3: 450 | I3: 个 | J3: A类 | K3: 50及以上
A4: 3 | B4: 办公通用类 | C4: 办公类用品 | D4: 办公日用 | E4: 日用百货 | F4: 保温箱 | G4: PU聚氨酯保温箱、容量：40L以上 | H4: 450 | I4: 个 | J4: A类 | K4: 50及以上
A5: 4 | B5: 办公通用类 | C5: 办公类用品 | D5: 办公日用 | E5: 日用百货 | F5: 保温箱 | G5: 泡沫保温箱、容量：4~20L | H5: 450 | I5: 个 | J5: A类 | K5: 50及以上
A6: 5 | B6: 办公通用类 | C6: 办公类用品 | D6: 办公日用 | E6: 日用百货 | F6: 保温箱 | G6: 泡沫保温箱、容量：21~40L | H6: 450 | I6: 个 | J6: A类 | K6: 50及以上
A7: 6 | B7: 办公通用类 | C7: 办公类用品 | D7: 办公日用 | E7: 日用百货 | F7: 保温箱 | G7: 泡沫保温箱、容量：40L以上 | H7: 450 | I7: 个 | J7: A类 | K7: 50及以上
A8: 7 | B8: 办公通用类 | C8: 办公类用品 | D8: 办公日用 | E8: 日用百货 | F8: 被子 | G8: 冬被、1.5米 | H8: 500 | I8: 套 | J8: A类 | K8: 50及以上
A9: 8 | B9: 办公通用类 | C9: 办公类用品 | D9: 办公日用 | E9: 日用百货 | F9: 被子 | G9: 冬被、1.8米及以上 | H9: 500 | I9: 套 | J9: A类 | K9: 50及以上
A10: 9 | B10: 办公通用类 | C10: 办公类用品 | D10: 办公日用 | E10: 日用百货 | F10: 被子 | G10: 毛毯、1.5米 | H10: 500 | I10: 套 | J10: A类 | K10: 50及以上
A11: 10 | B11: 办公通用类 | C11: 办公类用品 | D11: 办公日用 | E11: 日用百货 | F11: 被子 | G11: 毛毯、1.8米及以上 | H11: 500 | I11: 套 | J11: A类 | K11: 50及以上
A12: 11 | B12: 办公通用类 | C12: 办公类用品 | D12: 办公日用 | E12: 日用百货 | F12: 被子 | G12: 四季被、1.5米 | H12: 500 | I12: 套 | J12: A类 | K12: 50及以上
A13: 12 | B13: 办公通用类 | C13: 办公类用品 | D13: 办公日用 | E13: 日用百货 | F13: 被子 | G13: 四季被、1.8米及以上 | H13: 500 | I13: 套 | J13: A类 | K13: 50及以上
... A64: 63 | B64: 办公通用类 | C64: 办公类用品 | D64: 设备工具 | E64: 办公设备 | F64: 电视 | G64: 屏幕尺寸：＞95 英寸 | H64: 20000 | I64: 台 | J64: A类 | K64: 50及以上
A65: 64 | B65: 办公通用类 | C65: 通信产品 | D65: 视频会议系统 | E65: 视频会议辅助设备 | F65: 电子平板/会议一体机 | G65: 屏幕尺寸：≤65英寸 | H65: / | I65: / | J65: C类 | K65: /
A66: 65 | B66: 办公通用类 | C66: 通信产品 | D66: 视频会议系统 | E66: 视频会议辅助设备 | F66: 电子平板/会议一体机 | G66: 屏幕尺寸：66~80英寸 | H66: / | I66: / | J66: C类 | K66: /
A67: 66 | B67: 办公通用类 | C67: 通信产品 | D67: 视频会议系统 | E67: 视频会议辅助设备 | F67: 电子平板/会议一体机 | G67: 屏幕尺寸：81~95 英寸 | H67: / | I67: / | J67: C类 | K67: /
A68: 67 | B68: 办公通用类 | C68: 通信产品 | D68: 视频会议系统 | E68: 视频会议辅助设备 | F68: 电子平板/会议一体机 | G68: 屏幕尺寸：＞95 英寸 | H68: / | I68: / | J68: C类 | K68: /
A69: 68 | B69: 办公通用类 | C69: 生活设施与用品 | D69: 厨房设备及用品 | E69: 厨具用品 | F69: 钉肉锤 | G69: 钉肉锤 | H69: 100 | I69: 个 | J69: A类 | K69: 50及以上
A70: 69 | B70: 办公通用类 | C70: 通信产品 | D70: 通信终端设备 | E70: 对讲设备 | F70: 对讲机 | G70: DMR数字对讲机 | H70: 3000 | I70: 台 | J70: B类 | K70: 50及以上
A71: 70 | B71: 办公通用类 | C71: 通信产品 | D71: 通信终端设备 | E71: 对讲设备 | F71: 对讲机 | G71: 公网4G_5G对讲机 | H71: 3000 | I71: 台 | J71: B类 | K71: 50及以上
A72: 71 | B72: 办公通用类 | C72: 通信产品 | D72: 通信终端设备 | E72: 对讲设备 | F72: 对讲机 | G72: 模拟FM对讲机 | H72: 3000 | I72: 台 | J72: B类 | K72: 50及以上
A73: 72 | B73: 办公通用类 | C73: 通信产品 | D73: 通信终端设备 | E73: 对讲设备 | F73: 对讲机 | G73: 数模双模对讲机 | H73: 3000 | I73: 台 | J73: B类 | K73: 50及以上
A74: 73 | B74: 办公通用类 | C74: 生活设施与用品 | D74: 食材 | E74: 食品、饮料 | F74: 方便速食 | G74: 方便面类，单件净含量≤150g | H74: 50 | I74: 罐/盒/包 | J74: A类 | K74: 50及以上
A75: 74 | B75: 办公通用类 | C75: 生活设施与用品 | D75: 食材 | E75: 食品、饮料 | F75: 方便速食 | G75: 方便面类，单件净含量＞150g | H75: 50 | I75: 罐/盒/包 | J75: A类 | K75: 50及以上
A76: 75 | B76: 办公通用类 | C76: 生活设施与用品 | D76: 食材 | E76: 食品、饮料 | F76: 方便速食 | G76: 速食粥_粉类，单件净含量≤300g | H76: 50 | I76: 罐/盒/包 | J76: A类 | K76: 50及以上
A77: 76 | B77: 办公通用类 | C77: 生活设施与用品 | D77: 食材 | E77: 食品、饮料 | F77: 方便速食 | G77: 速食粥_粉类，单件净含量＞300g | H77: 50 | I77: 罐/盒/包 | J77: A类 | K77: 50及以上
A78: 77 | B78: 办公通用类 | C78: 生活设施与用品 | D78: 食材 | E78: 食品、饮料 | F78: 方便速食 | G78: 自热食品类，单件净含量≤300g | H78: 50 | I78: 罐/盒/包 | J78: A类 | K78: 50及以上
A79: 78 | B79: 办公通用类 | C79: 生活设施与用品 | D79: 食材 | E79: 食品、饮料 | F79: 方便速食 | G79: 自热食品类，单件净含量＞300g | H79: 50 | I79: 罐/盒/包 | J79: A类 | K79: 50及以上
A80: 79 | B80: 办公通用类 | C80: 办公类用品 | D80: 办公日用 | E80: 文体娱乐用品 | F80: 飞力士棒 | G80: 飞力士棒 | H80: 300 | I80: 根 | J80: A类 | K80: 50及以上
... A103: 102 | B103: 办公通用类 | C103: 通信产品 | D103: 通信终端设备 | E103: 电话机 | F103: 固定电话 | G103: 有线固话（传统电话线） | H103: 2000 | I103: 台 | J103: B类 | K103: 50及以上
A104: 103 | B104: 办公通用类 | C104: 计算机设备及软件 | D104: 辅助设备 | E104: 硬盘 | F104: 固态硬盘 | G104: 容量：≤256GB | H104: / | I104: / | J104: C类 | K104: /
A105: 104 | B105: 办公通用类 | C105: 计算机设备及软件 | D105: 辅助设备 | E105: 硬盘 | F105: 固态硬盘 | G105: 容量：512GB | H105: / | I105: / | J105: C类 | K105: /
A106: 105 | B106: 办公通用类 | C106: 计算机设备及软件 | D106: 辅助设备 | E106: 硬盘 | F106: 固态硬盘 | G106: 容量：1TB | H106: / | I106: / | J106: C类 | K106: /
A107: 106 | B107: 办公通用类 | C107: 计算机设备及软件 | D107: 辅助设备 | E107: 硬盘 | F107: 固态硬盘 | G107: 容量：2TB | H107: / | I107: / | J107: C类 | K107: /
A108: 107 | B108: 办公通用类 | C108: 计算机设备及软件 | D108: 辅助设备 | E108: 硬盘 | F108: 固态硬盘 | G108: 容量：4TB | H108: / | I108: / | J108: C类 | K108: /
A109: 108 | B109: 办公通用类 | C109: 计算机设备及软件 | D109: 辅助设备 | E109: 硬盘 | F109: 固态硬盘 | G109: 容量：≥8TB | H109: / | I109: / | J109: C类 | K109: /
A110: 109 | B110: 办公通用类 | C110: 办公类用品 | D110: 设备工具 | E110: 办公设备 | F110: 广告机 | G110: 挂式、32寸 | H110: 22000 | I110: 台 | J110: B类 | K110: 50及以上
A111: 110 | B111: 办公通用类 | C111: 办公类用品 | D111: 设备工具 | E111: 办公设备 | F111: 广告机 | G111: 挂式、43寸 | H111: 22000 | I111: 台 | J111: B类 | K111: 50及以上
A112: 111 | B112: 办公通用类 | C112: 办公类用品 | D112: 设备工具 | E112: 办公设备 | F112: 广告机 | G112: 挂式、55寸 | H112: 22000 | I112: 台 | J112: B类 | K112: 50及以上
...
