Workbook

Sheet 试点品类管控清单
A1: 序号 | B1: 品类 | C1: 一级目录 | D1: 二级目录 | E1: 三级目录 | F1: 物资名称（SPU) | G1: 下探参数 | H1: SPU限价（元） | I1: 最高限价单位 | J1: SPU分类 | K1: 评论数要求 | L1: 备注
A2: 1 | B2: 办公通用类 | C2: 办公类用品 | D2: 办公日用 | E2: 日用百货 | F2: 保温箱 | G2: PU聚氨酯保温箱、容量：4~20L | H2: 450 | I2: 个 | J2: A类 | K2: 50及以上
A3: 2 | B3: 办公通用类 | C3: 办公类用品 | D3: 办公日用 | E3: 日用百货 | F3: 保温箱 | G3: PU聚氨酯保温箱、容量：21~40L | H3: 450 | I3: 个 | J3: A类 | K3: 50及以上
A4: 3 | B4: 办公通用类 | C4: 办公类用品 | D4: 办公日用 | E4: 日用百货 | F4: 保温箱 | G4: PU聚氨酯保温箱、容量：40L以上 | H4: 450 | I4: 个 | J4: A类 | K4: 50及以上
A5: 4 | B5: 办公通用类 | C5: 办公类用品 | D5: 办公日用 | E5: 日用百货 | F5: 保温箱 | G5: 泡沫保温箱、容量：4~20L | H5: 450 | I5: 个 | J5: A类 | K5: 50及以上
A6: 5 | B6: 办公通用类 | C6: 办公类用品 | D6: 办公日用 | E6: 日用百货 | F6: 保温箱 | G6: 泡沫保温箱、容量：21~40L | H6: 450 | I6: 个 | J6: A类 | K6: 50及以上
A7: 6 | B7: 办公通用类 | C7: 办公类用品 | D7: 办公日用 | E7: 日用百货 | F7: 保温箱 | G7: 泡沫保温箱、容量：40L以上 | H7: 450 | I7: 个 | J7: A类 | K7: 50及以上
A8: 7 | B8: 办公通用类 | C8: 办公类用品 | D8: 办公日用 | E8: 日用百货 | F8: 被子 | G8: 冬被、1.5米 | H8: 500 | I8: 套 | J8: A类 | K8: 50及以上
A9: 8 | B9: 办公通用类 | C9: 办公类用品 | D9: 办公日用 | E9: 日用百货 | F9: 被子 | G9: 冬被、1.8米及以上 | H9: 500 | I9: 套 | J9: A类 | K9: 50及以上
A10: 9 | B10: 办公通用类 | C10: 办公类用品 | D10: 办公日用 | E10: 日用百货 | F10: 被子 | G10: 毛毯、1.5米 | H10: 500 | I10: 套 | J10: A类 | K10: 50及以上
A11: 10 | B11: 办公通用类 | C11: 办公类用品 | D11: 办公日用 | E11: 日用百货 | F11: 被子 | G11: 毛毯、1.8米及以上 | H11: 500 | I11: 套 | J11: A类 | K11: 50及以上
A12: 11 | B12: 办公通用类 | C12: 办公类用品 | D12: 办公日用 | E12: 日用百货 | F12: 被子 | G12: 四季被、1.5米 | H12: 500 | I12: 套 | J12: A类 | K12: 50及以上
A13: 12 | B13: 办公通用类 | C13: 办公类用品 | D13: 办公日用 | E13: 日用百货 | F13: 被子 | G13: 四季被、1.8米及以上 | H13: 500 | I13: 套 | J13: A类 | K13: 50及以上
... A64: 63 | B64: 办公通用类 | C64: 办公类用品 | D64: 设备工具 | E64: 办公设备 | F64: 电视 | G64: 屏幕尺寸：＞95 英寸 | H64: 20000 | I64: 台 | J64: A类 | K64: 50及以上
A65: 64 | B65: 办公通用类 | C65: 通信产品 | D65: 视频会议系统 | E65: 视频会议辅助设备 | F65: 电子平板/会议一体机 | G65: 屏幕尺寸：≤65英寸 | H65: / | I65: / | J65: C类 | K65: /
A66: 65 | B66: 办公通用类 | C66: 通信产品 | D66: 视频会议系统 | E66: 视频会议辅助设备 | F66: 电子平板/会议一体机 | G66: 屏幕尺寸：66~80英寸 | H66: / | I66: / | J66: C类 | K66: /
A67: 66 | B67: 办公通用类 | C67: 通信产品 | D67: 视频会议系统 | E67: 视频会议辅助设备 | F67: 电子平板/会议一体机 | G67: 屏幕尺寸：81~95 英寸 | H67: / | I67: / | J67: C类 | K67: /
A68: 67 | B68: 办公通用类 | C68: 通信产品 | D68: 视频会议系统 | E68: 视频会议辅助设备 | F68: 电子平板/会议一体机 | G68: 屏幕尺寸：＞95 英寸 | H68: / | I68: / | J68: C类 | K68: /
A69: 68 | B69: 办公通用类 | C69: 生活设施与用品 | D69: 厨房设备及用品 | E69: 厨具用品 | F69: 钉肉锤 | G69: 钉肉锤 | H69: 100 | I69: 个 | J69: A类 | K69: 50及以上
A70: 69 | B70: 办公通用类 | C70: 通信产品 | D70: 通信终端设备 | E70: 对讲设备 | F70: 对讲机 | G70: DMR数字对讲机 | H70: 3000 | I70: 台 | J70: B类 | K70: 50及以上
A71: 70 | B71: 办公通用类 | C71: 通信产品 | D71: 通信终端设备 | E71: 对讲设备 | F71: 对讲机 | G71: 公网4G_5G对讲机 | H71: 3000 | I71: 台 | J71: B类 | K71: 50及以上
A72: 71 | B72: 办公通用类 | C72: 通信产品 | D72: 通信终端设备 | E72: 对讲设备 | F72: 对讲机 | G72: 模拟FM对讲机 | H72: 3000 | I72: 台 | J72: B类 | K72: 50及以上
A73: 72 | B73: 办公通用类 | C73: 通信产品 | D73: 通信终端设备 | E73: 对讲设备 | F73: 对讲机 | G73: 数模双模对讲机 | H73: 3000 | I73: 台 | J73: B类 | K73: 50及以上
A74: 73 | B74: 办公通用类 | C74: 生活设施与用品 | D74: 食材 | E74: 食品、饮料 | F74: 方便速食 | G74: 方便面类，单件净含量≤150g | H74: 50 | I74: 罐/盒/包 | J74: A类 | K74: 50及以上
A75: 74 | B75: 办公通用类 | C75: 生活设施与用品 | D75: 食材 | E75: 食品、饮料 | F75: 方便速食 | G75: 方便面类，单件净含量＞150g | H75: 50 | I75: 罐/盒/包 | J75: A类 | K75: 50及以上
A76: 75 | B76: 办公通用类 | C76: 生活设施与用品 | D76: 食材 | E76: 食品、饮料 | F76: 方便速食 | G76: 速食粥_粉类，单件净含量≤300g | H76: 50 | I76: 罐/盒/包 | J76: A类 | K76: 50及以上
A77: 76 | B77: 办公通用类 | C77: 生活设施与用品 | D77: 食材 | E77: 食品、饮料 | F77: 方便速食 | G77: 速食粥_粉类，单件净含量＞300g | H77: 50 | I77: 罐/盒/包 | J77: A类 | K77: 50及以上
A78: 77 | B78: 办公通用类 | C78: 生活设施与用品 | D78: 食材 | E78: 食品、饮料 | F78: 方便速食 | G78: 自热食品类，单件净含量≤300g | H78: 50 | I78: 罐/盒/包 | J78: A类 | K78: 50及以上
A79: 78 | B79: 办公通用类 | C79: 生活设施与用品 | D79: 食材 | E79: 食品、饮料 | F79: 方便速食 | G79: 自热食品类，单件净含量＞300g | H79: 50 | I79: 罐/盒/包 | J79: A类 | K79: 50及以上
A80: 79 | B80: 办公通用类 | C80: 办公类用品 | D80: 办公日用 | E80: 文体娱乐用品 | F80: 飞力士棒 | G80: 飞力士棒 | H80: 300 | I80: 根 | J80: A类 | K80: 50及以上
... A103: 102 | B103: 办公通用类 | C103: 通信产品 | D103: 通信终端设备 | E103: 电话机 | F103: 固定电话 | G103: 有线固话（传统电话线） | H103: 2000 | I103: 台 | J103: B类 | K103: 50及以上
A104: 103 | B104: 办公通用类 | C104: 计算机设备及软件 | D104: 辅助设备 | E104: 硬盘 | F104: 固态硬盘 | G104: 容量：≤256GB | H104: / | I104: / | J104: C类 | K104: /
A105: 104 | B105: 办公通用类 | C105: 计算机设备及软件 | D105: 辅助设备 | E105: 硬盘 | F105: 固态硬盘 | G105: 容量：512GB | H105: / | I105: / | J105: C类 | K105: /
A106: 105 | B106: 办公通用类 | C106: 计算机设备及软件 | D106: 辅助设备 | E106: 硬盘 | F106: 固态硬盘 | G106: 容量：1TB | H106: / | I106: / | J106: C类 | K106: /
A107: 106 | B107: 办公通用类 | C107: 计算机设备及软件 | D107: 辅助设备 | E107: 硬盘 | F107: 固态硬盘 | G107: 容量：2TB | H107: / | I107: / | J107: C类 | K107: /
A108: 107 | B108: 办公通用类 | C108: 计算机设备及软件 | D108: 辅助设备 | E108: 硬盘 | F108: 固态硬盘 | G108: 容量：4TB | H108: / | I108: / | J108: C类 | K108: /
A109: 108 | B109: 办公通用类 | C109: 计算机设备及软件 | D109: 辅助设备 | E109: 硬盘 | F109: 固态硬盘 | G109: 容量：≥8TB | H109: / | I109: / | J109: C类 | K109: /
A110: 109 | B110: 办公通用类 | C110: 办公类用品 | D110: 设备工具 | E110: 办公设备 | F110: 广告机 | G110: 挂式、32寸 | H110: 22000 | I110: 台 | J110: B类 | K110: 50及以上
A111: 110 | B111: 办公通用类 | C111: 办公类用品 | D111: 设备工具 | E111: 办公设备 | F111: 广告机 | G111: 挂式、43寸 | H111: 22000 | I111: 台 | J111: B类 | K111: 50及以上
A112: 111 | B112: 办公通用类 | C112: 办公类用品 | D112: 设备工具 | E112: 办公设备 | F112: 广告机 | G112: 挂式、55寸 | H112: 22000 | I112: 台 | J112: B类 | K112: 50及以上
A113: 112 | B113: 办公通用类 | C113: 办公类用品 | D113: 设备工具 | E113: 办公设备 | F113: 广告机 | G113: 挂式、65寸 | H113: 22000 | I113: 台 | J113: B类 | K113: 50及以上
A114: 113 | B114: 办公通用类 | C114: 办公类用品 | D114: 设备工具 | E114: 办公设备 | F114: 广告机 | G114: 挂式、75寸 | H114: 22000 | I114: 台 | J114: B类 | K114: 50及以上
A115: 114 | B115: 办公通用类 | C115: 办公类用品 | D115: 设备工具 | E115: 办公设备 | F115: 广告机 | G115: 立式、32寸 | H115: 22000 | I115: 台 | J115: B类 | K115: 50及以上
A116: 115 | B116: 办公通用类 | C116: 办公类用品 | D116: 设备工具 | E116: 办公设备 | F116: 广告机 | G116: 立式、43寸 | H116: 22000 | I116: 台 | J116: B类 | K116: 50及以上
A117: 116 | B117: 办公通用类 | C117: 办公类用品 | D117: 设备工具 | E117: 办公设备 | F117: 广告机 | G117: 立式、55寸 | H117: 22000 | I117: 台 | J117: B类 | K117: 50及以上
A118: 117 | B118: 办公通用类 | C118: 办公类用品 | D118: 设备工具 | E118: 办公设备 | F118: 广告机 | G118: 立式、65寸 | H118: 22000 | I118: 台 | J118: B类 | K118: 50及以上
A119: 118 | B119: 办公通用类 | C119: 办公类用品 | D119: 设备工具 | E119: 办公设备 | F119: 广告机 | G119: 立式、75寸 | H119: 22000 | I119: 台 | J119: B类 | K119: 50及以上
A120: 119 | B120: 办公通用类 | C120: 办公类用品 | D120: 设备工具 | E120: 办公设备 | F120: 柜式空调/挂式空调 | G120: 挂式，1匹，二级能效 | H120: 21000 | I120: 台 | J120: A类 | K120: 50及以上
A121: 120 | B121: 办公通用类 | C121: 办公类用品 | D121: 设备工具 | E121: 办公设备 | F121: 柜式空调/挂式空调 | G121: 挂式，1匹，一级能效 | H121: 21000 | I121: 台 | J121: A类 | K121: 50及以上
... A174: 173 | B174: 办公通用类 | C174: 办公类用品 | D174: 办公日用 | E174: 日用百货 | F174: 沥水篮 | G174: 塑料 | H174: 200 | I174: 个 | J174: A类 | K174: 50及以上
A175: 174 | B175: 办公通用类 | C175: 计算机设备及软件 | D175: 网络设备 | E175: 路由器 | F175: 路由器 | G175: 网口最高速率：百兆网口 | H175: / | I175: / | J175: C类 | K175: /
A176: 175 | B176: 办公通用类 | C176: 计算机设备及软件 | D176: 网络设备 | E176: 路由器 | F176: 路由器 | G176: 网口最高速率：千兆网口 | H176: / | I176: / | J176: C类 | K176: /
A177: 176 | B177: 办公通用类 | C177: 计算机设备及软件 | D177: 网络设备 | E177: 路由器 | F177: 路由器 | G177: 网口最高速率：万兆网口 | H177: / | I177: / | J177: C类 | K177: /
A178: 177 | B178: 办公通用类 | C178: 办公类用品 | D178: 办公日用 | E178: 日用百货 | F178: 毛巾/浴巾 | G178: 毛巾 | H178: 80 | I178: 条 | J178: A类 | K178: 50及以上
A179: 178 | B179: 办公通用类 | C179: 办公类用品 | D179: 办公日用 | E179: 日用百货 | F179: 毛巾/浴巾 | G179: 浴巾 | H179: 80 | I179: 条 | J179: A类 | K179: 50及以上
A180: 179 | B180: 办公通用类 | C180: 生活设施与用品 | D180: 厨房设备及用品 | E180: 厨具用品 | F180: 米缸 | G180: 塑料材质，容量≤10L | H180: 200 | I180: 个 | J180: A类 | K180: 50及以上
A181: 180 | B181: 办公通用类 | C181: 生活设施与用品 | D181: 厨房设备及用品 | E181: 厨具用品 | F181: 米缸 | G181: 塑料材质，容量＞10L | H181: 200 | I181: 个 | J181: A类 | K181: 50及以上
A182: 181 | B182: 办公通用类 | C182: 生活设施与用品 | D182: 厨房设备及用品 | E182: 厨具用品 | F182: 米缸 | G182: 金属材质，容量≤10L | H182: 200 | I182: 个 | J182: A类 | K182: 50及以上
A183: 182 | B183: 办公通用类 | C183: 生活设施与用品 | D183: 厨房设备及用品 | E183: 厨具用品 | F183: 米缸 | G183: 金属材质，容量＞10L | H183: 200 | I183: 个 | J183: A类 | K183: 50及以上
A184: 183 | B184: 办公通用类 | C184: 生活设施与用品 | D184: 食材 | E184: 食品、饮料 | F184: 牛奶（不含鲜奶） | G184: 纯牛奶 | H184: 180 | I184: 箱 | J184: A类 | K184: 50及以上
A185: 184 | B185: 办公通用类 | C185: 生活设施与用品 | D185: 食材 | E185: 食品、饮料 | F185: 牛奶（不含鲜奶） | G185: 酸奶 | H185: 180 | I185: 箱 | J185: A类 | K185: 50及以上
A186: 185 | B186: 办公通用类 | C186: 办公类用品 | D186: 办公日用 | E186: 日用电工 | F186: 排插/插排 | G186: 线长2m及以下、最大电流10A | H186: 250 | I186: 个 | J186: A类 | K186: 50及以上
A187: 186 | B187: 办公通用类 | C187: 办公类用品 | D187: 办公日用 | E187: 日用电工 | F187: 排插/插排 | G187: 线长2m及以下、最大电流16A | H187: 250 | I187: 个 | J187: A类 | K187: 50及以上
A188: 187 | B188: 办公通用类 | C188: 办公类用品 | D188: 办公日用 | E188: 日用电工 | F188: 排插/插排 | G188: 线长3m、最大电流10A | H188: 250 | I188: 个 | J188: A类 | K188: 50及以上
A189: 188 | B189: 办公通用类 | C189: 办公类用品 | D189: 办公日用 | E189: 日用电工 | F189: 排插/插排 | G189: 线长3m、最大电流16A | H189: 250 | I189: 个 | J189: A类 | K189: 50及以上
... A194: 193 | B194: 办公通用类 | C194: 生活设施与用品 | D194: 厨房设备及用品 | E194: 厨具用品 | F194: 刨丝器 | G194: 刨丝器 | H194: 80 | I194: 个 | J194: A类 | K194: 50及以上
A195: 194 | B195: 办公通用类 | C195: 办公类用品 | D195: 电子设备 | E195: 办公电子设备 | F195: 平板电脑 | G195: 屏幕尺寸：10~12英寸、运存+内存：8GB+128GB | H195: / | I195: / | J195: C类 | K195: /
A196: 195 | B196: 办公通用类 | C196: 办公类用品 | D196: 电子设备 | E196: 办公电子设备 | F196: 平板电脑 | G196: 屏幕尺寸：10~12英寸、运存+内存：8GB+256GB | H196: / | I196: / | J196: C类 | K196: /
A197: 196 | B197: 办公通用类 | C197: 办公类用品 | D197: 电子设备 | E197: 办公电子设备 | F197: 平板电脑 | G197: 屏幕尺寸：10~12英寸、运存+内存：8GB+512GB | H197: / | I197: / | J197: C类 | K197: /
A198: 197 | B198: 办公通用类 | C198: 办公类用品 | D198: 电子设备 | E198: 办公电子设备 | F198: 平板电脑 | G198: 屏幕尺寸：10~12英寸、运存+内存：12GB+512GB | H198: / | I198: / | J198: C类 | K198: /
A199: 198 | B199: 办公通用类 | C199: 办公类用品 | D199: 电子设备 | E199: 办公电子设备 | F199: 平板电脑 | G199: 屏幕尺寸：10~12英寸、运存+内存：4GB+64GB | H199: / | I199: / | J199: C类 | K199: /
A200: 199 | B200: 办公通用类 | C200: 办公类用品 | D200: 电子设备 | E200: 办公电子设备 | F200: 平板电脑 | G200: 屏幕尺寸：10~12英寸、运存+内存：6GB+128GB | H200: / | I200: / | J200: C类 | K200: /
A201: 200 | B201: 办公通用类 | C201: 办公类用品 | D201: 电子设备 | E201: 办公电子设备 | F201: 平板电脑 | G201: 屏幕尺寸：10~12英寸、运存+内存：12GB+256GB | H201: / | I201: / | J201: C类 | K201: /
A202: 201 | B202: 办公通用类 | C202: 办公类用品 | D202: 电子设备 | E202: 办公电子设备 | F202: 平板电脑 | G202: 屏幕尺寸：12.1~14英寸、运存+内存：8GB+128GB | H202: / | I202: / | J202: C类 | K202: /
A203: 202 | B203: 办公通用类 | C203: 办公类用品 | D203: 电子设备 | E203: 办公电子设备 | F203: 平板电脑 | G203: 屏幕尺寸：12.1~14英寸、运存+内存：8GB+256GB | H203: / | I203: / | J203: C类 | K203: /
A204: 203 | B204: 办公通用类 | C204: 办公类用品 | D204: 电子设备 | E204: 办公电子设备 | F204: 平板电脑 | G204: 屏幕尺寸：12.1~14英寸、运存+内存：8GB+512GB | H204: / | I204: / | J204: C类 | K204: /
A205: 204 | B205: 办公通用类 | C205: 办公类用品 | D205: 电子设备 | E205: 办公电子设备 | F205: 平板电脑 | G205: 屏幕尺寸：12.1~14英寸、运存+内存：12GB+512GB | H205: / | I205: / | J205: C类 | K205: /
A206: 205 | B206: 办公通用类 | C206: 办公类用品 | D206: 电子设备 | E206: 办公电子设备 | F206: 平板电脑 | G206: 屏幕尺寸：12.1~14英寸、运存+内存：12GB+256GB | H206: / | I206: / | J206: C类 | K206: /
A207: 206 | B207: 办公通用类 | C207: 办公类用品 | D207: 电子设备 | E207: 办公电子设备 | F207: 平板电脑 | G207: 屏幕尺寸：12.1~14英寸、运存+内存：16GB+512GB | H207: / | I207: / | J207: C类 | K207: /
A208: 207 | B208: 办公通用类 | C208: 生活设施与用品 | D208: 食材 | E208: 食品、饮料 | F208: 肉干肉脯 | G208: 鸡肉 | H208: 120 | I208: 罐/盒/包 | J208: A类 | K208: 50及以上
A209: 208 | B209: 办公通用类 | C209: 生活设施与用品 | D209: 食材 | E209: 食品、饮料 | F209: 肉干肉脯 | G209: 牛肉 | H209: 120 | I209: 罐/盒/包 | J209: A类 | K209: 50及以上
A210: 209 | B210: 办公通用类 | C210: 生活设施与用品 | D210: 食材 | E210: 食品、饮料 | F210: 肉干肉脯 | G210: 猪肉 | H210: 120 | I210: 罐/盒/包 | J210: A类 | K210: 50及以上
A211: 210 | B211: 办公通用类 | C211: 计算机设备及软件 | D211: 辅助设备 | E211: 扫描仪 | F211: 扫描笔 | G211: 扫描笔 | H211: 1800 | I211: 支 | J211: B类 | K211: 50及以上
A212: 211 | B212: 办公通用类 | C212: 计算机设备及软件 | D212: 辅助设备 | E212: 扫描仪 | F212: 扫描仪 | G212: 最大幅面：A3、馈纸式 | H212: 30000 | I212: 台 | J212: B类 | K212: 50及以上
A213: 212 | B213: 办公通用类 | C213: 计算机设备及软件 | D213: 辅助设备 | E213: 扫描仪 | F213: 扫描仪 | G213: 最大幅面：A3、平板式 | H213: 30000 | I213: 台 | J213: B类 | K213: 50及以上
A214: 213 | B214: 办公通用类 | C214: 计算机设备及软件 | D214: 辅助设备 | E214: 扫描仪 | F214: 扫描仪 | G214: 最大幅面：A4、馈纸式 | H214: 30000 | I214: 台 | J214: B类 | K214: 50及以上
A215: 214 | B215: 办公通用类 | C215: 计算机设备及软件 | D215: 辅助设备 | E215: 扫描仪 | F215: 扫描仪 | G215: 最大幅面：A4、平板式 | H215: 30000 | I215: 台 | J215: B类 | K215: 50及以上
A216: 215 | B216: 办公通用类 | C216: 生活设施与用品 | D216: 厨房设备及用品 | E216: 厨具用品 | F216: 食品夹子 | G216: 食品夹子 | H216: 60 | I216: 把 | J216: A类 | K216: 50及以上
A217: 216 | B217: 办公通用类 | C217: 通信产品 | D217: 通信终端设备 | E217: 电话机 | F217: 手机 | G217: 运存+内存：8GB+256GB | H217: 8100 | I217: 台 | J217: A类 | K217: 50及以上
A218: 217 | B218: 办公通用类 | C218: 通信产品 | D218: 通信终端设备 | E218: 电话机 | F218: 手机 | G218: 运存+内存：8GB+512GB | H218: 8100 | I218: 台 | J218: A类 | K218: 50及以上
A219: 218 | B219: 办公通用类 | C219: 通信产品 | D219: 通信终端设备 | E219: 电话机 | F219: 手机 | G219: 运存+内存：12GB+256GB | H219: 8100 | I219: 台 | J219: A类 | K219: 50及以上
... A284: 283 | B284: 办公通用类 | C284: 通信产品 | D284: 通信终端设备 | E284: 摄像机 | F284: 执法记录仪 | G284: 胸前执法记录仪 | H284: 5000 | I284: 台 | J284: A类 | K284: 50及以上
A285: 284 | B285: 办公通用类 | C285: 办公类用品 | D285: 电子设备 | E285: 办公电子设备 | F285: 智能办公本 | G285: 屏幕尺寸：7~9英寸、内存：32GB | H285: / | I285: / | J285: C类 | K285: /
A286: 285 | B286: 办公通用类 | C286: 办公类用品 | D286: 电子设备 | E286: 办公电子设备 | F286: 智能办公本 | G286: 屏幕尺寸：7~9英寸、内存：64GB | H286: / | I286: / | J286: C类 | K286: /
A287: 286 | B287: 办公通用类 | C287: 办公类用品 | D287: 电子设备 | E287: 办公电子设备 | F287: 智能办公本 | G287: 屏幕尺寸：7~9英寸、内存：128GB | H287: / | I287: / | J287: C类 | K287: /
A288: 287 | B288: 办公通用类 | C288: 办公类用品 | D288: 电子设备 | E288: 办公电子设备 | F288: 智能办公本 | G288: 屏幕尺寸：7~9英寸、内存：256GB | H288: / | I288: / | J288: C类 | K288: /
A289: 288 | B289: 办公通用类 | C289: 办公类用品 | D289: 电子设备 | E289: 办公电子设备 | F289: 智能办公本 | G289: 屏幕尺寸：9~11英寸、内存：64GB | H289: / | I289: / | J289: C类 | K289: /
A290: 289 | B290: 办公通用类 | C290: 办公类用品 | D290: 电子设备 | E290: 办公电子设备 | F290: 智能办公本 | G290: 屏幕尺寸：9~11英寸、内存：128GB | H290: / | I290: / | J290: C类 | K290: /
A291: 290 | B291: 办公通用类 | C291: 办公类用品 | D291: 文具事务用品 | E291: 书写工具 | F291: 中性笔/签字笔/啫喱笔/走珠笔 | G291: 黑色 | H291: 20 | I291: 支 | J291: A类 | K291: 50及以上
A292: 291 | B292: 办公通用类 | C292: 办公类用品 | D292: 文具事务用品 | E292: 书写工具 | F292: 中性笔/签字笔/啫喱笔/走珠笔 | G292: 红色 | H292: 20 | I292: 支 | J292: A类 | K292: 50及以上
...
