Workbook

Sheet 物资分类与价值汇总
G1: 国贸公司
C2: 物资总项 | D2: 总价值（元） | E2: 出口管控项 老挝境内自购 | F2: 国贸公司采购 | G2: 其中采购预算 | H2: 通关物流 | I2: 合计
B3: 备品备件 | C3: =COUNTIF('2026年度运维物资清单'!B:B,'2026年度运维物资清单'!#REF!) -> 0 | D3: =SUMIF('2026年度运维物资清单'!B3:H19,'2026年度运维物资清单'!#REF!,'2026年度运维物资清单'!#REF!) -> #REF! | E3: =SUMIFS('2026年度运维物资清单'!#REF!,'2026年度运维物资清单'!B:B,'2026年度运维物资清单'!#REF!,'2026年度运维物资清单'!#REF!,'2026年度运维物资清单'!#REF!) -> #REF! | F3: =SUMIFS('2026年度运维物资清单'!#REF!,'2026年度运维物资清单'!B:B,'2026年度运维物资清单'!#REF!,'2026年度运维物资清单'!#REF!,'2026年度运维物资清单'!#REF!) -> #REF! | G3: =SUMIFS('2026年度运维物资清单'!#REF!,'2026年度运维物资清单'!B:B,'2026年度运维物资清单'!#REF!,'2026年度运维物资清单'!#REF!,'2026年度运维物资清单'!#REF!) -> #REF! | H3: =SUMIFS('2026年度运维物资清单'!#REF!,'2026年度运维物资清单'!B:B,'2026年度运维物资清单'!#REF!,'2026年度运维物资清单'!#REF!,'2026年度运维物资清单'!#REF!) -> #REF! | I3: =SUM(G3:H3) -> #REF!
B4: 工器具 | C4: =COUNTIF('2026年度运维物资清单'!B:B,'2026年度运维物资清单'!#REF!) -> 0 | D4: =SUMIF('2026年度运维物资清单'!B3:H19,'2026年度运维物资清单'!#REF!,'2026年度运维物资清单'!#REF!) -> #REF! | E4: 0 | F4: =SUMIFS('2026年度运维物资清单'!#REF!,'2026年度运维物资清单'!#REF!,'2026年度运维物资清单'!#REF!,'2026年度运维物资清单'!B:B,'2026年度运维物资清单'!#REF!) -> #REF! | G4: =SUMIFS('2026年度运维物资清单'!#REF!,'2026年度运维物资清单'!B:B,'2026年度运维物资清单'!#REF!,'2026年度运维物资清单'!#REF!,'2026年度运维物资清单'!#REF!) -> #REF! | H4: =SUMIFS('2026年度运维物资清单'!#REF!,'2026年度运维物资清单'!B:B,'2026年度运维物资清单'!#REF!,'2026年度运维物资清单'!#REF!,'2026年度运维物资清单'!#REF!) -> #REF! | I4: =SUM(G4:H4) -> #REF!
B5: 消耗性材料 | C5: =COUNTIF('2026年度运维物资清单'!B:B,'2026年度运维物资清单'!#REF!) -> 0 | D5: =SUMIF('2026年度运维物资清单'!B3:H19,'2026年度运维物资清单'!#REF!,'2026年度运维物资清单'!#REF!) -> #REF! | E5: =SUMIFS('2026年度运维物资清单'!#REF!,'2026年度运维物资清单'!#REF!,'2026年度运维物资清单'!#REF!,'2026年度运维物资清单'!B:B,'2026年度运维物资清单'!#REF!) -> #REF! | F5: =SUMIFS('2026年度运维物资清单'!#REF!,'2026年度运维物资清单'!#REF!,'2026年度运维物资清单'!#REF!,'2026年度运维物资清单'!B:B,'2026年度运维物资清单'!#REF!) -> #REF! | G5: =SUMIFS('2026年度运维物资清单'!#REF!,'2026年度运维物资清单'!B:B,'2026年度运维物资清单'!#REF!,'2026年度运维物资清单'!#REF!,'2026年度运维物资清单'!#REF!) -> #REF! | H5: =SUMIFS('2026年度运维物资清单'!#REF!,'2026年度运维物资清单'!B:B,'2026年度运维物资清单'!#REF!,'2026年度运维物资清单'!#REF!,'2026年度运维物资清单'!#REF!) -> #REF! | I5: =SUM(G5:H5) -> #REF!
B6: 合计 | C6: =SUM(C3:C5) -> 0 | D6: =SUM(D3:D5) -> #REF! | E6: =SUM(E3:E5) -> #REF! | F6: =SUM(F3:F5) -> #REF! | G6: =SUM(G3:G5) -> #REF! | H6: =SUM(H3:H5) -> #REF! | I6: =SUM(G6:H6) -> #REF!
E11: 148155.59 | G11: 123250.91 | H11: 24904.68

Sheet 2026年度运维物资清单
A1: 老挝南塔河1号水电站2026年运维物资采购清单
A2: 序号 | B2: 类别 | C2: 采购物资名称 | D2: 用于主设备名称 | E2: 设备所属系统 | F2: 型号规格 | G2: 单位 | H2: 数量 | I2: 性质 | J2: 原设备厂家 | K2: 投标设备提供商/生产厂 | L2: 单价（元人民币） | M2: 小计 | N2: 参考图片 | O2: 澄清问题 | P2: 电厂答复
A3: 4 | B3: 备品备件 | C3: 测温发讯连锁控制仪 | D3: 测温制动柜 | E3: 电气二次 | F3: 型号：TDSS5311A-20R/PT100-04 分度号：Pt100 测量范围：0-150℃精度：0.5％F.S工作电源：DC110 输出：3路开关量+4-20mA | G3: 台 | H3: 5 | I3: 专用 | J3: POWER CONTROLS,INC | O3: 该生产厂家无法联系到，请提供厂家联系方式 | P3: 请自行查询厂家联系方式
A4: 9 | B4: 备品备件 | C4: PMAC625-N三相交流智能数显表 | D4: 400V系统 | E4: 电气仪表 | F4: 型号：PMAC625-N | G4: 台 | H4: 3 | I4: 专用 | J4: 珠海派若科技股份有限公司 | O4: 产品生产厂家为珠海派诺科技股份有限公司，请确认，另请提供清晰的产品背面条形码图片需确认是否带扩展功能。
A5: 12 | B5: 备品备件 | C5: 弹簧管式压力表 | D5: 技术供水滤水器进、出口压力 | E5: 电气仪表 | F5: 量程：0-2.5MP精度：2.5％ | G5: 块 | H5: 3 | I5: 专用 | J5: 无锡市海天特种压力表厂 | O5: 请确认材质是否要的碳钢的？请提供表盘直径以及螺纹接口尺寸和图片，另附图量程是0-1.6mpa与要求量程不一致，请确认以哪个为准？ | P5: 材质为不锈钢，量程0-2.5MPa，接口规格M14*1.5mm
A6: 13 | B6: 备品备件 | C6: 电接点压力表 | D6: 测温制动柜气系统 | E6: 电气仪表 | F6: 型号：BLD 量程：0-1MPa 精度1.5％ | G6: 块 | H6: 3 | I6: 专用 | J6: 浙江涵普电力科技有限公司 | O6: 产品生产厂家为北京布莱迪仪器仪表有限公司，另该型号已停产升级为YXH-100.B0，精度变更为1.6%，其他参数一致，请确认。 | P6: 可用
A7: 15 | B7: 备品备件 | C7: 水管式沉降仪软管 | D7: 水库大坝 | E7: 大坝自动化系统 | F7: 8×5 | G7: m | H7: 100 | I7: 专用 | J7: 适用北京基康 | O7: 产品实际品牌为亚德客，请确认。 | P7: 确认为亚德克
A8: 21 | B8: 备品备件 | C8: 日光灯管 | D8: 照明系统 | E8: 照明系统 | F8: LED T8K2 6000K Ra80 1.2M 100-240V/50Hz 18W 190mA单端供电 | G8: 盏 | H8: 200 | I8: 专用 | J8: 佛山照明 | O8: 附图为世纪亚明品牌，实际要佛山照明还是世纪亚明品牌？另佛山照明型号为T8，不带K2后缀，色温为6500K；世纪亚明型号已升级为T8K3，色温为6500K，请确认。 | P8: 以图片为准，确认为世纪亚明产品
A9: 22 | B9: 备品备件 | C9: 日光灯管座头 （配套） | D9: 照明系统 | E9: 照明系统 | F9: T8 | G9: 个 | H9: 50 | I9: 专用 | J9: 佛山照明 | O9: 佛山照明不单独出售零配件只出售整套单管支架，座头是通用的，建议改为非专用备件。 | P9: 可整套采购
A10: 50 | B10: 消耗性材料 | C10: 喉箍 | D10: 厂房油、气、水管路 | F10: 材质：不锈钢201，规格：13mm-19mm | G10: 袋 | H10: 1 | I10: 通用 | O10: 请确认一袋要多少个？ | P10: 100
A11: 51 | B11: 消耗性材料 | C11: 喉箍 | D11: 厂房油、气、水管路 | F11: 材质：不锈钢201，规格：19mm-29mm | G11: 袋 | H11: 1 | I11: 通用 | O11: 请确认一袋要多少个？ | P11: 100
A12: 52 | B12: 消耗性材料 | C12: 喉箍 | D12: 厂房油、气、水管路 | F12: 材质：不锈钢201，规格：27mm-51mm | G12: 袋 | H12: 1 | I12: 通用 | O12: 请确认一袋要多少个？ | P12: 100
A13: 53 | B13: 消耗性材料 | C13: 喉箍 | D13: 厂房油、气、水管路 | F13: 材质：不锈钢201，规格：52-70mm | G13: 袋 | H13: 1 | I13: 通用 | O13: 请确认一袋要多少个？ | P13: 100
A14: 70 | B14: 消耗性材料 | C14: 聚四氟乙烯垫片 | D14: 通用 | F14: ￠6（6.4x8x12x2mm；内径*外径*厚度） | G14: 个 | H14: 20 | I14: 通用 | O14: 6.4代表什么？请确认内径外径厚度是否为8x12x2mm？ | P14: 6.4为内径，12为外径，2为厚度
A15: 71 | B15: 消耗性材料 | C15: 聚四氟乙烯垫片 | D15: 通用 | F15: ￠8（8.4x10x14x2.7mm；内径*外径*厚度） | G15: 个 | H15: 20 | I15: 通用 | O15: 8.4代表什么？请确认内径外径厚度是否为10x14x2.7mm？ | P15: 8.4为内径，14为外径，2.7为厚度
A16: 72 | B16: 消耗性材料 | C16: 聚四氟乙烯垫片 | D16: 通用 | F16: ￠10(10.4x12x16x2.7mm；内径*外径*厚度） | G16: 个 | H16: 20 | I16: 通用 | O16: 10.4代表什么？请确认内径外径厚度是否为12x16x2.7mm？ | P16: 10.4为内径，16为外径，2.7为厚度
A17: 73 | B17: 消耗性材料 | C17: 聚四氟乙烯垫片 | D17: 通用 | F17: ￠12(12.4x14x18x2.7mm；内径*外径*厚度） | G17: 个 | H17: 20 | I17: 通用 | O17: 12.4代表什么？请确认内径外径厚度是否为14x18x2.7mm？ | P17: 12.4为内径，18为外径，2.7为厚度
A18: 77 | B18: 消耗性材料 | C18: RJ46网线三通头 | D18: 通用 | F18: RJ46网线三通头 | G18: 个 | H18: 10 | I18: 通用 | O18: 型号错误，实际型号为：RJ45，请确认 | P18: 确认为RJ45
A19: 84 | B19: 消耗性材料 | C19: 组合套装紫铜垫 | D19: 通用 | F19: （5*9*1；6*10*1；6*12*1；8*12*1；8*14*1；8*14*1.5；9*14*1；10*14*1；10*16*1；12*16*1.5；12*18*1.5；13*18*1；14*18*1.5；14*20*1.5；14*20*2；16*20*1.5；16*22*1.5；18*22*1.5）内径*外径*厚度。单位：mm | G19: 盒 | H19: 1 | I19: 通用 | O19: 请确认每个规格数量各要多少？ | P19: 每个规格要10个
