Workbook

Sheet 报价单（汇总）
A1: 设备品项报价单
A2: 需求单位：南方电网数字平台与安全（广东）有限公司
A3: 序号 | B3: 设备名称 | C3: 型号（注意各型号比例） | D3: 各型号报价汇总 | E3: 各型号报价汇总比例 | F3: 各类型设备单价 | G3: 综合报价汇总占比 | H3: 备注 | J3: 设备 | K3: 各类型设备单价汇总 | M3: 综合报价汇总占比 | O3: 综合报价汇总
A4: =ROW()-3 -> 1 | B4: 打印机 | C4: 1、富士胶片 Apeos C3570 复合打印机（40%） | D4: ='富士胶片 Apeos C3570'!G16 -> 0 | E4: 0.4 | F4: =D4*E4 -> 0 | G4: 0.4 | J4: 打印机（大） | K4: =SUM(F4:F8) -> 0 | M4: 0.4 | O4: =K4*M4 -> 0
A5: =ROW()-3 -> 2 | C5: 2、富士施乐 ApeosPort C3570 复合打印机（20%） | D5: ='富士施乐 ApeosPort C3570'!G16 -> 0 | E5: 0.2 | F5: =D5*E5 -> 0 | J5: 打印机（小） | K5: =SUM(F9:F12) -> 0 | M5: 0.2 | O5: =K5*M5 -> 0
A6: =ROW()-3 -> 3 | C6: 3、富士施乐 ApeosPort C3070 复合打印机（20%） | D6: ='富士施乐 ApeosPort C3070'!G16 -> 0 | E6: 0.2 | F6: =D6*E6 -> 0 | J6: 打印一体机保养 | K6: =SUM(F13) -> 0 | M6: 0.25 | O6: =K6*M6 -> 0
A7: =ROW()-3 -> 4 | C7: 4、佳能 C3320 复合打印机（10%） | D7: ='佳能 C3320'!G16 -> 0 | E7: 0.1 | F7: =D7*E7 -> 0 | J7: 电视 | K7: =SUM(F14:F17) -> 0 | M7: 0.1 | O7: =K7*M7 -> 0
A8: =ROW()-3 -> 5 | C8: 5、佳能 IR2025i 复合打印机（10%） | D8: ='佳能 IR2025i'!G12 -> 0 | E8: 0.1 | F8: =D8*E8 -> 0 | J8: 咖啡机 | K8: =SUM(F18) -> 0 | M8: 0.05 | O8: =K8*M8 -> 0
A9: =ROW()-3 -> 6 | C9: 1、奔图 CP2200DN（25%） | D9: ='奔图 CP2200DN'!G10 -> 0 | E9: 0.25 | F9: =D9*E9 -> 0 | G9: 0.2 | J9: 合计 | O9: =SUM(O4:O8) -> 0 | P9: 系统填写此金额
A10: =ROW()-3 -> 7 | C10: 2、富士胶片 Apeos C328dw（25%） | D10: ='富士胶片 Apeos C328dw'!G10 -> 0 | E10: 0.25 | F10: =D10*E10 -> 0
A11: =ROW()-3 -> 8 | C11: 3、富士施乐 DocuPrint CM318z（25%） | D11: ='富士施乐 DocuPrint CM318z'!G10 -> 0 | E11: 0.25 | F11: =D11*E11 -> 0
A12: =ROW()-3 -> 9 | C12: 4、惠普 Color LaserJet M254dw（25%） | D12: ='惠普 Color LaserJet M254dw'!G10 -> 0 | E12: 0.25 | F12: =D12*E12 -> 0
A13: =ROW()-3 -> 10 | B13: 打印一体机保养 | C13: 1、富士施乐 ApeosPort C3070 复合打印机 1台 2、富士施乐 ApeosPort C3570 复合打印机 1台 3、富士胶片 Apeos C3570 复合打印机 10台 4、佳能 C3320 复合打印机 1台 5、佳能 IR2025i 复合打印机 1台 | D13: =打印一体机保养!G5 -> 0 | E13: 1 | F13: =D13*E13 -> 0 | G13: 0.25 | H13: 富士胶片 Apeos C3570 复合打印机为2024年采购，富士施乐AP系列使用期限不超过5年，佳能打印机使用期限不超过10年，使用频率低。 | J13: 计算公式： 1、各型号单价汇总=零配件报价*权重 2、各类型设备单价汇总=各型号单价汇总*各型号比例（如富士胶片 Apeos C3570 复合打印机：比例为40%） 3、综合报价汇总=各类型设备单价汇总*综合报价汇总占比
A14: =ROW()-3 -> 11 | B14: （会议平板）电视 | C14: 1、MAXHUB CM65CN（25%） | D14: ='MAXHUB CM65CN'!G6 -> 0 | E14: 0.25 | F14: =D14*E14 -> 0 | G14: 0.1
C15: 2、三星 UA55NU650（25%） | D15: ='三星 UA55NU650'!G6 -> 0 | E15: 0.25 | F15: =D15*E15 -> 0
C16: 3、TCL 75G60E（25%） | D16: ='TCL 75G60E'!G6 -> 0 | E16: 0.25 | F16: =D16*E16 -> 0
A17: =ROW()-3 -> 14 | C17: 4、洲明科技 U75W21K-V-A（25%） | D17: ='洲明科技 U75W21K-V-A'!G6 -> 0 | E17: 0.25 | F17: =D17*E17 -> 0
A18: =ROW()-3 -> 15 | B18: 咖啡机 | C18: 1、德龙 ESAM2200.S（100%） | D18: ='德龙 ESAM2200.S'!G9 -> 0 | E18: 1 | F18: =D18*E18 -> 0 | G18: 0.05 | J18: 注意事项：服务结算价格按照报价（含税）进行结算，综合单价仅用作采购比价用。
A20: 1、报价需为含税报价；
A21: 2、所有报价一律以人民币报价；
A22: 3、请根据设备型号分别列举零配件/事项价格，价格应包含人工费、快递费等所有费用；
A23: 4、成交人提供维修零配件材料需为经检验合格的全新产品，提供其产品品质和一切服务保障；
A24: 5、更换零配件、维修事项应提供不少于30天质保期；
A25: 6、若以上设备产生零配件/事项不在本次报价单内，则参考京东、淘宝等电商平台均价（参考3家）提供零配件。 | N25: 单位：

Sheet 富士胶片 Apeos C3570
A1: 设备品项报价单
A2: 需求单位：南方电网数字平台与安全（广东）有限公司
A3: 序号 | B3: 设备名称 | C3: 型号 | D3: 零配件/事项名称 | E3: 报价 （含税） | F3: 权重 | G3: 综合单价 | H3: 备注
A4: =ROW()-3 -> 1 | B4: 打印机 | C4: 富士胶片 Apeos C3570 复合打印机 | D4: 定影组件 | F4: 0.125 | G4: =E4*F4 -> 0
A5: =ROW()-3 -> 2 | D5: 转印皮带组件 | F5: 0.125 | G5: =E5*F5 -> 0
A6: =ROW()-3 -> 3 | D6: 转印刮板组件 | F6: 0.125 | G6: =E6*F6 -> 0
A7: =ROW()-3 -> 4 | D7: 显影仓组件 | F7: 0.125 | G7: =E7*F7 -> 0
A8: =ROW()-3 -> 5 | D8: USB数据接口组件 | F8: 0.1 | G8: =E8*F8 -> 0
A9: =ROW()-3 -> 6 | D9: 定影离合器组件 | F9: 0.075 | G9: =E9*F9 -> 0
A10: =ROW()-3 -> 7 | D10: 电源板 | F10: 0.075 | G10: =E10*F10 -> 0
A11: =ROW()-3 -> 8 | D11: LPH（LED打印头）组件 | F11: 0.05 | G11: =E11*F11 -> 0
A12: =ROW()-3 -> 9 | D12: 搓纸轮组件 | F12: 0.05 | G12: =E12*F12 -> 0
A13: =ROW()-3 -> 10 | D13: 输稿器搓纸轮 | F13: 0.05 | G13: =E13*F13 -> 0
A14: =ROW()-3 -> 11 | D14: 扫描灯组件 | F14: 0.05 | G14: =E14*F14 -> 0
A15: =ROW()-3 -> 12 | D15: 第一出口组件 | F15: 0.05 | G15: =E15*F15 -> 0
A16: 汇总 | E16: =SUM(E4:E15) -> 0 | F16: =SUM(F4:F15) -> 1 | G16: =SUM(G4:G15) -> 0
A18: 1、报价需为含税报价；
A19: 2、所有报价一律以人民币报价；
A20: 3、请根据设备型号分别列举零配件/事项价格，价格应包含人工费、快递费等所有费用；
A21: 4、成交人提供维修零配件材料需为经检验合格的全新产品，提供其产品品质和一切服务保障；
A22: 5、更换零配件、维修事项应提供不少于30天质保期；
A23: 6、若以上设备产生零配件/事项不在本次报价单内，则参考京东、淘宝等电商平台均价（参考3家）提供零配件。
E27: 报价单位：
E28: 联系人：
E29: 联系方式：

Sheet 富士施乐 ApeosPort C3570
A1: 设备品项报价单
A2: 需求单位：南方电网数字平台与安全（广东）有限公司
A3: 序号 | B3: 设备名称 | C3: 型号 | D3: 零配件/事项名称 | E3: 报价 （含税） | F3: 权重 | G3: 综合单价 | H3: 备注
A4: =ROW()-3 -> 1 | B4: 打印机 | C4: 富士施乐 ApeosPort C3570 复合打印机 | D4: 定影组件 | F4: 0.125 | G4: =E4*F4 -> 0
A5: =ROW()-3 -> 2 | D5: 转印皮带组件 | F5: 0.125 | G5: =E5*F5 -> 0
A6: =ROW()-3 -> 3 | D6: 转印刮板组件 | F6: 0.125 | G6: =E6*F6 -> 0
A7: =ROW()-3 -> 4 | D7: 显影仓组件 | F7: 0.125 | G7: =E7*F7 -> 0
A8: =ROW()-3 -> 5 | D8: USB数据接口组件 | F8: 0.1 | G8: =E8*F8 -> 0
A9: =ROW()-3 -> 6 | D9: 定影离合器组件 | F9: 0.075 | G9: =E9*F9 -> 0
A10: =ROW()-3 -> 7 | D10: 电源板 | F10: 0.075 | G10: =E10*F10 -> 0
A11: =ROW()-3 -> 8 | D11: LPH（LED打印头）组件 | F11: 0.05 | G11: =E11*F11 -> 0
A12: =ROW()-3 -> 9 | D12: 搓纸轮组件 | F12: 0.05 | G12: =E12*F12 -> 0
A13: =ROW()-3 -> 10 | D13: 输稿器搓纸轮 | F13: 0.05 | G13: =E13*F13 -> 0
A14: =ROW()-3 -> 11 | D14: 扫描灯组件 | F14: 0.05 | G14: =E14*F14 -> 0
A15: =ROW()-3 -> 12 | D15: 第一出口组件 | F15: 0.05 | G15: =E15*F15 -> 0
A16: 汇总 | E16: =SUM(E4:E15) -> 0 | F16: =SUM(F4:F15) -> 1 | G16: =SUM(G4:G15) -> 0
A18: 1、报价需为含税报价；
A19: 2、所有报价一律以人民币报价；
A20: 3、请根据设备型号分别列举零配件/事项价格，价格应包含人工费、快递费等所有费用；
A21: 4、成交人提供维修零配件材料需为经检验合格的全新产品，提供其产品品质和一切服务保障；
A22: 5、更换零配件、维修事项应提供不少于30天质保期；
A23: 6、若以上设备产生零配件/事项不在本次报价单内，则参考京东、淘宝等电商平台均价（参考3家）提供零配件。
E27: 报价单位：
E28: 联系人：
E29: 联系方式：

Sheet 富士施乐 ApeosPort C3070
A1: 设备品项报价单
A2: 需求单位：南方电网数字平台与安全（广东）有限公司
A3: 序号 | B3: 设备名称 | C3: 型号 | D3: 零配件/事项名称 | E3: 报价 （含税） | F3: 权重 | G3: 综合单价 | H3: 备注
A4: =ROW()-3 -> 1 | B4: 打印机 | C4: 富士施乐 ApeosPort C3070 复合打印机 | D4: 定影组件 | F4: 0.125 | G4: =E4*F4 -> 0
A5: =ROW()-3 -> 2 | D5: 转印皮带组件 | F5: 0.125 | G5: =E5*F5 -> 0
A6: =ROW()-3 -> 3 | D6: 转印刮板组件 | F6: 0.125 | G6: =E6*F6 -> 0
A7: =ROW()-3 -> 4 | D7: 显影仓组件 | F7: 0.125 | G7: =E7*F7 -> 0
A8: =ROW()-3 -> 5 | D8: USB数据接口组件 | F8: 0.1 | G8: =E8*F8 -> 0
A9: =ROW()-3 -> 6 | D9: 定影离合器组件 | F9: 0.075 | G9: =E9*F9 -> 0
A10: =ROW()-3 -> 7 | D10: 电源板 | F10: 0.075 | G10: =E10*F10 -> 0
A11: =ROW()-3 -> 8 | D11: LPH（LED打印头）组件 | F11: 0.05 | G11: =E11*F11 -> 0
A12: =ROW()-3 -> 9 | D12: 搓纸轮组件 | F12: 0.05 | G12: =E12*F12 -> 0
A13: =ROW()-3 -> 10 | D13: 输稿器搓纸轮 | F13: 0.05 | G13: =E13*F13 -> 0
A14: =ROW()-3 -> 11 | D14: 扫描灯组件 | F14: 0.05 | G14: =E14*F14 -> 0
A15: =ROW()-3 -> 12 | D15: 第一出口组件 | F15: 0.05 | G15: =E15*F15 -> 0
A16: 汇总 | E16: =SUM(E4:E15) -> 0 | F16: =SUM(F4:F15) -> 1 | G16: =SUM(G4:G15) -> 0
A18: 1、报价需为含税报价；
A19: 2、所有报价一律以人民币报价；
A20: 3、请根据设备型号分别列举零配件/事项价格，价格应包含人工费、快递费等所有费用；
A21: 4、成交人提供维修零配件材料需为经检验合格的全新产品，提供其产品品质和一切服务保障；
A22: 5、更换零配件、维修事项应提供不少于30天质保期；
A23: 6、若以上设备产生零配件/事项不在本次报价单内，则参考京东、淘宝等电商平台均价（参考3家）提供零配件。
E27: 报价单位：
E28: 联系人：
E29: 联系方式：

Sheet 佳能 C3320
A1: 设备品项报价单
A2: 需求单位：南方电网数字平台与安全（广东）有限公司
A3: 序号 | B3: 设备名称 | C3: 型号 | D3: 零配件/事项名称 | E3: 报价 （含税） | F3: 权重 | G3: 综合单价 | H3: 备注
A4: =ROW()-3 -> 1 | B4: 打印机 | C4: 佳能 C3320 复合打印机 | D4: 定影组件 | F4: 0.125 | G4: =E4*F4 -> 0
A5: =ROW()-3 -> 2 | D5: 转印皮带组件 | F5: 0.125 | G5: =E5*F5 -> 0
A6: =ROW()-3 -> 3 | D6: 转印刮板组件 | F6: 0.125 | G6: =E6*F6 -> 0
A7: =ROW()-3 -> 4 | D7: 显影仓组件 | F7: 0.125 | G7: =E7*F7 -> 0
A8: =ROW()-3 -> 5 | D8: USB数据接口组件 | F8: 0.1 | G8: =E8*F8 -> 0
A9: =ROW()-3 -> 6 | D9: 定影离合器组件 | F9: 0.075 | G9: =E9*F9 -> 0
A10: =ROW()-3 -> 7 | D10: 电源板 | F10: 0.075 | G10: =E10*F10 -> 0
A11: =ROW()-3 -> 8 | D11: LPH（LED打印头）组件 | F11: 0.05 | G11: =E11*F11 -> 0
A12: =ROW()-3 -> 9 | D12: 搓纸轮组件 | F12: 0.05 | G12: =E12*F12 -> 0
A13: =ROW()-3 -> 10 | D13: 输稿器搓纸轮 | F13: 0.05 | G13: =E13*F13 -> 0
A14: =ROW()-3 -> 11 | D14: 扫描灯组件 | F14: 0.05 | G14: =E14*F14 -> 0
A15: =ROW()-3 -> 12 | D15: 第一出口组件 | F15: 0.05 | G15: =E15*F15 -> 0
A16: 汇总 | E16: =SUM(E4:E15) -> 0 | F16: =SUM(F4:F15) -> 1 | G16: =SUM(G4:G15) -> 0
A18: 1、报价需为含税报价；
A19: 2、所有报价一律以人民币报价；
A20: 3、请根据设备型号分别列举零配件/事项价格，价格应包含人工费、快递费等所有费用；
A21: 4、成交人提供维修零配件材料需为经检验合格的全新产品，提供其产品品质和一切服务保障；
A22: 5、更换零配件、维修事项应提供不少于30天质保期；
A23: 6、若以上设备产生零配件/事项不在本次报价单内，则参考京东、淘宝等电商平台均价（参考3家）提供零配件。
E27: 报价单位：
E28: 联系人：
E29: 联系方式：

Sheet 佳能 IR2025i
A1: 设备品项报价单
A2: 需求单位：南方电网数字平台与安全（广东）有限公司
A3: 序号 | B3: 设备名称 | C3: 型号 | D3: 零配件/事项名称 | E3: 报价 （含税） | F3: 权重 | G3: 综合单价 | H3: 备注
A4: =ROW()-3 -> 1 | B4: 打印机 | C4: 佳能 IR2025i 复合打印机 | D4: 定影组件 | F4: 0.26 | G4: =E4*F4 -> 0
A5: =ROW()-3 -> 2 | D5: 显影仓组件 | F5: 0.26 | G5: =E5*F5 -> 0
A6: =ROW()-3 -> 3 | D6: 电源板 | F6: 0.16 | G6: =E6*F6 -> 0
A7: =ROW()-3 -> 4 | D7: LPH（LED打印头）组件 | F7: 0.05 | G7: =E7*F7 -> 0
A8: =ROW()-3 -> 5 | D8: 搓纸轮组件 | F8: 0.08 | G8: =E8*F8 -> 0
A9: =ROW()-3 -> 6 | D9: 输稿器搓纸轮 | F9: 0.06 | G9: =E9*F9 -> 0
A10: =ROW()-3 -> 7 | D10: 扫描灯组件 | F10: 0.08 | G10: =E10*F10 -> 0
A11: =ROW()-3 -> 8 | D11: 第一出口组件 | F11: 0.05 | G11: =E11*F11 -> 0
A12: 汇总 | E12: =SUM(E4:E11) -> 0 | F12: =SUM(F4:F11) -> 1 | G12: =SUM(G4:G11) -> 0
A14: 1、报价需为含税报价；
A15: 2、所有报价一律以人民币报价；
A16: 3、请根据设备型号分别列举零配件/事项价格，价格应包含人工费、快递费等所有费用；
A17: 4、成交人提供维修零配件材料需为经检验合格的全新产品，提供其产品品质和一切服务保障；
A18: 5、更换零配件、维修事项应提供不少于30天质保期；
A19: 6、若以上设备产生零配件/事项不在本次报价单内，则参考京东、淘宝等电商平台均价（参考3家）提供零配件。
E23: 报价单位：
E24: 联系人：
E25: 联系方式：

Sheet 奔图 CP2200DN
A1: 设备品项报价单
A2: 需求单位：南方电网数字平台与安全（广东）有限公司
A3: 序号 | B3: 设备名称 | C3: 型号 | D3: 零配件/事项名称 | E3: 报价 （含税） | F3: 权重 | G3: 综合报价汇总占比 | H3: 备注
A4: =ROW()-3 -> 1 | B4: 打印机 | C4: 奔图 CP2200DN | D4: 定影组件 | F4: 0.25 | G4: =E4*F4 -> 0
A5: =ROW()-3 -> 2 | D5: 硒鼓组件 | F5: 0.2 | G5: =E5*F5 -> 0
A6: =ROW()-3 -> 3 | D6: 主板组件 | F6: 0.15 | G6: =E6*F6 -> 0
A7: =ROW()-3 -> 4 | D7: 电源板 | F7: 0.15 | G7: =E7*F7 -> 0
A8: =ROW()-3 -> 5 | D8: 激光器组件 | F8: 0.15 | G8: =E8*F8 -> 0
A9: =ROW()-3 -> 6 | D9: 搓纸轮组件 | F9: 0.1 | G9: =E9*F9 -> 0
A10: 汇总 | E10: =SUM(E4:E9) -> 0 | F10: =SUM(F4:F9) -> 1 | G10: =SUM(G4:G9) -> 0
A12: 1、报价需为含税报价；
A13: 2、所有报价一律以人民币报价；
A14: 3、请根据设备型号分别列举零配件/事项价格，价格应包含人工费、快递费等所有费用；
A15: 4、成交人提供维修零配件材料需为经检验合格的全新产品，提供其产品品质和一切服务保障；
A16: 5、更换零配件、维修事项应提供不少于30天质保期；
A17: 6、若以上设备产生零配件/事项不在本次报价单内，则参考京东、淘宝等电商平台均价（参考3家）提供零配件。
E21: 报价单位：
E22: 联系人：
E23: 联系方式：

Sheet 富士胶片 Apeos C328dw
A1: 设备品项报价单
A2: 需求单位：南方电网数字平台与安全（广东）有限公司
A3: 序号 | B3: 设备名称 | C3: 型号 | D3: 零配件/事项名称 | E3: 报价 （含税） | F3: 权重 | G3: 综合单价 | H3: 备注
A4: =ROW()-3 -> 1 | B4: 打印机 | C4: 富士胶片 Apeos C328dw | D4: 定影组件 | F4: 0.25 | G4: =E4*F4 -> 0
A5: =ROW()-3 -> 2 | D5: 硒鼓组件 | F5: 0.2 | G5: =E5*F5 -> 0
A6: =ROW()-3 -> 3 | D6: 主板组件 | F6: 0.15 | G6: =E6*F6 -> 0
A7: =ROW()-3 -> 4 | D7: 电源板 | F7: 0.15 | G7: =E7*F7 -> 0
A8: =ROW()-3 -> 5 | D8: 激光器组件 | F8: 0.15 | G8: =E8*F8 -> 0
A9: =ROW()-3 -> 6 | D9: 搓纸轮组件 | F9: 0.1 | G9: =E9*F9 -> 0
A10: 汇总 | E10: =SUM(E4:E9) -> 0 | F10: =SUM(F4:F9) -> 1 | G10: =SUM(G4:G9) -> 0
A12: 1、报价需为含税报价；
A13: 2、所有报价一律以人民币报价；
A14: 3、请根据设备型号分别列举零配件/事项价格，价格应包含人工费、快递费等所有费用；
A15: 4、成交人提供维修零配件材料需为经检验合格的全新产品，提供其产品品质和一切服务保障；
A16: 5、更换零配件、维修事项应提供不少于30天质保期；
A17: 6、若以上设备产生零配件/事项不在本次报价单内，则参考京东、淘宝等电商平台均价（参考3家）提供零配件。
E21: 报价单位：
E22: 联系人：
E23: 联系方式：

Sheet 富士施乐 DocuPrint CM318z
A1: 设备品项报价单
A2: 需求单位：南方电网数字平台与安全（广东）有限公司
A3: 序号 | B3: 设备名称 | C3: 型号 | D3: 零配件/事项名称 | E3: 报价 （含税） | F3: 权重 | G3: 综合单价 | H3: 备注
A4: =ROW()-3 -> 1 | B4: 打印机 | C4: 富士施乐 DocuPrint CM318z | D4: 定影组件 | F4: 0.25 | G4: =E4*F4 -> 0
A5: =ROW()-3 -> 2 | D5: 硒鼓组件 | F5: 0.2 | G5: =E5*F5 -> 0
A6: =ROW()-3 -> 3 | D6: 主板组件 | F6: 0.15 | G6: =E6*F6 -> 0
A7: =ROW()-3 -> 4 | D7: 电源板 | F7: 0.15 | G7: =E7*F7 -> 0
A8: =ROW()-3 -> 5 | D8: 激光器组件 | F8: 0.15 | G8: =E8*F8 -> 0
A9: =ROW()-3 -> 6 | D9: 搓纸轮组件 | F9: 0.1 | G9: =E9*F9 -> 0
A10: 汇总 | E10: =SUM(E4:E9) -> 0 | F10: =SUM(F4:F9) -> 1 | G10: =SUM(G4:G9) -> 0
A12: 1、报价需为含税报价；
A13: 2、所有报价一律以人民币报价；
A14: 3、请根据设备型号分别列举零配件/事项价格，价格应包含人工费、快递费等所有费用；
A15: 4、成交人提供维修零配件材料需为经检验合格的全新产品，提供其产品品质和一切服务保障；
A16: 5、更换零配件、维修事项应提供不少于30天质保期；
A17: 6、若以上设备产生零配件/事项不在本次报价单内，则参考京东、淘宝等电商平台均价（参考3家）提供零配件。
E21: 报价单位：
E22: 联系人：
E23: 联系方式：

Sheet 惠普 Color LaserJet M254dw
A1: 设备品项报价单
A2: 需求单位：南方电网数字平台与安全（广东）有限公司
A3: 序号 | B3: 设备名称 | C3: 型号 | D3: 零配件/事项名称 | E3: 报价 （含税） | F3: 权重 | G3: 综合单价 | H3: 备注
A4: =ROW()-3 -> 1 | B4: 打印机 | C4: 惠普 Color LaserJet M254dw | D4: 定影组件 | F4: 0.25 | G4: =E4*F4 -> 0
A5: =ROW()-3 -> 2 | D5: 硒鼓组件 | F5: 0.2 | G5: =E5*F5 -> 0
A6: =ROW()-3 -> 3 | D6: 主板组件 | F6: 0.15 | G6: =E6*F6 -> 0
A7: =ROW()-3 -> 4 | D7: 电源板 | F7: 0.15 | G7: =E7*F7 -> 0
A8: =ROW()-3 -> 5 | D8: 激光器组件 | F8: 0.15 | G8: =E8*F8 -> 0
A9: =ROW()-3 -> 6 | D9: 搓纸轮组件 | F9: 0.1 | G9: =E9*F9 -> 0
A10: 汇总 | E10: =SUM(E4:E9) -> 0 | F10: =SUM(F4:F9) -> 1 | G10: =SUM(G4:G9) -> 0
A12: 1、报价需为含税报价；
A13: 2、所有报价一律以人民币报价；
A14: 3、请根据设备型号分别列举零配件/事项价格，价格应包含人工费、快递费等所有费用；
A15: 4、成交人提供维修零配件材料需为经检验合格的全新产品，提供其产品品质和一切服务保障；
A16: 5、更换零配件、维修事项应提供不少于30天质保期；
A17: 6、若以上设备产生零配件/事项不在本次报价单内，则参考京东、淘宝等电商平台均价（参考3家）提供零配件。
E21: 报价单位：
E22: 联系人：
E23: 联系方式：

Sheet 打印一体机保养
A1: 设备品项报价单
A2: 需求单位：南方电网数字平台与安全（广东）有限公司
A3: 序号 | B3: 设备名称 | C3: 型号 | D3: 零配件/事项名称 | E3: 报价 （含税） | F3: 权重 | G3: 综合单价 | H3: 备注
A4: =ROW()-3 -> 1 | B4: 打印一体机保养 | C4: 1、富士施乐 ApeosPort C3070 复合打印机 1台 2、富士施乐 ApeosPort C3570 复合打印机 1台 3、富士胶片 Apeos C3570 复合打印机 10台 4、佳能 C3320 复合打印机 1台 5、佳能 IR2025i 复合打印机 1台 共14台 | D4: 每月进行一次打印一体机设备保养，按14台设备1年报价，价格单位为：元/年*14台 | F4: 1 | G4: =E4*F4 -> 0 | H4: 富士胶片 Apeos C3570 复合打印机为2024年采购，富士施乐AP系列使用期限不超过5年，佳能打印机使用期限不超过10年，使用频率低。
A5: 汇总 | E5: =SUM(E4) -> 0 | F5: =SUM(F4) -> 1 | G5: =SUM(G4) -> 0
A7: 1、报价需为含税报价；
A8: 2、所有报价一律以人民币报价；
A9: 3、请根据设备型号分别列举零配件/事项价格，价格应包含人工费、快递费等所有费用；
A10: 4、成交人提供维修零配件材料需为经检验合格的全新产品，提供其产品品质和一切服务保障；
A11: 5、更换零配件、维修事项应提供不少于30天质保期；
A12: 6、若以上设备产生零配件/事项不在本次报价单内，则参考京东、淘宝等电商平台均价（参考3家）提供零配件。
E15: 报价单位：
E16: 联系人：
E17: 联系方式：

Sheet MAXHUB CM65CN
A1: 设备品项报价单
A2: 需求单位：南方电网数字平台与安全（广东）有限公司
A3: 序号 | B3: 设备名称 | C3: 型号 | D3: 零配件/事项名称 | E3: 报价 （含税） | F3: 权重 | G3: 综合单价 | H3: 备注
A4: =ROW()-3 -> 1 | B4: 会议平板电视 | C4: MAXHUB CM65CN | D4: 数据口接板 | F4: 0.5 | G4: =E4*F4 -> 0
A5: =ROW()-3 -> 2 | D5: 无线传屏器 | F5: 0.5 | G5: =E5*F5 -> 0
A6: 汇总 | E6: =SUM(E4:E5) -> 0 | F6: =SUM(F4:F5) -> 1 | G6: =SUM(G4:G5) -> 0
A8: 1、报价需为含税报价；
A9: 2、所有报价一律以人民币报价；
A10: 3、请根据设备型号分别列举零配件/事项价格，价格应包含人工费、快递费等所有费用；
A11: 4、成交人提供维修零配件材料需为经检验合格的全新产品，提供其产品品质和一切服务保障；
A12: 5、更换零配件、维修事项应提供不少于30天质保期；
A13: 6、若以上设备产生零配件/事项不在本次报价单内，则参考京东、淘宝等电商平台均价（参考3家）提供零配件。
E17: 报价单位：
E18: 联系人：
E19: 联系方式：

Sheet 三星 UA55NU650
A1: 设备品项报价单
A2: 需求单位：南方电网数字平台与安全（广东）有限公司
A3: 序号 | B3: 设备名称 | C3: 型号 | D3: 零配件/事项名称 | E3: 报价 （含税） | F3: 权重 | G3: 综合单价 | H3: 备注
A4: =ROW()-3 -> 1 | B4: 电视 | C4: 三星 UA55NU650 | D4: 数据口接板 | F4: 0.5 | G4: =E4*F4 -> 0
A5: =ROW()-3 -> 2 | D5: 遥控器 | F5: 0.5 | G5: =E5*F5 -> 0
A6: 汇总 | E6: =SUM(E4:E5) -> 0 | F6: =SUM(F4:F5) -> 1 | G6: =SUM(G4:G5) -> 0
A8: 1、报价需为含税报价；
A9: 2、所有报价一律以人民币报价；
A10: 3、请根据设备型号分别列举零配件/事项价格，价格应包含人工费、快递费等所有费用；
A11: 4、成交人提供维修零配件材料需为经检验合格的全新产品，提供其产品品质和一切服务保障；
A12: 5、更换零配件、维修事项应提供不少于30天质保期；
A13: 6、若以上设备产生零配件/事项不在本次报价单内，则参考京东、淘宝等电商平台均价（参考3家）提供零配件。
E17: 报价单位：
E18: 联系人：
E19: 联系方式：

Sheet TCL 75G60E
A1: 设备品项报价单
A2: 需求单位：南方电网数字平台与安全（广东）有限公司
A3: 序号 | B3: 设备名称 | C3: 型号 | D3: 零配件/事项名称 | E3: 报价 （含税） | F3: 权重 | G3: 综合单价 | H3: 备注
A4: =ROW()-3 -> 1 | B4: 电视 | C4: TCL 75G60E | D4: 数据口接板 | F4: 0.5 | G4: =E4*F4 -> 0
A5: =ROW()-3 -> 2 | D5: 遥控器 | F5: 0.5 | G5: =E5*F5 -> 0
A6: 汇总 | E6: =SUM(E4:E5) -> 0 | F6: =SUM(F4:F5) -> 1 | G6: =SUM(G4:G5) -> 0
A8: 1、报价需为含税报价；
A9: 2、所有报价一律以人民币报价；
A10: 3、请根据设备型号分别列举零配件/事项价格，价格应包含人工费、快递费等所有费用；
A11: 4、成交人提供维修零配件材料需为经检验合格的全新产品，提供其产品品质和一切服务保障；
A12: 5、更换零配件、维修事项应提供不少于30天质保期；
A13: 6、若以上设备产生零配件/事项不在本次报价单内，则参考京东、淘宝等电商平台均价（参考3家）提供零配件。
E17: 报价单位：
E18: 联系人：
E19: 联系方式：

Sheet 洲明科技 U75W21K-V-A
A1: 设备品项报价单
A2: 需求单位：南方电网数字平台与安全（广东）有限公司
A3: 序号 | B3: 设备名称 | C3: 型号 | D3: 零配件/事项名称 | E3: 报价 （含税） | F3: 权重 | G3: 综合单价 | H3: 备注
A4: =ROW()-3 -> 1 | B4: 会议平板电视 | C4: 洲明科技 U75W21K-V-A | D4: 数据口接板 | F4: 0.5 | G4: =E4*F4 -> 0
A5: =ROW()-3 -> 2 | D5: 无线传屏器 | F5: 0.5 | G5: =E5*F5 -> 0
A6: 汇总 | E6: =SUM(E4:E5) -> 0 | F6: =SUM(F4:F5) -> 1 | G6: =SUM(G4:G5) -> 0
A8: 1、报价需为含税报价；
A9: 2、所有报价一律以人民币报价；
A10: 3、请根据设备型号分别列举零配件/事项价格，价格应包含人工费、快递费等所有费用；
A11: 4、成交人提供维修零配件材料需为经检验合格的全新产品，提供其产品品质和一切服务保障；
A12: 5、更换零配件、维修事项应提供不少于30天质保期；
A13: 6、若以上设备产生零配件/事项不在本次报价单内，则参考京东、淘宝等电商平台均价（参考3家）提供零配件。
E17: 报价单位：
E18: 联系人：
E19: 联系方式：

Sheet 德龙 ESAM2200.S
A1: 设备品项报价单
A2: 需求单位：南方电网数字平台与安全（广东）有限公司
A3: 序号 | B3: 设备名称 | C3: 型号 | D3: 零配件/事项名称 | E3: 报价 （含税） | F3: 权重 | G3: 综合单价 | H3: 备注
A4: =ROW()-3 -> 1 | B4: 咖啡机 | C4: 德龙 ESAM2200.S | D4: 水箱 | F4: 0.2 | G4: =E4*F4 -> 0
A5: =ROW()-3 -> 2 | D5: 研磨器 | F5: 0.2 | G5: =E5*F5 -> 0
A6: =ROW()-3 -> 3 | D6: 渣盒 | F6: 0.2 | G6: =E6*F6 -> 0
A7: =ROW()-3 -> 4 | D7: 除垢剂（500ml） | F7: 0.2 | G7: =E7*F7 -> 0
A8: =ROW()-3 -> 5 | D8: 萃取器 | F8: 0.2 | G8: =E8*F8 -> 0
A9: 汇总 | E9: =SUM(E4:E8) -> 0 | F9: =SUM(F4:F8) -> 1 | G9: =SUM(G4:G8) -> 0
A11: 1、报价需为含税报价；
A12: 2、所有报价一律以人民币报价；
A13: 3、请根据设备型号分别列举零配件/事项价格，价格应包含人工费、快递费等所有费用；
A14: 4、成交人提供维修零配件材料需为经检验合格的全新产品，提供其产品品质和一切服务保障；
A15: 5、更换零配件、维修事项应提供不少于30天质保期；
A16: 6、若以上设备产生零配件/事项不在本次报价单内，则参考京东、淘宝等电商平台均价（参考3家）提供零配件。
E20: 报价单位：
E21: 联系人：
E22: 联系方式：
