Workbook

Sheet 变压器类
A1: **公司拟处置报废资产评估申报表-变压器类
A2: =#REF! -> #REF!
A3: =#REF! -> #REF! | P3: 金额单位：人民币元
A4: 序号 | B4: 卡片编号 | C4: 物品名称 | D4: 型号规格 | E4: 变压器容量 | F4: 制造厂商 | G4: 计量单位 | H4: 数量 | I4: 存放位置 | J4: 投运时间 | K4: 退役时间 | L4: 账面价值 | N4: 评估价值 | P4: 报废原因 | Q4: 有油/半油/无油 | R4: 备注
L5: 原值 | M5: 净值 | N5: 单价 | O5: 金额
A25: 合计 | H25: =SUM(H6:H24) -> 0 | L25: =SUM(L6:L24) -> 0 | M25: =SUM(M6:M24) -> 0 | O25: =SUM(O6:O24) -> 0
A26: 被评估单位填表人：
A27: 填表时间：

Sheet 铜铁铝金具类
A1: **公司拟处置报废资产评估申报表-铜铁铝金具类
A2: =#REF! -> #REF!
A3: =#REF! -> #REF! | O3: 金额单位：人民币元
A4: 序号 | B4: 卡片编号 | C4: 物品名称 | D4: 型号规格 | E4: 制造厂商 | F4: 计量单位 | G4: 数量 | H4: 存放位置 | I4: 投运时间 | J4: 退役时间 | K4: 账面价值 | M4: 评估价值 | O4: 报废原因 | P4: 备注
K5: 原值 | L5: 净值 | M5: 单价 | N5: 金额
A6: 1
A7: 2
A8: 3
A9: 4
A10: 5
A11: 6
A12: 7
A13: 8
A14: 9
A15: 10
A16: 11
A17: 12
... A25: 20
A26: 合计 | G26: =SUM(G6:G25) -> 0 | K26: =SUM(K6:K25) -> 0 | L26: =SUM(L6:L25) -> 0 | N26: =SUM(N6:N25) -> 0
A27: =变压器类!A26 -> 被评估单位填表人：
A28: =变压器类!A27 -> 填表时间：

Sheet 线缆类
A1: **公司拟处置报废资产评估申报表-线材类
A2: =#REF! -> #REF!
A3: =#REF! -> #REF! | O3: 金额单位：人民币元
A4: 序号 | B4: 卡片编号 | C4: 物品名称 | D4: 型号规格 | E4: 制造厂商 | F4: 计量单位 | G4: 数量 | H4: 存放位置 | I4: 投运时间 | J4: 退役时间 | K4: 账面价值 | M4: 评估价值 | O4: 报废原因 | P4: 备注
K5: 原值 | L5: 净值 | M5: 单价 | N5: 金额
A6: 1
A7: 2
A8: 3
A9: 4
A10: 5
A11: 6
A12: 7
A13: 8
A14: 9
A15: 10
A16: 11
A17: 12
... A25: 20
A26: 合计 | G26: =SUM(G6:G25) -> 0 | K26: =SUM(K6:K25) -> 0 | L26: =SUM(L6:L25) -> 0 | N26: =SUM(N6:N25) -> 0
A27: =变压器类!A26 -> 被评估单位填表人：
A28: =变压器类!A27 -> 填表时间：

Sheet 拍卖清单
A1: 报废物资拍卖清单
A2: 序号 | B2: 物品名称 | C2: 型号规格 | D2: 计量单位 | E2: 数量 | F2: 存放位置 | G2: 备注
A4: 1 | B4: 会场单屏高清电视（不小于65寸） | C4: UA65JU5900JXXZ | D4: 台 | E4: 1 | F4: 信通分公司老城仓库
A5: 2 | B5: 会场单屏高清电视（不小于47寸） | C5: UA47JU5920 | D5: 台 | E5: 2 | F5: 信通分公司老城仓库
A6: 3
A7: 4
A8: 5
A9: 6
A10: 7
A11: 8
A12: 9
A13: 10

Sheet Sheet1

Sheet 其他类
A1: **公司拟处置报废资产评估申报表-其他类
A2: =#REF! -> #REF!
A3: =#REF! -> #REF! | N3: 金额单位：人民币元
A4: 序号 | B4: 物品名称 | C4: 型号规格 | D4: 制造厂商 | E4: 计量单位 | F4: 数量 | G4: 存放位置 | H4: 购置时间 | I4: 退役时间 | J4: 账面价值 | L4: 评估价值 | N4: 报废原因 | O4: 备注
J5: 原值 | K5: 净值 | L5: 单价 | M5: 金额
A6: 1
A7: 2
A8: 3
A9: 4
A10: 5
A11: 6
A12: 7
A13: 8
A14: 9
A15: 10
A16: 11
A17: 12
... A21: 16
A22: 合计 | F22: =SUM(F6:F21) -> 0 | J22: =SUM(J6:J21) -> 0 | K22: =SUM(K6:K21) -> 0 | M22: =SUM(M6:M21) -> 0
A23: =变压器类!A26 -> 被评估单位填表人：
A24: =变压器类!A27 -> 填表时间：
