Workbook

Sheet Sheet1
A1: 序号 | B1: 标的名称 | C1: 标包名称 | D1: 需求计划明细单号 | E1: 项目名称 | F1: 标准物资名称 | G1: 物资品类编码 | H1: 采购数量 | I1: 计量单位 | J1: 物资需求单位 | K1: 总价最高限价（元） | L1: 备注
A2: 1 | B2: 标1：云南电网第二批测试设备仪器购置（公开招标） | C2: 包1：多倍频感应耐压测试仪 | D2: 05040000062301620260903000 | E2: 玉溪供电局2026年变电修试所共计25台工器具购置项目 | F2: 多倍频感应耐压测试仪 | G2: 091104500000004 | H2: 2 | I2: 台 | J2: 玉溪供电局 | K2: 175000 | L2: 输出功率：≥5kVA 供电电源：AC220V±10%、50±1Hz ★输出频率：45Hz～200Hz 频率调节细度：≤0.1Hz ★输出电压：0～360V ★输出电流：0～20A ★输出稳定度：≤1% 输出波形：正弦波
A3: 2 | D3: 05080000273201620260827000 | E3: 普洱供电局2026年变电修试所变压器短路阻抗测试仪等6台测试设备工器具购置 | F3: 多倍频感应耐压测试仪 | G3: 091104500000004 | H3: 1 | I3: 台 | J3: 普洱供电局 | K3: 87500 | L3: /
A4: 3 | D4: 05140000066801620260827000 | E4: 丽江供电局2026年变电修试所共计15台工器具购置 | F4: 多倍频感应耐压测试仪 | G4: 091104500000004 | H4: 1 | I4: 台 | J4: 丽江供电局 | K4: 87500
A5: 4 | D5: 05130000239701620260826000 | E5: 德宏供电局2026年变电修试所共计24台生产工器具及仪器仪表购置 | F5: 多倍频感应耐压测试仪 | G5: 091104500000004 | H5: 1 | I5: 台 | J5: 德宏供电局 | K5: 87500 | L5: /
A6: 5 | D6: 05050000462801620260826000 | E6: 大理供电局2026年变电修试所共计19台工器具购置 | F6: 多倍频感应耐压测试仪 | G6: 091104500000004 | H6: 1 | I6: 台 | J6: 大理供电局 | K6: 87500 | L6: 输出功率：≥5kVA 供电电源：AC220V±10%、50±1Hz ★输出频率：45Hz～200Hz 频率调节细度：≤0.1Hz ★输出电压：0～360V ★输出电流：0～20A ★输出稳定度：≤1% 输出波形：正弦波
A7: 6 | D7: 05030000515501620260825000 | E7: 红河供电局2026年变电修试所电容电感测量仪等7类14台仪器购置 | F7: 多倍频感应耐压测试仪 | G7: 091104500000004 | H7: 1 | I7: 台 | J7: 红河供电局 | K7: 87500 | L7: 输出功率：≥5kVA 供电电源：AC220V±10%、50±1Hz ★输出频率：45Hz～200Hz 频率调节细度：≤0.1Hz ★输出电压：0～360V ★输出电流：0～20A ★输出稳定度：≤1% 输出波形：正弦波
A8: 7 | D8: 05020000345401620260824000 | E8: 曲靖供电局2026年修试所倍频感应耐压测试仪购置 | F8: 多倍频感应耐压测试仪 | G8: 091104500000004 | H8: 1 | I8: 台 | J8: 曲靖供电局 | K8: 87500
A9: 8 | D9: 05100000403001620260824000 | E9: 临沧供电局2026年变电修试所变压器绕组变形测试仪、直流电阻测试仪等共计39台设备购置 | F9: 多倍频感应耐压测试仪 | G9: 091104500000004 | H9: 2 | I9: 台 | J9: 临沧供电局 | K9: 175000 | L9: /
A10: 9 | D10: 05070000401901620260824000 | E10: 昭通供电局2026年变电修试所35kV及以下多倍频感应耐压试验装置（含控制箱、倍频电源、互感器综合测试仪）共计2套工器具购置（工器具配置） | F10: 多倍频感应耐压测试仪 | G10: 091104500000004 | H10: 1 | I10: 台 | J10: 昭通供电局 | K10: 87500 | L10: /
A11: 10 | D11: 05160000096201620260824000 | E11: 怒江供电局2026年变电修试所共计26台仪器仪表购置 | F11: 多倍频感应耐压测试仪 | G11: 091104500000004 | H11: 1 | I11: 台 | J11: 怒江供电局 | K11: 87500
A12: 11 | D12: 05150000186101620260824000 | E12: 迪庆供电局变电修试所2026年变压器短路阻抗测试仪等共计11台测试设备购置 | F12: 多倍频感应耐压测试仪 | G12: 091104500000004 | H12: 1 | I12: 台 | J12: 迪庆供电局 | K12: 87500 | L12: 输出功率：≥5kVA 供电电源：AC220V±10%、50±1Hz ★输出频率：45Hz～200Hz 频率调节细度：≤0.1Hz ★输出电压：0～360V ★输出电流：0～20A ★输出稳定度：≤1% 输出波形：正弦波
A13: 12 | D13: 05110000517101620260820000 | E13: 文山供电局2026年变电修试所共计21台工器具购置 | F13: 多倍频感应耐压测试仪 | G13: 091104500000004 | H13: 3 | I13: 台 | J13: 文山供电局 | K13: 262500
A14: 13 | C14: 包2：直流高压发生器 | D14: 05040000062601620260903000 | E14: 玉溪供电局2026年变电修试所共计25台工器具购置项目 | F14: 直流高压发生器 | G14: 091108000010009 | H14: 1 | I14: 套 | J14: 玉溪供电局 | K14: 130000 | L14: 400kV5mA
A15: 14 | D15: 05080000271101620260827000 | E15: 普洱供电局2026年变电修试所直流高压试验装置等10台测试设备工器具购置 | F15: 直流高压发生器 | G15: 091108000010009 | H15: 2 | I15: 套 | J15: 普洱供电局 | K15: 260000 | L15: 400kV5mA
A16: 15 | D16: 05130000240001620260826000 | E16: 德宏供电局2026年变电修试所共计24台生产工器具及仪器仪表购置 | F16: 直流高压发生器 | G16: 091108000010009 | H16: 1 | I16: 套 | J16: 德宏供电局 | K16: 130000 | L16: 400kV5mA
A17: 16 | D17: 05050000458101620260826000 | E17: 大理供电局2026年购置2套300kV避雷器直流高压发生器测试仪 | F17: 直流高压发生器 | G17: 091108000010009 | H17: 2 | I17: 套 | J17: 大理供电局 | K17: 260000 | L17: 400kV5mA
A18: 17 | D18: 05030000516801620260825000 | E18: 红河供电局2026年直流高压试验装置（控制箱、直流高压发生器）、直流电阻测试仪、避雷器工频全电流及动作测试仪购置 | F18: 直流高压发生器 | G18: 091108000010009 | H18: 7 | I18: 套 | J18: 红河供电局 | K18: 910000 | L18: 400kV5mA
A19: 18 | D19: 05020000344301620260824000 | E19: 曲靖供电局2026年修试所直流高压发生器购置 | F19: 直流高压发生器 | G19: 091108000010009 | H19: 4 | I19: 套 | J19: 曲靖供电局 | K19: 520000 | L19: 400kV5mA
A20: 19 | D20: 05150000186001620260824000 | E20: 迪庆供电局变电修试所2026年变压器短路阻抗测试仪等共计11台测试设备购置 | F20: 直流高压发生器 | G20: 091108000010009 | H20: 1 | I20: 套 | J20: 迪庆供电局 | K20: 32400 | L20: 120kV3mA
A21: 20 | C21: 包3：电容电感测试仪 | D21: 05080000270901620260827000 | E21: 普洱供电局2026年变电修试所SF6综合分析仪等9台测试设备工器具购置 | F21: 电容电感测试仪 | G21: 090402600020001 | H21: 1 | I21: 个 | J21: 普洱供电局 | K21: 67200
A22: 21 | D22: 05140000066701620260827000 | E22: 丽江供电局2026年变电修试所共计15台工器具购置 | F22: 电容电感测试仪 | G22: 090402600020001 | H22: 2 | I22: 个 | J22: 丽江供电局 | K22: 134400
A23: 22 | D23: 05130000239501620260826000 | E23: 德宏供电局2026年变电修试所共计24台生产工器具及仪器仪表购置 | F23: 电容电感测试仪 | G23: 090402600020001 | H23: 3 | I23: 个 | J23: 德宏供电局 | K23: 201600 | L23: 包含相关配套附件
A24: 23 | D24: 05050000458201620260826000 | E24: 大理供电局变电修试所2026年购置1套电容电感测量仪 | F24: 电容电感测试仪 | G24: 090402600020001 | H24: 1 | I24: 个 | J24: 大理供电局 | K24: 67200
A25: 24 | D25: 05030000515901620260825000 | E25: 红河供电局2026年变电修试所电容电感测量仪等7类14台仪器购置 | F25: 电容电感测试仪 | G25: 090402600020001 | H25: 4 | I25: 个 | J25: 红河供电局 | K25: 268800
A26: 25 | D26: 05020000345301620260824000 | E26: 曲靖供电局2026年修试所电容电感测量仪购置 | F26: 电容电感测试仪 | G26: 090402600020001 | H26: 2 | I26: 个 | J26: 曲靖供电局 | K26: 134400
A27: 26 | D27: 05160000096501620260824000 | E27: 怒江供电局2026年变电修试所共计26台仪器仪表购置 | F27: 电容电感测试仪 | G27: 090402600020001 | H27: 1 | I27: 个 | J27: 怒江供电局 | K27: 67200
A28: 27 | D28: 05100000398301620260824000 | E28: 临沧供电局2026年变电修试所变压器绕组变形测试仪、直流电阻测试仪等共计39台设备购置 | F28: 电容电感测试仪 | G28: 090402600020001 | H28: 3 | I28: 个 | J28: 临沧供电局 | K28: 201600
A29: 28 | D29: 05070000394401620260824000 | E29: 昭通供电局2026年变电修试所电容电感测量仪共计3套工器具购置（工器具配置） | F29: 电容电感测试仪 | G29: 090402600020001 | H29: 3 | I29: 个 | J29: 昭通供电局 | K29: 201600
A30: 29 | C30: 包4：断路器动作特性测试仪 | D30: 05010000329201620260827000 | E30: 昆明供电局变电修试所2026年测试设备购置（断路器机械特性测试仪） | F30: 断路器动作特性测试仪 | G30: 030003000580 | H30: 3 | I30: 台 | J30: 昆明供电局 | K30: 699000
A31: 30 | D31: 05140000067501620260827000 | E31: 丽江供电局2026年变电修试所共计15台工器具购置 | F31: 断路器动作特性测试仪 | G31: 030003000580 | H31: 1 | I31: 台 | J31: 丽江供电局 | K31: 175000
A32: 31 | D32: 05030000517901620260825000 | E32: 红河供电局2026年变电修试所断路器机械特性测试仪、隔离开关触头夹紧力测试仪购置 | F32: 断路器动作特性测试仪 | G32: 030003000580 | H32: 3 | I32: 台 | J32: 红河供电局 | K32: 720000
A33: 32 | D33: 05150000181201620260821000 | E33: 迪庆供电局变电修试所2026年断路器机械特性测试仪等共计5件仪器仪表购置 | F33: 断路器动作特性测试仪 | G33: 030003000580 | H33: 2 | I33: 台 | J33: 迪庆供电局 | K33: 374000
A34: 33 | D34: 05070000363801620260821000 | E34: 昭通供电局2026年变电修试所断路器机械特性测试仪共计3套工器具购置（工器具配置） | F34: 断路器动作特性测试仪 | G34: 030003000580 | H34: 3 | I34: 台 | J34: 昭通供电局 | K34: 525000
A35: 34 | D35: 05110000516601620260820000 | E35: 文山供电局2026年变电修试所共计21台工器具购置 | F35: 断路器动作特性测试仪 | G35: 030003000580 | H35: 1 | I35: 台 | J35: 文山供电局 | K35: 175000
A36: 35 | D36: 05140000066601620260827000 | E36: 丽江供电局2026年变电修试所共计15台工器具购置 | F36: 断路器双端接地机械特性测试仪 | G36: 030003100994 | H36: 1 | I36: 台 | J36: 丽江供电局 | K36: 335000
A37: 36 | C37: 包5：SF6综合分析仪 | D37: 05040000062701620260903000 | E37: 玉溪供电局2026年变电修试所共计25台工器具购置项目 | F37: SF6综合分析仪 | G37: 090110500020001 | H37: 1 | I37: 个 | J37: 玉溪供电局 | K37: 198000
A38: 37 | D38: 05060000346201620260831000 | E38: 楚雄供电局2026年变电修试所共计8台工器具购置 | F38: SF6综合分析仪 | G38: 090110500020001 | H38: 2 | I38: 个 | J38: 楚雄供电局 | K38: 516000
A39: 38 | D39: 05100000450801620260828000 | E39: 临沧供电局2026年变电修试所变压器绕组变形测试仪、直流电阻测试仪等共计39台设备购置 | F39: SF6综合分析仪 | G39: 090110500020001 | H39: 1 | I39: 个 | J39: 临沧供电局 | K39: 258000
A40: 39 | D40: 05100000450701620260828000 | E40: 临沧供电局2026年变电修试所变压器短路阻抗测试仪、充电机检测仪等共计11台试验设备购置 | F40: SF6综合分析仪 | G40: 090110500020001 | H40: 2 | I40: 个 | J40: 临沧供电局 | K40: 516000
...

Sheet 核对 
A1: 序号 | B1: 标的名称 | C1: 标包名称 | D1: 需求计划明细单号 | E1: 项目名称 | F1: 标准物资名称 | G1: 物资品类编码 | H1: 采购数量 | I1: 计量单位 | J1: 物资需求单位 | K1: 总价最高限价（元） | L1: 备注
A2: 1 | B2: 标1：云南电网第二批测试设备仪器购置（公开招标） | C2: 包1：多倍频感应耐压测试仪 | D2: 05040000062301620260903000 | E2: 玉溪供电局2026年变电修试所共计25台工器具购置项目 | F2: 多倍频感应耐压测试仪 | G2: 091104500000004 | H2: 2 | I2: 台 | J2: 玉溪供电局 | K2: 175000 | L2: 输出功率：≥5kVA 供电电源：AC220V±10%、50±1Hz ★输出频率：45Hz～200Hz 频率调节细度：≤0.1Hz ★输出电压：0～360V ★输出电流：0～20A ★输出稳定度：≤1% 输出波形：正弦波 | M2: =D2&E2&F2&G2&H2&I2&J2&K2 -> 05040000062301620260903000玉溪供电局2026年变电修试所共计25台工器具购置项目多倍频感应耐压测试仪0911045000000042台玉溪供电局175000 | N2: 05040000062301620260903000玉溪供电局2026年变电修试所共计25台工器具购置项目多倍频感应耐压测试仪0911045000000042台玉溪供电局175000 | O2: =VLOOKUP(M2,[2]需求计划明细列表!$M:$M,1,FALSE) -> 05040000062301620260903000玉溪供电局2026年变电修试所共计25台工器具购置项目多倍频感应耐压测试仪0911045000000042台玉溪供电局175000 | P2: 05040000062301620260903000玉溪供电局2026年变电修试所共计25台工器具购置项目多倍频感应耐压测试仪0911045000000042台玉溪供电局175000
A3: 2 | B3: 标1：云南电网第二批测试设备仪器购置（公开招标） | C3: 包1：多倍频感应耐压测试仪 | D3: 05080000273201620260827000 | E3: 普洱供电局2026年变电修试所变压器短路阻抗测试仪等6台测试设备工器具购置 | F3: 多倍频感应耐压测试仪 | G3: 091104500000004 | H3: 1 | I3: 台 | J3: 普洱供电局 | K3: 87500 | L3: / | M3: =D3&E3&F3&G3&H3&I3&J3&K3 -> 05080000273201620260827000普洱供电局2026年变电修试所变压器短路阻抗测试仪等6台测试设备工器具购置多倍频感应耐压测试仪0911045000000041台普洱供电局87500 | N3: =VLOOKUP(M3,[1]Sheet1!$I:$I,1,FALSE) -> 05080000273201620260827000普洱供电局2026年变电修试所变压器短路阻抗测试仪等6台测试设备工器具购置多倍频感应耐压测试仪0911045000000041台普洱供电局87500 | O3: =VLOOKUP(M3,[2]需求计划明细列表!$M:$M,1,FALSE) -> #N/A | P3: #N/A
A4: 3 | B4: 标1：云南电网第二批测试设备仪器购置（公开招标） | C4: 包1：多倍频感应耐压测试仪 | D4: 05140000066801620260827000 | E4: 丽江供电局2026年变电修试所共计15台工器具购置 | F4: 多倍频感应耐压测试仪 | G4: 091104500000004 | H4: 1 | I4: 台 | J4: 丽江供电局 | K4: 87500 | M4: =D4&E4&F4&G4&H4&I4&J4&K4 -> 05140000066801620260827000丽江供电局2026年变电修试所共计15台工器具购置多倍频感应耐压测试仪0911045000000041台丽江供电局87500 | N4: =VLOOKUP(M4,[1]Sheet1!$I:$I,1,FALSE) -> 05140000066801620260827000丽江供电局2026年变电修试所共计15台工器具购置多倍频感应耐压测试仪0911045000000041台丽江供电局87500 | O4: =VLOOKUP(M4,[2]需求计划明细列表!$M:$M,1,FALSE) -> #N/A | P4: #N/A
A5: 4 | B5: 标1：云南电网第二批测试设备仪器购置（公开招标） | C5: 包1：多倍频感应耐压测试仪 | D5: 05130000239701620260826000 | E5: 德宏供电局2026年变电修试所共计24台生产工器具及仪器仪表购置 | F5: 多倍频感应耐压测试仪 | G5: 091104500000004 | H5: 1 | I5: 台 | J5: 德宏供电局 | K5: 87500 | L5: / | M5: =D5&E5&F5&G5&H5&I5&J5&K5 -> 05130000239701620260826000德宏供电局2026年变电修试所共计24台生产工器具及仪器仪表购置多倍频感应耐压测试仪0911045000000041台德宏供电局87500 | N5: =VLOOKUP(M5,[1]Sheet1!$I:$I,1,FALSE) -> 05130000239701620260826000德宏供电局2026年变电修试所共计24台生产工器具及仪器仪表购置多倍频感应耐压测试仪0911045000000041台德宏供电局87500 | O5: =VLOOKUP(M5,[2]需求计划明细列表!$M:$M,1,FALSE) -> #N/A | P5: #N/A
A6: 5 | B6: 标1：云南电网第二批测试设备仪器购置（公开招标） | C6: 包1：多倍频感应耐压测试仪 | D6: 05050000462801620260826000 | E6: 大理供电局2026年变电修试所共计19台工器具购置 | F6: 多倍频感应耐压测试仪 | G6: 091104500000004 | H6: 1 | I6: 台 | J6: 大理供电局 | K6: 87500 | L6: 输出功率：≥5kVA 供电电源：AC220V±10%、50±1Hz ★输出频率：45Hz～200Hz 频率调节细度：≤0.1Hz ★输出电压：0～360V ★输出电流：0～20A ★输出稳定度：≤1% 输出波形：正弦波 | M6: =D6&E6&F6&G6&H6&I6&J6&K6 -> 05050000462801620260826000大理供电局2026年变电修试所共计19台工器具购置多倍频感应耐压测试仪0911045000000041台大理供电局87500 | N6: 05050000462801620260826000大理供电局2026年变电修试所共计19台工器具购置多倍频感应耐压测试仪0911045000000041台大理供电局87500 | O6: =VLOOKUP(M6,[2]需求计划明细列表!$M:$M,1,FALSE) -> 05050000462801620260826000大理供电局2026年变电修试所共计19台工器具购置多倍频感应耐压测试仪0911045000000041台大理供电局87500 | P6: 05050000462801620260826000大理供电局2026年变电修试所共计19台工器具购置多倍频感应耐压测试仪0911045000000041台大理供电局87500
A7: 6 | B7: 标1：云南电网第二批测试设备仪器购置（公开招标） | C7: 包1：多倍频感应耐压测试仪 | D7: 05030000515501620260825000 | E7: 红河供电局2026年变电修试所电容电感测量仪等7类14台仪器购置 | F7: 多倍频感应耐压测试仪 | G7: 091104500000004 | H7: 1 | I7: 台 | J7: 红河供电局 | K7: 87500 | L7: 输出功率：≥5kVA 供电电源：AC220V±10%、50±1Hz ★输出频率：45Hz～200Hz 频率调节细度：≤0.1Hz ★输出电压：0～360V ★输出电流：0～20A ★输出稳定度：≤1% 输出波形：正弦波 | M7: =D7&E7&F7&G7&H7&I7&J7&K7 -> 05030000515501620260825000红河供电局2026年变电修试所电容电感测量仪等7类14台仪器购置多倍频感应耐压测试仪0911045000000041台红河供电局87500 | N7: 05030000515501620260825000红河供电局2026年变电修试所电容电感测量仪等7类14台仪器购置多倍频感应耐压测试仪0911045000000041台红河供电局87500 | O7: =VLOOKUP(M7,[2]需求计划明细列表!$M:$M,1,FALSE) -> 05030000515501620260825000红河供电局2026年变电修试所电容电感测量仪等7类14台仪器购置多倍频感应耐压测试仪0911045000000041台红河供电局87500 | P7: 05030000515501620260825000红河供电局2026年变电修试所电容电感测量仪等7类14台仪器购置多倍频感应耐压测试仪0911045000000041台红河供电局87500
A8: 7 | B8: 标1：云南电网第二批测试设备仪器购置（公开招标） | C8: 包1：多倍频感应耐压测试仪 | D8: 05020000345401620260824000 | E8: 曲靖供电局2026年修试所倍频感应耐压测试仪购置 | F8: 多倍频感应耐压测试仪 | G8: 091104500000004 | H8: 1 | I8: 台 | J8: 曲靖供电局 | K8: 87500 | M8: =D8&E8&F8&G8&H8&I8&J8&K8 -> 05020000345401620260824000曲靖供电局2026年修试所倍频感应耐压测试仪购置多倍频感应耐压测试仪0911045000000041台曲靖供电局87500 | N8: 05020000345401620260824000曲靖供电局2026年修试所倍频感应耐压测试仪购置多倍频感应耐压测试仪0911045000000041台曲靖供电局87500 | O8: =VLOOKUP(M8,[2]需求计划明细列表!$M:$M,1,FALSE) -> 05020000345401620260824000曲靖供电局2026年修试所倍频感应耐压测试仪购置多倍频感应耐压测试仪0911045000000041台曲靖供电局87500 | P8: 05020000345401620260824000曲靖供电局2026年修试所倍频感应耐压测试仪购置多倍频感应耐压测试仪0911045000000041台曲靖供电局87500
A9: 8 | B9: 标1：云南电网第二批测试设备仪器购置（公开招标） | C9: 包1：多倍频感应耐压测试仪 | D9: 05100000403001620260824000 | E9: 临沧供电局2026年变电修试所变压器绕组变形测试仪、直流电阻测试仪等共计39台设备购置 | F9: 多倍频感应耐压测试仪 | G9: 091104500000004 | H9: 2 | I9: 台 | J9: 临沧供电局 | K9: 175000 | L9: / | M9: =D9&E9&F9&G9&H9&I9&J9&K9 -> 05100000403001620260824000临沧供电局2026年变电修试所变压器绕组变形测试仪、直流电阻测试仪等共计39台设备购置多倍频感应耐压测试仪0911045000000042台临沧供电局175000 | N9: =VLOOKUP(M9,[1]Sheet1!$I:$I,1,FALSE) -> 05100000403001620260824000临沧供电局2026年变电修试所变压器绕组变形测试仪、直流电阻测试仪等共计39台设备购置多倍频感应耐压测试仪0911045000000042台临沧供电局175000 | O9: =VLOOKUP(M9,[2]需求计划明细列表!$M:$M,1,FALSE) -> #N/A | P9: #N/A
A10: 9 | B10: 标1：云南电网第二批测试设备仪器购置（公开招标） | C10: 包1：多倍频感应耐压测试仪 | D10: 05070000401901620260824000 | E10: 昭通供电局2026年变电修试所35kV及以下多倍频感应耐压试验装置（含控制箱、倍频电源、互感器综合测试仪）共计2套工器具购置（工器具配置） | F10: 多倍频感应耐压测试仪 | G10: 091104500000004 | H10: 1 | I10: 台 | J10: 昭通供电局 | K10: 87500 | L10: / | M10: =D10&E10&F10&G10&H10&I10&J10&K10 -> 05070000401901620260824000昭通供电局2026年变电修试所35kV及以下多倍频感应耐压试验装置（含控制箱、倍频电源、互感器综合测试仪）共计2套工器具购置（工器具配置）多倍频感应耐压测试仪0911045000000041台昭通供电局87500 | N10: 05070000401901620260824000昭通供电局2026年变电修试所35kV及以下多倍频感应耐压试验装置（含控制箱、倍频电源、互感器综合测试仪）共计2套工器具购置（工器具配置）多倍频感应耐压测试仪0911045000000041台昭通供电局87500 | O10: =VLOOKUP(M10,[2]需求计划明细列表!$M:$M,1,FALSE) -> 05070000401901620260824000昭通供电局2026年变电修试所35kV及以下多倍频感应耐压试验装置（含控制箱、倍频电源、互感器综合测试仪）共计2套工器具购置（工器具配置）多倍频感应耐压测试仪0911045000000041台昭通供电局87500 | P10: 05070000401901620260824000昭通供电局2026年变电修试所35kV及以下多倍频感应耐压试验装置（含控制箱、倍频电源、互感器综合测试仪）共计2套工器具购置（工器具配置）多倍频感应耐压测试仪0911045000000041台昭通供电局87500
A11: 10 | B11: 标1：云南电网第二批测试设备仪器购置（公开招标） | C11: 包1：多倍频感应耐压测试仪 | D11: 05160000096201620260824000 | E11: 怒江供电局2026年变电修试所共计26台仪器仪表购置 | F11: 多倍频感应耐压测试仪 | G11: 091104500000004 | H11: 1 | I11: 台 | J11: 怒江供电局 | K11: 87500 | M11: =D11&E11&F11&G11&H11&I11&J11&K11 -> 05160000096201620260824000怒江供电局2026年变电修试所共计26台仪器仪表购置多倍频感应耐压测试仪0911045000000041台怒江供电局87500 | N11: 05160000096201620260824000怒江供电局2026年变电修试所共计26台仪器仪表购置多倍频感应耐压测试仪0911045000000041台怒江供电局87500 | O11: =VLOOKUP(M11,[2]需求计划明细列表!$M:$M,1,FALSE) -> 05160000096201620260824000怒江供电局2026年变电修试所共计26台仪器仪表购置多倍频感应耐压测试仪0911045000000041台怒江供电局87500 | P11: 05160000096201620260824000怒江供电局2026年变电修试所共计26台仪器仪表购置多倍频感应耐压测试仪0911045000000041台怒江供电局87500
A12: 11 | B12: 标1：云南电网第二批测试设备仪器购置（公开招标） | C12: 包1：多倍频感应耐压测试仪 | D12: 05150000186101620260824000 | E12: 迪庆供电局变电修试所2026年变压器短路阻抗测试仪等共计11台测试设备购置 | F12: 多倍频感应耐压测试仪 | G12: 091104500000004 | H12: 1 | I12: 台 | J12: 迪庆供电局 | K12: 87500 | L12: 输出功率：≥5kVA 供电电源：AC220V±10%、50±1Hz ★输出频率：45Hz～200Hz 频率调节细度：≤0.1Hz ★输出电压：0～360V ★输出电流：0～20A ★输出稳定度：≤1% 输出波形：正弦波 | M12: =D12&E12&F12&G12&H12&I12&J12&K12 -> 05150000186101620260824000迪庆供电局变电修试所2026年变压器短路阻抗测试仪等共计11台测试设备购置多倍频感应耐压测试仪0911045000000041台迪庆供电局87500 | N12: =VLOOKUP(M12,[1]Sheet1!$I:$I,1,FALSE) -> 05150000186101620260824000迪庆供电局变电修试所2026年变压器短路阻抗测试仪等共计11台测试设备购置多倍频感应耐压测试仪0911045000000041台迪庆供电局87500 | O12: =VLOOKUP(M12,[2]需求计划明细列表!$M:$M,1,FALSE) -> #N/A | P12: #N/A
A13: 12 | B13: 标1：云南电网第二批测试设备仪器购置（公开招标） | C13: 包1：多倍频感应耐压测试仪 | D13: 05110000517101620260820000 | E13: 文山供电局2026年变电修试所共计21台工器具购置 | F13: 多倍频感应耐压测试仪 | G13: 091104500000004 | H13: 3 | I13: 台 | J13: 文山供电局 | K13: 262500 | M13: =D13&E13&F13&G13&H13&I13&J13&K13 -> 05110000517101620260820000文山供电局2026年变电修试所共计21台工器具购置多倍频感应耐压测试仪0911045000000043台文山供电局262500 | N13: 05110000517101620260820000文山供电局2026年变电修试所共计21台工器具购置多倍频感应耐压测试仪0911045000000043台文山供电局262500 | O13: =VLOOKUP(M13,[2]需求计划明细列表!$M:$M,1,FALSE) -> 05110000517101620260820000文山供电局2026年变电修试所共计21台工器具购置多倍频感应耐压测试仪0911045000000043台文山供电局262500 | P13: 05110000517101620260820000文山供电局2026年变电修试所共计21台工器具购置多倍频感应耐压测试仪0911045000000043台文山供电局262500
A14: 13 | B14: 标1：云南电网第二批测试设备仪器购置（公开招标） | C14: 包2：直流高压发生器 | D14: 05040000062601620260903000 | E14: 玉溪供电局2026年变电修试所共计25台工器具购置项目 | F14: 直流高压发生器 | G14: 091108000010009 | H14: 1 | I14: 套 | J14: 玉溪供电局 | K14: 130000 | L14: 400kV5mA | M14: =D14&E14&F14&G14&H14&I14&J14&K14 -> 05040000062601620260903000玉溪供电局2026年变电修试所共计25台工器具购置项目直流高压发生器0911080000100091套玉溪供电局130000 | N14: 05040000062601620260903000玉溪供电局2026年变电修试所共计25台工器具购置项目直流高压发生器0911080000100091套玉溪供电局130000 | O14: =VLOOKUP(M14,[2]需求计划明细列表!$M:$M,1,FALSE) -> 05040000062601620260903000玉溪供电局2026年变电修试所共计25台工器具购置项目直流高压发生器0911080000100091套玉溪供电局130000 | P14: 05040000062601620260903000玉溪供电局2026年变电修试所共计25台工器具购置项目直流高压发生器0911080000100091套玉溪供电局130000
A15: 14 | B15: 标1：云南电网第二批测试设备仪器购置（公开招标） | C15: 包2：直流高压发生器 | D15: 05080000271101620260827000 | E15: 普洱供电局2026年变电修试所直流高压试验装置等10台测试设备工器具购置 | F15: 直流高压发生器 | G15: 091108000010009 | H15: 2 | I15: 套 | J15: 普洱供电局 | K15: 260000 | L15: 400kV5mA | M15: =D15&E15&F15&G15&H15&I15&J15&K15 -> 05080000271101620260827000普洱供电局2026年变电修试所直流高压试验装置等10台测试设备工器具购置直流高压发生器0911080000100092套普洱供电局260000 | N15: =VLOOKUP(M15,[1]Sheet1!$I:$I,1,FALSE) -> 05080000271101620260827000普洱供电局2026年变电修试所直流高压试验装置等10台测试设备工器具购置直流高压发生器0911080000100092套普洱供电局260000 | O15: =VLOOKUP(M15,[2]需求计划明细列表!$M:$M,1,FALSE) -> #N/A | P15: #N/A
A16: 15 | B16: 标1：云南电网第二批测试设备仪器购置（公开招标） | C16: 包2：直流高压发生器 | D16: 05130000240001620260826000 | E16: 德宏供电局2026年变电修试所共计24台生产工器具及仪器仪表购置 | F16: 直流高压发生器 | G16: 091108000010009 | H16: 1 | I16: 套 | J16: 德宏供电局 | K16: 130000 | L16: 400kV5mA | M16: =D16&E16&F16&G16&H16&I16&J16&K16 -> 05130000240001620260826000德宏供电局2026年变电修试所共计24台生产工器具及仪器仪表购置直流高压发生器0911080000100091套德宏供电局130000 | N16: =VLOOKUP(M16,[1]Sheet1!$I:$I,1,FALSE) -> 05130000240001620260826000德宏供电局2026年变电修试所共计24台生产工器具及仪器仪表购置直流高压发生器0911080000100091套德宏供电局130000 | O16: =VLOOKUP(M16,[2]需求计划明细列表!$M:$M,1,FALSE) -> #N/A | P16: #N/A
A17: 16 | B17: 标1：云南电网第二批测试设备仪器购置（公开招标） | C17: 包2：直流高压发生器 | D17: 05050000458101620260826000 | E17: 大理供电局2026年购置2套300kV避雷器直流高压发生器测试仪 | F17: 直流高压发生器 | G17: 091108000010009 | H17: 2 | I17: 套 | J17: 大理供电局 | K17: 260000 | L17: 400kV5mA | M17: =D17&E17&F17&G17&H17&I17&J17&K17 -> 05050000458101620260826000大理供电局2026年购置2套300kV避雷器直流高压发生器测试仪直流高压发生器0911080000100092套大理供电局260000 | N17: 05050000458101620260826000大理供电局2026年购置2套300kV避雷器直流高压发生器测试仪直流高压发生器0911080000100092套大理供电局260000 | O17: =VLOOKUP(M17,[2]需求计划明细列表!$M:$M,1,FALSE) -> 05050000458101620260826000大理供电局2026年购置2套300kV避雷器直流高压发生器测试仪直流高压发生器0911080000100092套大理供电局260000 | P17: 05050000458101620260826000大理供电局2026年购置2套300kV避雷器直流高压发生器测试仪直流高压发生器0911080000100092套大理供电局260000
A18: 17 | B18: 标1：云南电网第二批测试设备仪器购置（公开招标） | C18: 包2：直流高压发生器 | D18: 05030000516801620260825000 | E18: 红河供电局2026年直流高压试验装置（控制箱、直流高压发生器）、直流电阻测试仪、避雷器工频全电流及动作测试仪购置 | F18: 直流高压发生器 | G18: 091108000010009 | H18: 7 | I18: 套 | J18: 红河供电局 | K18: 910000 | L18: 400kV5mA | M18: =D18&E18&F18&G18&H18&I18&J18&K18 -> 05030000516801620260825000红河供电局2026年直流高压试验装置（控制箱、直流高压发生器）、直流电阻测试仪、避雷器工频全电流及动作测试仪购置直流高压发生器0911080000100097套红河供电局910000 | N18: 05030000516801620260825000红河供电局2026年直流高压试验装置（控制箱、直流高压发生器）、直流电阻测试仪、避雷器工频全电流及动作测试仪购置直流高压发生器0911080000100097套红河供电局910000 | O18: =VLOOKUP(M18,[2]需求计划明细列表!$M:$M,1,FALSE) -> 05030000516801620260825000红河供电局2026年直流高压试验装置（控制箱、直流高压发生器）、直流电阻测试仪、避雷器工频全电流及动作测试仪购置直流高压发生器0911080000100097套红河供电局910000 | P18: 05030000516801620260825000红河供电局2026年直流高压试验装置（控制箱、直流高压发生器）、直流电阻测试仪、避雷器工频全电流及动作测试仪购置直流高压发生器0911080000100097套红河供电局910000
A19: 18 | B19: 标1：云南电网第二批测试设备仪器购置（公开招标） | C19: 包2：直流高压发生器 | D19: 05020000344301620260824000 | E19: 曲靖供电局2026年修试所直流高压发生器购置 | F19: 直流高压发生器 | G19: 091108000010009 | H19: 4 | I19: 套 | J19: 曲靖供电局 | K19: 520000 | L19: 400kV5mA | M19: =D19&E19&F19&G19&H19&I19&J19&K19 -> 05020000344301620260824000曲靖供电局2026年修试所直流高压发生器购置直流高压发生器0911080000100094套曲靖供电局520000 | N19: 05020000344301620260824000曲靖供电局2026年修试所直流高压发生器购置直流高压发生器0911080000100094套曲靖供电局520000 | O19: =VLOOKUP(M19,[2]需求计划明细列表!$M:$M,1,FALSE) -> 05020000344301620260824000曲靖供电局2026年修试所直流高压发生器购置直流高压发生器0911080000100094套曲靖供电局520000 | P19: 05020000344301620260824000曲靖供电局2026年修试所直流高压发生器购置直流高压发生器0911080000100094套曲靖供电局520000
A20: 19 | B20: 标1：云南电网第二批测试设备仪器购置（公开招标） | C20: 包2：直流高压发生器 | D20: 05150000186001620260824000 | E20: 迪庆供电局变电修试所2026年变压器短路阻抗测试仪等共计11台测试设备购置 | F20: 直流高压发生器 | G20: 091108000010009 | H20: 1 | I20: 套 | J20: 迪庆供电局 | K20: 32400 | L20: 120kV3mA | M20: =D20&E20&F20&G20&H20&I20&J20&K20 -> 05150000186001620260824000迪庆供电局变电修试所2026年变压器短路阻抗测试仪等共计11台测试设备购置直流高压发生器0911080000100091套迪庆供电局32400 | N20: #N/A | O20: =VLOOKUP(M20,[2]需求计划明细列表!$M:$M,1,FALSE) -> #N/A | P20: #N/A
A21: 20 | B21: 标1：云南电网第二批测试设备仪器购置（公开招标） | C21: 包3：电容电感测试仪 | D21: 05080000270901620260827000 | E21: 普洱供电局2026年变电修试所SF6综合分析仪等9台测试设备工器具购置 | F21: 电容电感测试仪 | G21: 090402600020001 | H21: 1 | I21: 个 | J21: 普洱供电局 | K21: 67200 | M21: =D21&E21&F21&G21&H21&I21&J21&K21 -> 05080000270901620260827000普洱供电局2026年变电修试所SF6综合分析仪等9台测试设备工器具购置电容电感测试仪0904026000200011个普洱供电局67200 | N21: 05080000270901620260827000普洱供电局2026年变电修试所SF6综合分析仪等9台测试设备工器具购置电容电感测试仪0904026000200011个普洱供电局67200 | O21: =VLOOKUP(M21,[2]需求计划明细列表!$M:$M,1,FALSE) -> 05080000270901620260827000普洱供电局2026年变电修试所SF6综合分析仪等9台测试设备工器具购置电容电感测试仪0904026000200011个普洱供电局67200 | P21: 05080000270901620260827000普洱供电局2026年变电修试所SF6综合分析仪等9台测试设备工器具购置电容电感测试仪0904026000200011个普洱供电局67200
A22: 21 | B22: 标1：云南电网第二批测试设备仪器购置（公开招标） | C22: 包3：电容电感测试仪 | D22: 05140000066701620260827000 | E22: 丽江供电局2026年变电修试所共计15台工器具购置 | F22: 电容电感测试仪 | G22: 090402600020001 | H22: 2 | I22: 个 | J22: 丽江供电局 | K22: 134400 | M22: =D22&E22&F22&G22&H22&I22&J22&K22 -> 05140000066701620260827000丽江供电局2026年变电修试所共计15台工器具购置电容电感测试仪0904026000200012个丽江供电局134400 | N22: =VLOOKUP(M22,[1]Sheet1!$I:$I,1,FALSE) -> 05140000066701620260827000丽江供电局2026年变电修试所共计15台工器具购置电容电感测试仪0904026000200012个丽江供电局134400 | O22: =VLOOKUP(M22,[2]需求计划明细列表!$M:$M,1,FALSE) -> #N/A | P22: #N/A
A23: 22 | B23: 标1：云南电网第二批测试设备仪器购置（公开招标） | C23: 包3：电容电感测试仪 | D23: 05130000239501620260826000 | E23: 德宏供电局2026年变电修试所共计24台生产工器具及仪器仪表购置 | F23: 电容电感测试仪 | G23: 090402600020001 | H23: 3 | I23: 个 | J23: 德宏供电局 | K23: 201600 | L23: 包含相关配套附件 | M23: =D23&E23&F23&G23&H23&I23&J23&K23 -> 05130000239501620260826000德宏供电局2026年变电修试所共计24台生产工器具及仪器仪表购置电容电感测试仪0904026000200013个德宏供电局201600 | N23: 05130000239501620260826000德宏供电局2026年变电修试所共计24台生产工器具及仪器仪表购置电容电感测试仪0904026000200013个德宏供电局201600 | O23: =VLOOKUP(M23,[2]需求计划明细列表!$M:$M,1,FALSE) -> 05130000239501620260826000德宏供电局2026年变电修试所共计24台生产工器具及仪器仪表购置电容电感测试仪0904026000200013个德宏供电局201600 | P23: 05130000239501620260826000德宏供电局2026年变电修试所共计24台生产工器具及仪器仪表购置电容电感测试仪0904026000200013个德宏供电局201600
A24: 23 | B24: 标1：云南电网第二批测试设备仪器购置（公开招标） | C24: 包3：电容电感测试仪 | D24: 05050000458201620260826000 | E24: 大理供电局变电修试所2026年购置1套电容电感测量仪 | F24: 电容电感测试仪 | G24: 090402600020001 | H24: 1 | I24: 个 | J24: 大理供电局 | K24: 67200 | M24: =D24&E24&F24&G24&H24&I24&J24&K24 -> 05050000458201620260826000大理供电局变电修试所2026年购置1套电容电感测量仪电容电感测试仪0904026000200011个大理供电局67200 | N24: 05050000458201620260826000大理供电局变电修试所2026年购置1套电容电感测量仪电容电感测试仪0904026000200011个大理供电局67200 | O24: =VLOOKUP(M24,[2]需求计划明细列表!$M:$M,1,FALSE) -> 05050000458201620260826000大理供电局变电修试所2026年购置1套电容电感测量仪电容电感测试仪0904026000200011个大理供电局67200 | P24: 05050000458201620260826000大理供电局变电修试所2026年购置1套电容电感测量仪电容电感测试仪0904026000200011个大理供电局67200
A25: 24 | B25: 标1：云南电网第二批测试设备仪器购置（公开招标） | C25: 包3：电容电感测试仪 | D25: 05030000515901620260825000 | E25: 红河供电局2026年变电修试所电容电感测量仪等7类14台仪器购置 | F25: 电容电感测试仪 | G25: 090402600020001 | H25: 4 | I25: 个 | J25: 红河供电局 | K25: 268800 | M25: =D25&E25&F25&G25&H25&I25&J25&K25 -> 05030000515901620260825000红河供电局2026年变电修试所电容电感测量仪等7类14台仪器购置电容电感测试仪0904026000200014个红河供电局268800 | N25: 05030000515901620260825000红河供电局2026年变电修试所电容电感测量仪等7类14台仪器购置电容电感测试仪0904026000200014个红河供电局268800 | O25: =VLOOKUP(M25,[2]需求计划明细列表!$M:$M,1,FALSE) -> 05030000515901620260825000红河供电局2026年变电修试所电容电感测量仪等7类14台仪器购置电容电感测试仪0904026000200014个红河供电局268800 | P25: 05030000515901620260825000红河供电局2026年变电修试所电容电感测量仪等7类14台仪器购置电容电感测试仪0904026000200014个红河供电局268800
A26: 25 | B26: 标1：云南电网第二批测试设备仪器购置（公开招标） | C26: 包3：电容电感测试仪 | D26: 05020000345301620260824000 | E26: 曲靖供电局2026年修试所电容电感测量仪购置 | F26: 电容电感测试仪 | G26: 090402600020001 | H26: 2 | I26: 个 | J26: 曲靖供电局 | K26: 134400 | M26: =D26&E26&F26&G26&H26&I26&J26&K26 -> 05020000345301620260824000曲靖供电局2026年修试所电容电感测量仪购置电容电感测试仪0904026000200012个曲靖供电局134400 | N26: 05020000345301620260824000曲靖供电局2026年修试所电容电感测量仪购置电容电感测试仪0904026000200012个曲靖供电局134400 | O26: =VLOOKUP(M26,[2]需求计划明细列表!$M:$M,1,FALSE) -> 05020000345301620260824000曲靖供电局2026年修试所电容电感测量仪购置电容电感测试仪0904026000200012个曲靖供电局134400 | P26: 05020000345301620260824000曲靖供电局2026年修试所电容电感测量仪购置电容电感测试仪0904026000200012个曲靖供电局134400
A27: 26 | B27: 标1：云南电网第二批测试设备仪器购置（公开招标） | C27: 包3：电容电感测试仪 | D27: 05160000096501620260824000 | E27: 怒江供电局2026年变电修试所共计26台仪器仪表购置 | F27: 电容电感测试仪 | G27: 090402600020001 | H27: 1 | I27: 个 | J27: 怒江供电局 | K27: 67200 | M27: =D27&E27&F27&G27&H27&I27&J27&K27 -> 05160000096501620260824000怒江供电局2026年变电修试所共计26台仪器仪表购置电容电感测试仪0904026000200011个怒江供电局67200 | N27: 05160000096501620260824000怒江供电局2026年变电修试所共计26台仪器仪表购置电容电感测试仪0904026000200011个怒江供电局67200 | O27: =VLOOKUP(M27,[2]需求计划明细列表!$M:$M,1,FALSE) -> 05160000096501620260824000怒江供电局2026年变电修试所共计26台仪器仪表购置电容电感测试仪0904026000200011个怒江供电局67200 | P27: 05160000096501620260824000怒江供电局2026年变电修试所共计26台仪器仪表购置电容电感测试仪0904026000200011个怒江供电局67200
A28: 27 | B28: 标1：云南电网第二批测试设备仪器购置（公开招标） | C28: 包3：电容电感测试仪 | D28: 05100000398301620260824000 | E28: 临沧供电局2026年变电修试所变压器绕组变形测试仪、直流电阻测试仪等共计39台设备购置 | F28: 电容电感测试仪 | G28: 090402600020001 | H28: 3 | I28: 个 | J28: 临沧供电局 | K28: 201600 | M28: =D28&E28&F28&G28&H28&I28&J28&K28 -> 05100000398301620260824000临沧供电局2026年变电修试所变压器绕组变形测试仪、直流电阻测试仪等共计39台设备购置电容电感测试仪0904026000200013个临沧供电局201600 | N28: =VLOOKUP(M28,[1]Sheet1!$I:$I,1,FALSE) -> 05100000398301620260824000临沧供电局2026年变电修试所变压器绕组变形测试仪、直流电阻测试仪等共计39台设备购置电容电感测试仪0904026000200013个临沧供电局201600 | O28: =VLOOKUP(M28,[2]需求计划明细列表!$M:$M,1,FALSE) -> #N/A | P28: #N/A
A29: 28 | B29: 标1：云南电网第二批测试设备仪器购置（公开招标） | C29: 包3：电容电感测试仪 | D29: 05070000394401620260824000 | E29: 昭通供电局2026年变电修试所电容电感测量仪共计3套工器具购置（工器具配置） | F29: 电容电感测试仪 | G29: 090402600020001 | H29: 3 | I29: 个 | J29: 昭通供电局 | K29: 201600 | M29: =D29&E29&F29&G29&H29&I29&J29&K29 -> 05070000394401620260824000昭通供电局2026年变电修试所电容电感测量仪共计3套工器具购置（工器具配置）电容电感测试仪0904026000200013个昭通供电局201600 | N29: 05070000394401620260824000昭通供电局2026年变电修试所电容电感测量仪共计3套工器具购置（工器具配置）电容电感测试仪0904026000200013个昭通供电局201600 | O29: =VLOOKUP(M29,[2]需求计划明细列表!$M:$M,1,FALSE) -> 05070000394401620260824000昭通供电局2026年变电修试所电容电感测量仪共计3套工器具购置（工器具配置）电容电感测试仪0904026000200013个昭通供电局201600 | P29: 05070000394401620260824000昭通供电局2026年变电修试所电容电感测量仪共计3套工器具购置（工器具配置）电容电感测试仪0904026000200013个昭通供电局201600
A30: 29 | B30: 标1：云南电网第二批测试设备仪器购置（公开招标） | C30: 包4：断路器动作特性测试仪 | D30: 05010000329201620260827000 | E30: 昆明供电局变电修试所2026年测试设备购置（断路器机械特性测试仪） | F30: 断路器动作特性测试仪 | G30: 030003000580 | H30: 3 | I30: 台 | J30: 昆明供电局 | K30: 699000 | M30: =D30&E30&F30&G30&H30&I30&J30&K30 -> 05010000329201620260827000昆明供电局变电修试所2026年测试设备购置（断路器机械特性测试仪）断路器动作特性测试仪0300030005803台昆明供电局699000 | N30: =VLOOKUP(M30,[1]Sheet1!$I:$I,1,FALSE) -> 05010000329201620260827000昆明供电局变电修试所2026年测试设备购置（断路器机械特性测试仪）断路器动作特性测试仪0300030005803台昆明供电局699000 | O30: =VLOOKUP(M30,[2]需求计划明细列表!$M:$M,1,FALSE) -> #N/A | P30: #N/A
A31: 30 | B31: 标1：云南电网第二批测试设备仪器购置（公开招标） | C31: 包4：断路器动作特性测试仪 | D31: 05140000067501620260827000 | E31: 丽江供电局2026年变电修试所共计15台工器具购置 | F31: 断路器动作特性测试仪 | G31: 030003000580 | H31: 1 | I31: 台 | J31: 丽江供电局 | K31: 175000 | M31: =D31&E31&F31&G31&H31&I31&J31&K31 -> 05140000067501620260827000丽江供电局2026年变电修试所共计15台工器具购置断路器动作特性测试仪0300030005801台丽江供电局175000 | N31: =VLOOKUP(M31,[1]Sheet1!$I:$I,1,FALSE) -> 05140000067501620260827000丽江供电局2026年变电修试所共计15台工器具购置断路器动作特性测试仪0300030005801台丽江供电局175000 | O31: =VLOOKUP(M31,[2]需求计划明细列表!$M:$M,1,FALSE) -> #N/A | P31: #N/A
A32: 31 | B32: 标1：云南电网第二批测试设备仪器购置（公开招标） | C32: 包4：断路器动作特性测试仪 | D32: 05030000517901620260825000 | E32: 红河供电局2026年变电修试所断路器机械特性测试仪、隔离开关触头夹紧力测试仪购置 | F32: 断路器动作特性测试仪 | G32: 030003000580 | H32: 3 | I32: 台 | J32: 红河供电局 | K32: 720000 | M32: =D32&E32&F32&G32&H32&I32&J32&K32 -> 05030000517901620260825000红河供电局2026年变电修试所断路器机械特性测试仪、隔离开关触头夹紧力测试仪购置断路器动作特性测试仪0300030005803台红河供电局720000 | N32: =VLOOKUP(M32,[1]Sheet1!$I:$I,1,FALSE) -> 05030000517901620260825000红河供电局2026年变电修试所断路器机械特性测试仪、隔离开关触头夹紧力测试仪购置断路器动作特性测试仪0300030005803台红河供电局720000 | O32: =VLOOKUP(M32,[2]需求计划明细列表!$M:$M,1,FALSE) -> #N/A | P32: #N/A
A33: 32 | B33: 标1：云南电网第二批测试设备仪器购置（公开招标） | C33: 包4：断路器动作特性测试仪 | D33: 05150000181201620260821000 | E33: 迪庆供电局变电修试所2026年断路器机械特性测试仪等共计5件仪器仪表购置 | F33: 断路器动作特性测试仪 | G33: 030003000580 | H33: 2 | I33: 台 | J33: 迪庆供电局 | K33: 374000 | M33: =D33&E33&F33&G33&H33&I33&J33&K33 -> 05150000181201620260821000迪庆供电局变电修试所2026年断路器机械特性测试仪等共计5件仪器仪表购置断路器动作特性测试仪0300030005802台迪庆供电局374000 | N33: =VLOOKUP(M33,[1]Sheet1!$I:$I,1,FALSE) -> 05150000181201620260821000迪庆供电局变电修试所2026年断路器机械特性测试仪等共计5件仪器仪表购置断路器动作特性测试仪0300030005802台迪庆供电局374000 | O33: =VLOOKUP(M33,[2]需求计划明细列表!$M:$M,1,FALSE) -> #N/A | P33: #N/A
A34: 33 | B34: 标1：云南电网第二批测试设备仪器购置（公开招标） | C34: 包4：断路器动作特性测试仪 | D34: 05070000363801620260821000 | E34: 昭通供电局2026年变电修试所断路器机械特性测试仪共计3套工器具购置（工器具配置） | F34: 断路器动作特性测试仪 | G34: 030003000580 | H34: 3 | I34: 台 | J34: 昭通供电局 | K34: 525000 | M34: =D34&E34&F34&G34&H34&I34&J34&K34 -> 05070000363801620260821000昭通供电局2026年变电修试所断路器机械特性测试仪共计3套工器具购置（工器具配置）断路器动作特性测试仪0300030005803台昭通供电局525000 | N34: =VLOOKUP(M34,[1]Sheet1!$I:$I,1,FALSE) -> 05070000363801620260821000昭通供电局2026年变电修试所断路器机械特性测试仪共计3套工器具购置（工器具配置）断路器动作特性测试仪0300030005803台昭通供电局525000 | O34: =VLOOKUP(M34,[2]需求计划明细列表!$M:$M,1,FALSE) -> #N/A | P34: #N/A
A35: 34 | B35: 标1：云南电网第二批测试设备仪器购置（公开招标） | C35: 包4：断路器动作特性测试仪 | D35: 05110000516601620260820000 | E35: 文山供电局2026年变电修试所共计21台工器具购置 | F35: 断路器动作特性测试仪 | G35: 030003000580 | H35: 1 | I35: 台 | J35: 文山供电局 | K35: 175000 | M35: =D35&E35&F35&G35&H35&I35&J35&K35 -> 05110000516601620260820000文山供电局2026年变电修试所共计21台工器具购置断路器动作特性测试仪0300030005801台文山供电局175000 | N35: 05110000516601620260820000文山供电局2026年变电修试所共计21台工器具购置断路器动作特性测试仪0300030005801台文山供电局175000 | O35: =VLOOKUP(M35,[2]需求计划明细列表!$M:$M,1,FALSE) -> 05110000516601620260820000文山供电局2026年变电修试所共计21台工器具购置断路器动作特性测试仪0300030005801台文山供电局175000 | P35: 05110000516601620260820000文山供电局2026年变电修试所共计21台工器具购置断路器动作特性测试仪0300030005801台文山供电局175000
A36: 35 | B36: 标1：云南电网第二批测试设备仪器购置（公开招标） | C36: 包4：断路器动作特性测试仪 | D36: 05140000066601620260827000 | E36: 丽江供电局2026年变电修试所共计15台工器具购置 | F36: 断路器双端接地机械特性测试仪 | G36: 030003100994 | H36: 1 | I36: 台 | J36: 丽江供电局 | K36: 335000 | M36: =D36&E36&F36&G36&H36&I36&J36&K36 -> 05140000066601620260827000丽江供电局2026年变电修试所共计15台工器具购置断路器双端接地机械特性测试仪0300031009941台丽江供电局335000 | N36: =VLOOKUP(M36,[1]Sheet1!$I:$I,1,FALSE) -> 05140000066601620260827000丽江供电局2026年变电修试所共计15台工器具购置断路器双端接地机械特性测试仪0300031009941台丽江供电局335000 | O36: =VLOOKUP(M36,[2]需求计划明细列表!$M:$M,1,FALSE) -> #N/A | P36: #N/A
A37: 36 | B37: 标1：云南电网第二批测试设备仪器购置（公开招标） | C37: 包5：SF6综合分析仪 | D37: 05040000062701620260903000 | E37: 玉溪供电局2026年变电修试所共计25台工器具购置项目 | F37: SF6综合分析仪 | G37: 090110500020001 | H37: 1 | I37: 个 | J37: 玉溪供电局 | K37: 198000 | M37: =D37&E37&F37&G37&H37&I37&J37&K37 -> 05040000062701620260903000玉溪供电局2026年变电修试所共计25台工器具购置项目SF6综合分析仪0901105000200011个玉溪供电局198000 | N37: 05040000062701620260903000玉溪供电局2026年变电修试所共计25台工器具购置项目SF6综合分析仪0901105000200011个玉溪供电局198000 | O37: =VLOOKUP(M37,[2]需求计划明细列表!$M:$M,1,FALSE) -> 05040000062701620260903000玉溪供电局2026年变电修试所共计25台工器具购置项目SF6综合分析仪0901105000200011个玉溪供电局198000 | P37: 05040000062701620260903000玉溪供电局2026年变电修试所共计25台工器具购置项目SF6综合分析仪0901105000200011个玉溪供电局198000
A38: 37 | B38: 标1：云南电网第二批测试设备仪器购置（公开招标） | C38: 包5：SF6综合分析仪 | D38: 05060000346201620260831000 | E38: 楚雄供电局2026年变电修试所共计8台工器具购置 | F38: SF6综合分析仪 | G38: 090110500020001 | H38: 2 | I38: 个 | J38: 楚雄供电局 | K38: 516000 | M38: =D38&E38&F38&G38&H38&I38&J38&K38 -> 05060000346201620260831000楚雄供电局2026年变电修试所共计8台工器具购置SF6综合分析仪0901105000200012个楚雄供电局516000 | N38: 05060000346201620260831000楚雄供电局2026年变电修试所共计8台工器具购置SF6综合分析仪0901105000200012个楚雄供电局516000 | O38: =VLOOKUP(M38,[2]需求计划明细列表!$M:$M,1,FALSE) -> 05060000346201620260831000楚雄供电局2026年变电修试所共计8台工器具购置SF6综合分析仪0901105000200012个楚雄供电局516000 | P38: 05060000346201620260831000楚雄供电局2026年变电修试所共计8台工器具购置SF6综合分析仪0901105000200012个楚雄供电局516000
A39: 38 | B39: 标1：云南电网第二批测试设备仪器购置（公开招标） | C39: 包5：SF6综合分析仪 | D39: 05100000450801620260828000 | E39: 临沧供电局2026年变电修试所变压器绕组变形测试仪、直流电阻测试仪等共计39台设备购置 | F39: SF6综合分析仪 | G39: 090110500020001 | H39: 1 | I39: 个 | J39: 临沧供电局 | K39: 258000 | M39: =D39&E39&F39&G39&H39&I39&J39&K39 -> 05100000450801620260828000临沧供电局2026年变电修试所变压器绕组变形测试仪、直流电阻测试仪等共计39台设备购置SF6综合分析仪0901105000200011个临沧供电局258000 | N39: =VLOOKUP(M39,[1]Sheet1!$I:$I,1,FALSE) -> 05100000450801620260828000临沧供电局2026年变电修试所变压器绕组变形测试仪、直流电阻测试仪等共计39台设备购置SF6综合分析仪0901105000200011个临沧供电局258000 | O39: =VLOOKUP(M39,[2]需求计划明细列表!$M:$M,1,FALSE) -> #N/A | P39: #N/A
A40: 39 | B40: 标1：云南电网第二批测试设备仪器购置（公开招标） | C40: 包5：SF6综合分析仪 | D40: 05100000450701620260828000 | E40: 临沧供电局2026年变电修试所变压器短路阻抗测试仪、充电机检测仪等共计11台试验设备购置 | F40: SF6综合分析仪 | G40: 090110500020001 | H40: 2 | I40: 个 | J40: 临沧供电局 | K40: 516000 | M40: =D40&E40&F40&G40&H40&I40&J40&K40 -> 05100000450701620260828000临沧供电局2026年变电修试所变压器短路阻抗测试仪、充电机检测仪等共计11台试验设备购置SF6综合分析仪0901105000200012个临沧供电局516000 | N40: =VLOOKUP(M40,[1]Sheet1!$I:$I,1,FALSE) -> 05100000450701620260828000临沧供电局2026年变电修试所变压器短路阻抗测试仪、充电机检测仪等共计11台试验设备购置SF6综合分析仪0901105000200012个临沧供电局516000 | O40: =VLOOKUP(M40,[2]需求计划明细列表!$M:$M,1,FALSE) -> #N/A | P40: #N/A
...
