Workbook

Sheet Sheet1
A1: 序号 | B1: 标的名称 | C1: 标包名称 | D1: 需求计划明细单号 | E1: 项目名称 | F1: 标准物资名称 | G1: 物资品类编码 | H1: 采购数量 | I1: 计量单位 | J1: 物资需求单位 | K1: 总价最高限价（元） | L1: 备注
A2: 1 | B2: 标1：云南电网第二批测试设备仪器购置（公开招标） | C2: 包1：多倍频感应耐压测试仪 | D2: 05040000062301620260903000 | E2: 玉溪供电局2026年变电修试所共计25台工器具购置项目 | F2: 多倍频感应耐压测试仪 | G2: 091104500000004 | H2: 2 | I2: 台 | J2: 玉溪供电局 | K2: 175000 | L2: 输出功率：≥5kVA 供电电源：AC220V±10%、50±1Hz ★输出频率：45Hz～200Hz 频率调节细度：≤0.1Hz ★输出电压：0～360V ★输出电流：0～20A ★输出稳定度：≤1% 输出波形：正弦波
A3: 2 | D3: 05080000273201620260827000 | E3: 普洱供电局2026年变电修试所变压器短路阻抗测试仪等6台测试设备工器具购置 | F3: 多倍频感应耐压测试仪 | G3: 091104500000004 | H3: 1 | I3: 台 | J3: 普洱供电局 | K3: 87500 | L3: /
A4: 3 | D4: 05140000066801620260827000 | E4: 丽江供电局2026年变电修试所共计15台工器具购置 | F4: 多倍频感应耐压测试仪 | G4: 091104500000004 | H4: 1 | I4: 台 | J4: 丽江供电局 | K4: 87500
A5: 4 | D5: 05130000239701620260826000 | E5: 德宏供电局2026年变电修试所共计24台生产工器具及仪器仪表购置 | F5: 多倍频感应耐压测试仪 | G5: 091104500000004 | H5: 1 | I5: 台 | J5: 德宏供电局 | K5: 87500 | L5: /
A6: 5 | D6: 05050000462801620260826000 | E6: 大理供电局2026年变电修试所共计19台工器具购置 | F6: 多倍频感应耐压测试仪 | G6: 091104500000004 | H6: 1 | I6: 台 | J6: 大理供电局 | K6: 87500 | L6: 输出功率：≥5kVA 供电电源：AC220V±10%、50±1Hz ★输出频率：45Hz～200Hz 频率调节细度：≤0.1Hz ★输出电压：0～360V ★输出电流：0～20A ★输出稳定度：≤1% 输出波形：正弦波
A7: 6 | D7: 05030000515501620260825000 | E7: 红河供电局2026年变电修试所电容电感测量仪等7类14台仪器购置 | F7: 多倍频感应耐压测试仪 | G7: 091104500000004 | H7: 1 | I7: 台 | J7: 红河供电局 | K7: 87500 | L7: 输出功率：≥5kVA 供电电源：AC220V±10%、50±1Hz ★输出频率：45Hz～200Hz 频率调节细度：≤0.1Hz ★输出电压：0～360V ★输出电流：0～20A ★输出稳定度：≤1% 输出波形：正弦波
A8: 7 | D8: 05020000345401620260824000 | E8: 曲靖供电局2026年修试所倍频感应耐压测试仪购置 | F8: 多倍频感应耐压测试仪 | G8: 091104500000004 | H8: 1 | I8: 台 | J8: 曲靖供电局 | K8: 87500
A9: 8 | D9: 05100000403001620260824000 | E9: 临沧供电局2026年变电修试所变压器绕组变形测试仪、直流电阻测试仪等共计39台设备购置 | F9: 多倍频感应耐压测试仪 | G9: 091104500000004 | H9: 2 | I9: 台 | J9: 临沧供电局 | K9: 175000 | L9: /
A10: 9 | D10: 05070000401901620260824000 | E10: 昭通供电局2026年变电修试所35kV及以下多倍频感应耐压试验装置（含控制箱、倍频电源、互感器综合测试仪）共计2套工器具购置（工器具配置） | F10: 多倍频感应耐压测试仪 | G10: 091104500000004 | H10: 1 | I10: 台 | J10: 昭通供电局 | K10: 87500 | L10: /
A11: 10 | D11: 05160000096201620260824000 | E11: 怒江供电局2026年变电修试所共计26台仪器仪表购置 | F11: 多倍频感应耐压测试仪 | G11: 091104500000004 | H11: 1 | I11: 台 | J11: 怒江供电局 | K11: 87500
A12: 11 | D12: 05150000186101620260824000 | E12: 迪庆供电局变电修试所2026年变压器短路阻抗测试仪等共计11台测试设备购置 | F12: 多倍频感应耐压测试仪 | G12: 091104500000004 | H12: 1 | I12: 台 | J12: 迪庆供电局 | K12: 87500 | L12: 输出功率：≥5kVA 供电电源：AC220V±10%、50±1Hz ★输出频率：45Hz～200Hz 频率调节细度：≤0.1Hz ★输出电压：0～360V ★输出电流：0～20A ★输出稳定度：≤1% 输出波形：正弦波
A13: 12 | D13: 05110000517101620260820000 | E13: 文山供电局2026年变电修试所共计21台工器具购置 | F13: 多倍频感应耐压测试仪 | G13: 091104500000004 | H13: 3 | I13: 台 | J13: 文山供电局 | K13: 262500
A14: 13 | C14: 包2：直流高压发生器 | D14: 05040000062601620260903000 | E14: 玉溪供电局2026年变电修试所共计25台工器具购置项目 | F14: 直流高压发生器 | G14: 091108000010009 | H14: 1 | I14: 套 | J14: 玉溪供电局 | K14: 130000 | L14: 400kV5mA
A15: 14 | D15: 05080000271101620260827000 | E15: 普洱供电局2026年变电修试所直流高压试验装置等10台测试设备工器具购置 | F15: 直流高压发生器 | G15: 091108000010009 | H15: 2 | I15: 套 | J15: 普洱供电局 | K15: 260000 | L15: 400kV5mA
A16: 15 | D16: 05130000240001620260826000 | E16: 德宏供电局2026年变电修试所共计24台生产工器具及仪器仪表购置 | F16: 直流高压发生器 | G16: 091108000010009 | H16: 1 | I16: 套 | J16: 德宏供电局 | K16: 130000 | L16: 400kV5mA
A17: 16 | D17: 05050000458101620260826000 | E17: 大理供电局2026年购置2套300kV避雷器直流高压发生器测试仪 | F17: 直流高压发生器 | G17: 091108000010009 | H17: 2 | I17: 套 | J17: 大理供电局 | K17: 260000 | L17: 400kV5mA
A18: 17 | D18: 05030000516801620260825000 | E18: 红河供电局2026年直流高压试验装置（控制箱、直流高压发生器）、直流电阻测试仪、避雷器工频全电流及动作测试仪购置 | F18: 直流高压发生器 | G18: 091108000010009 | H18: 7 | I18: 套 | J18: 红河供电局 | K18: 910000 | L18: 400kV5mA
A19: 18 | D19: 05020000344301620260824000 | E19: 曲靖供电局2026年修试所直流高压发生器购置 | F19: 直流高压发生器 | G19: 091108000010009 | H19: 4 | I19: 套 | J19: 曲靖供电局 | K19: 520000 | L19: 400kV5mA
A20: 19 | D20: 05150000186001620260824000 | E20: 迪庆供电局变电修试所2026年变压器短路阻抗测试仪等共计11台测试设备购置 | F20: 直流高压发生器 | G20: 091108000010009 | H20: 1 | I20: 套 | J20: 迪庆供电局 | K20: 32400 | L20: 120kV3mA
A21: 20 | C21: 包3：电容电感测试仪 | D21: 05080000270901620260827000 | E21: 普洱供电局2026年变电修试所SF6综合分析仪等9台测试设备工器具购置 | F21: 电容电感测试仪 | G21: 090402600020001 | H21: 1 | I21: 个 | J21: 普洱供电局 | K21: 67200
A22: 21 | D22: 05140000066701620260827000 | E22: 丽江供电局2026年变电修试所共计15台工器具购置 | F22: 电容电感测试仪 | G22: 090402600020001 | H22: 2 | I22: 个 | J22: 丽江供电局 | K22: 134400
A23: 22 | D23: 05130000239501620260826000 | E23: 德宏供电局2026年变电修试所共计24台生产工器具及仪器仪表购置 | F23: 电容电感测试仪 | G23: 090402600020001 | H23: 3 | I23: 个 | J23: 德宏供电局 | K23: 201600 | L23: 包含相关配套附件
A24: 23 | D24: 05050000458201620260826000 | E24: 大理供电局变电修试所2026年购置1套电容电感测量仪 | F24: 电容电感测试仪 | G24: 090402600020001 | H24: 1 | I24: 个 | J24: 大理供电局 | K24: 67200
A25: 24 | D25: 05030000515901620260825000 | E25: 红河供电局2026年变电修试所电容电感测量仪等7类14台仪器购置 | F25: 电容电感测试仪 | G25: 090402600020001 | H25: 4 | I25: 个 | J25: 红河供电局 | K25: 268800
A26: 25 | D26: 05020000345301620260824000 | E26: 曲靖供电局2026年修试所电容电感测量仪购置 | F26: 电容电感测试仪 | G26: 090402600020001 | H26: 2 | I26: 个 | J26: 曲靖供电局 | K26: 134400
A27: 26 | D27: 05160000096501620260824000 | E27: 怒江供电局2026年变电修试所共计26台仪器仪表购置 | F27: 电容电感测试仪 | G27: 090402600020001 | H27: 1 | I27: 个 | J27: 怒江供电局 | K27: 67200
A28: 27 | D28: 05100000398301620260824000 | E28: 临沧供电局2026年变电修试所变压器绕组变形测试仪、直流电阻测试仪等共计39台设备购置 | F28: 电容电感测试仪 | G28: 090402600020001 | H28: 3 | I28: 个 | J28: 临沧供电局 | K28: 201600
A29: 28 | D29: 05070000394401620260824000 | E29: 昭通供电局2026年变电修试所电容电感测量仪共计3套工器具购置（工器具配置） | F29: 电容电感测试仪 | G29: 090402600020001 | H29: 3 | I29: 个 | J29: 昭通供电局 | K29: 201600
A30: 29 | C30: 包4：断路器动作特性测试仪 | D30: 05010000329201620260827000 | E30: 昆明供电局变电修试所2026年测试设备购置（断路器机械特性测试仪） | F30: 断路器动作特性测试仪 | G30: 030003000580 | H30: 3 | I30: 台 | J30: 昆明供电局 | K30: 699000
A31: 30 | D31: 05140000067501620260827000 | E31: 丽江供电局2026年变电修试所共计15台工器具购置 | F31: 断路器动作特性测试仪 | G31: 030003000580 | H31: 1 | I31: 台 | J31: 丽江供电局 | K31: 175000
A32: 31 | D32: 05030000517901620260825000 | E32: 红河供电局2026年变电修试所断路器机械特性测试仪、隔离开关触头夹紧力测试仪购置 | F32: 断路器动作特性测试仪 | G32: 030003000580 | H32: 3 | I32: 台 | J32: 红河供电局 | K32: 720000
A33: 32 | D33: 05150000181201620260821000 | E33: 迪庆供电局变电修试所2026年断路器机械特性测试仪等共计5件仪器仪表购置 | F33: 断路器动作特性测试仪 | G33: 030003000580 | H33: 2 | I33: 台 | J33: 迪庆供电局 | K33: 374000
A34: 33 | D34: 05070000363801620260821000 | E34: 昭通供电局2026年变电修试所断路器机械特性测试仪共计3套工器具购置（工器具配置） | F34: 断路器动作特性测试仪 | G34: 030003000580 | H34: 3 | I34: 台 | J34: 昭通供电局 | K34: 525000
A35: 34 | D35: 05110000516601620260820000 | E35: 文山供电局2026年变电修试所共计21台工器具购置 | F35: 断路器动作特性测试仪 | G35: 030003000580 | H35: 1 | I35: 台 | J35: 文山供电局 | K35: 175000
A36: 35 | D36: 05140000066601620260827000 | E36: 丽江供电局2026年变电修试所共计15台工器具购置 | F36: 断路器双端接地机械特性测试仪 | G36: 030003100994 | H36: 1 | I36: 台 | J36: 丽江供电局 | K36: 335000
A37: 36 | C37: 包5：SF6综合分析仪 | D37: 05040000062701620260903000 | E37: 玉溪供电局2026年变电修试所共计25台工器具购置项目 | F37: SF6综合分析仪 | G37: 090110500020001 | H37: 1 | I37: 个 | J37: 玉溪供电局 | K37: 198000
A38: 37 | D38: 05060000346201620260831000 | E38: 楚雄供电局2026年变电修试所共计8台工器具购置 | F38: SF6综合分析仪 | G38: 090110500020001 | H38: 2 | I38: 个 | J38: 楚雄供电局 | K38: 516000
A39: 38 | D39: 05100000450801620260828000 | E39: 临沧供电局2026年变电修试所变压器绕组变形测试仪、直流电阻测试仪等共计39台设备购置 | F39: SF6综合分析仪 | G39: 090110500020001 | H39: 1 | I39: 个 | J39: 临沧供电局 | K39: 258000
A40: 39 | D40: 05100000450701620260828000 | E40: 临沧供电局2026年变电修试所变压器短路阻抗测试仪、充电机检测仪等共计11台试验设备购置 | F40: SF6综合分析仪 | G40: 090110500020001 | H40: 2 | I40: 个 | J40: 临沧供电局 | K40: 516000
A41: 40 | D41: 05080000271001620260827000 | E41: 普洱供电局2026年变电修试所SF6综合分析仪等9台测试设备工器具购置 | F41: SF6综合分析仪 | G41: 090110500020001 | H41: 2 | I41: 个 | J41: 普洱供电局 | K41: 516000
A42: 41 | D42: 05130000239901620260826000 | E42: 德宏供电局2026年变电修试所共计24台生产工器具及仪器仪表购置 | F42: SF6综合分析仪 | G42: 090110500020001 | H42: 1 | I42: 个 | J42: 德宏供电局 | K42: 258000
A43: 42 | D43: 05050000459001620260826000 | E43: 大理供电局2026年购置2套SF6微水及分解产物综合测试仪 | F43: SF6综合分析仪 | G43: 090110500020001 | H43: 2 | I43: 个 | J43: 大理供电局 | K43: 516000
A44: 43 | D44: 05020000344501620260824000 | E44: 曲靖供电局2026年修试所SF6气体综合检测仪购置 | F44: SF6综合分析仪 | G44: 090110500020001 | H44: 4 | I44: 个 | J44: 曲靖供电局 | K44: 1032000
A45: 44 | D45: 05150000191501620260824000 | E45: 迪庆供电局变电修试所2026年SF6综合分析仪等共计7台油化实验仪器购置 | F45: SF6综合分析仪 | G45: 090110500020001 | H45: 2 | I45: 个 | J45: 迪庆供电局 | K45: 516000
A46: 45 | C46: 包6：充电机稳压稳流特性测试仪 | D46: 05040000063001620260903000 | E46: 玉溪供电局2026年变电修试所共计25台工器具购置项目 | F46: 充电机稳压稳流特性测试仪 | G46: 090102400000001 | H46: 3 | I46: 台 | J46: 玉溪供电局 | K46: 193380
A47: 46 | D47: 05080000303501620260828000 | E47: 普洱供电局2026年变电修试所站用电源班测试设备购置 | F47: 充电机稳压稳流特性测试仪 | G47: 090102400000001 | H47: 2 | I47: 台 | J47: 普洱供电局 | K47: 129320
A48: 47 | D48: 05130000239801620260826000 | E48: 德宏供电局2026年变电修试所共计24台生产工器具及仪器仪表购置 | F48: 充电机稳压稳流特性测试仪 | G48: 090102400000001 | H48: 2 | I48: 台 | J48: 德宏供电局 | K48: 130000
A49: 48 | D49: 05050000447601620260825000 | E49: 大理供电局2026年购置2套充电机特性测试仪 | F49: 充电机稳压稳流特性测试仪 | G49: 090102400000001 | H49: 2 | I49: 台 | J49: 大理供电局 | K49: 129320
A50: 49 | D50: 05030000515701620260825000 | E50: 红河供电局2026年变电修试所电容电感测量仪等7类14台仪器购置 | F50: 充电机稳压稳流特性测试仪 | G50: 090102400000001 | H50: 1 | I50: 台 | J50: 红河供电局 | K50: 64660
A51: 50 | D51: 05160000096901620260824000 | E51: 怒江供电局2026年变电修试所共计26台仪器仪表购置 | F51: 充电机稳压稳流特性测试仪 | G51: 090102400000001 | H51: 3 | I51: 台 | J51: 怒江供电局 | K51: 193980
A52: 51 | D52: 05100000369101620260821000 | E52: 临沧供电局2026年变电修试所变压器绕组变形测试仪、直流电阻测试仪等共计39台设备购置 | F52: 充电机稳压稳流特性测试仪 | G52: 090102400000001 | H52: 3 | I52: 台 | J52: 临沧供电局 | K52: 193380
A53: 52 | D53: 05100000369001620260821000 | E53: 临沧供电局2026年变电修试所变压器短路阻抗测试仪、充电机检测仪等共计11台试验设备购置 | F53: 充电机稳压稳流特性测试仪 | G53: 090102400000001 | H53: 1 | I53: 台 | J53: 临沧供电局 | K53: 64460
A54: 53 | C54: 包7：台式直读光谱仪 | D54: 05620000001601620260915000 | E54: 云南电科院材化所2026年火花源台式直读光谱仪购置 | F54: X射线荧光光谱仪 | G54: 090113500000001 | H54: 1 | I54: 台 | J54: 云南电科院 | K54: 1520000
A55: 53 | C55: 包8：电缆综合测试试验平台 | D55: 05620000001701620260915000 | E55: 云南电科院配电所2026年配网电力电缆综合试验及运检技术研究平台建设 | F55: 配电耐压试验设备 | G55: 090105600000005 | H55: 1 | I55: 套 | J55: 云南电科院 | K55: 2100000
A56: 53 | C56: 包9：电鸿设备功能检测及验证平台 | D56: 05620000001801620260915000 | E56: 云南电科院配电所2026年电鸿设备及高价值场景功能验证平台建设 | F56: 电力开源物联版智能拓扑识别模块_智能台区终端 | G56: 041800500370001 | H56: 1 | I56: 套 | J56: 云南电科院 | K56: 1610000
A57: 56 | B57: 标2：生产运行支持系统2.0 | C57: 包1：变电域生产运行支持系统2.0部署实施加装 | D57: 05160000129701620260908000 | E57: 怒江供电局2026年变电域生产运行支持系统2.0部署实施加装项目 | F57: 智能化系统 | G57: 010033000001 | H57: 1 | I57: 套 | J57: 怒江供电局 | K57: 1120300
A58: 57 | D58: 05070000571801620260908000 | E58: 昭通供电局2026年变电运行一所变电域生产运行支持系统2.0部署实施加装（新技术） | F58: 智能化系统 | G58: 010033000001 | H58: 1 | I58: 套 | J58: 昭通供电局 | K58: 2377000
A59: 58 | D59: 05080000314601620260830000 | E59: 普洱供电局2026年变电域生产运行支持系统2.0部署实施加装 | F59: 智能化系统 | G59: 010033000001 | H59: 1 | I59: 套 | J59: 普洱供电局 | K59: 2024100
A60: 59 | D60: 05120000008201620260827000 | E60: 保山供电局2026年变电域生产运行支持系统2.0部署实施加装项目（专项） | F60: 智能化系统 | G60: 010033000001 | H60: 1 | I60: 套 | J60: 保山供电局 | K60: 638388
A61: 60 | D61: 05140000070301620260827000 | E61: 丽江供电局2026年生产运行支持系统（变电域）2.0迁移加装 | F61: 智能化系统 | G61: 010033000001 | H61: 1 | I61: 套 | J61: 丽江供电局 | K61: 1167600
A62: 61 | D62: 05130000241101620260827000 | E62: 德宏供电局2026年-2027年生产运行支持系统（变电域）2.0迁移加装 | F62: 智能化系统 | G62: 010033000001 | H62: 1 | I62: 套 | J62: 德宏供电局 | K62: 1247000
A63: 62 | D63: 05040000258001620260824000 | E63: 玉溪供电局2026年变电运行所变电域生产运行支持系统2.0实施加装项目 | F63: 智能化系统 | G63: 010033000001 | H63: 1 | I63: 套 | J63: 玉溪供电局 | K63: 1869161
A64: 63 | D64: 05110000703001620260824000 | E64: 文山供电局2026年变电域生产运行支持系统2.0部署实施加装 | F64: 智能化系统 | G64: 010033000001 | H64: 1 | I64: 套 | J64: 文山供电局 | K64: 1370000
A65: 64 | D65: 05090000300901620260824000 | E65: 西双版纳供电局生产运行支持系统（变电域）南网云服务器迁移加装 | F65: 智能化系统 | G65: 010033000001 | H65: 1 | I65: 套 | J65: 西双版纳供电局 | K65: 1146500
A66: 65 | D66: 05100000370201620260821000 | E66: 临沧供电局2026年变电域生产运行支持系统2.0部署实施加装 | F66: 智能化系统 | G66: 010033000001 | H66: 1 | I66: 套 | J66: 临沧供电局 | K66: 1194500
A67: 66 | D67: 05020000309301620260821000 | E67: 曲靖供电局2026年变电域生产运行支持系统2.0实施加装 | F67: 智能化系统 | G67: 010033000001 | H67: 1 | I67: 套 | J67: 曲靖供电局 | K67: 1855500
A68: 67 | D68: 05030000454601620260821000 | E68: 红河供电局2026年变电域生产运行支持系统2.0部署实施加装 | F68: 智能化系统 | G68: 010033000001 | H68: 1 | I68: 套 | J68: 红河供电局 | K68: 1792600
A69: 68 | D69: 05150000179401620260821000 | E69: 迪庆供电局变电运行所变电域生产运行支持系统2.0部署实施加装项目 | F69: 智能化系统 | G69: 010033000001 | H69: 1 | I69: 套 | J69: 迪庆供电局 | K69: 866604
... A72: 71 | D72: 05010000290901620260826000 | E72: 昆明供电局变电域生产运行支持系统2.0实施加装项目 | F72: 智能化系统 | G72: 010033000001 | H72: 1 | I72: 套 | J72: 昆明供电局 | K72: 4860700
A73: 72 | B73: 标3：现场作业安全监控智能识别系统 | C73: 包1：现场作业安全监控智能识别系统 | D73: 05620000005001620260825000 | E73: 云南电网公司2026年数字生产作业全过程智能分析加装项目 | F73: 现场作业安全监控智能识别系统 | G73: 100900200000018 | H73: 1 | I73: 套 | J73: 电力科学研究院 | K73: 8458202 | L73: 数字生产作业全过程智能分析模块、全维风险联动管控模块、数字值班员与智能报告模块、作业流程断点识别模块、系统配置与数据集成模块。
A74: 73 | B74: 标4：串补设备电流互感器 | C74: 包1：串补设备电流互感器 | D74: 05030000501601620260825000 | E74: 红河供电局2026年500kV建水串补站36只串补平台间隙CT更换 | F74: 串补设备电容器组不平衡电流互感器 | G74: 100003000014 | H74: 6 | I74: 套 | J74: 红河供电局 | K74: 372000
A75: 74 | D75: 05030000501701620260825000 | E75: 红河供电局2026年500kV建水串补站36只串补平台间隙CT更换 | F75: 串补设备电容电流互感器 | G75: 100003000016 | H75: 6 | I75: 套 | J75: 红河供电局 | K75: 372000
A76: 75 | D76: 05030000501801620260825000 | E76: 红河供电局2026年500kV建水串补站36只串补平台间隙CT更换 | F76: 串补设备平台电流互感器 | G76: 100003000015 | H76: 6 | I76: 套 | J76: 红河供电局 | K76: 372000
A77: 76 | D77: 05030000501901620260825000 | E77: 红河供电局2026年500kV建水串补站36只串补平台间隙CT更换 | F77: 串补设备火花间隙电流互感器 | G77: 100003000012 | H77: 6 | I77: 套 | J77: 红河供电局 | K77: 372000
A78: 77 | D78: 05030000502001620260825000 | E78: 红河供电局2026年500kV建水串补站36只串补平台间隙CT更换 | F78: 串补设备MOV电流互感器 | G78: 100003000011 | H78: 12 | I78: 套 | J78: 红河供电局 | K78: 744000
A79: 78 | B79: 标5：28M高空作业车 | C79: 包1：28M高空作业车 | D79: 05040000063101620260903000 | E79: 玉溪供电局2026年变电修试所高空作业车购置项目 | F79: 高空作业车 | G79: 190204300010001 | H79: 2 | I79: 台 | J79: 玉溪供电局 | K79: 1186500
A80: 79 | D80: 05130000240101620260826000 | E80: 德宏供电局2026年变电修试所高空作业车购置 | F80: 高空作业车 | G80: 190204300010001 | H80: 1 | I80: 台 | J80: 德宏供电局 | K80: 600000
A81: 80 | D81: 05050000459501620260826000 | E81: 大理供电局2026年修试所2台特种车辆购置 | F81: 高空作业车 | G81: 190204300010001 | H81: 2 | I81: 台 | J81: 大理供电局 | K81: 1186500
A82: 81 | D82: 05100000378901620260824000 | E82: 临沧供电局2026年变电修试所生产高空作业特种车辆购置 | F82: 高空作业车 | G82: 190204300010001 | H82: 2 | I82: 台 | J82: 临沧供电局 | K82: 1186500
A83: 82 | D83: 05090000225501620260316000 | E83: 云南农垦电力有限责任公司2025年高空作业车购置 | F83: 高空作业车 | G83: 190204300010001 | H83: 2 | I83: 台 | J83: 西双版纳供电局 | K83: 1160000
A84: 83 | D84: 05140000192401620260320000 | E84: 500千伏德茂输变电工程 | F84: 高空作业车 | G84: 190204300010001 | H84: 1 | I84: 台 | J84: 丽江供电局 | K84: 580000
A85: 84 | B85: 标6：变压器综合监测与故障诊断系统 | C85: 包1：变压器综合监测与故障诊断系统 | D85: 05120000003301620260820000 | E85: 保山供电局2026年500kV兰城变、隆阳变共计5台主变压器震动、局放监测装置加装 | F85: 变压器综合监测与故障诊断系统 | G85: 033601700060001 | H85: 5 | I85: 套 | J85: 保山供电局 | K85: 2000000
A86: 85 | D86: 05120000003701620260821000 | E86: 保山供电局2026年220kV大寨变220kV1号、2号主变变压器震动、局放监测装置加装（新技术） | F86: 变压器综合监测与故障诊断系统 | G86: 033601700060001 | H86: 2 | I86: 套 | J86: 保山供电局 | K86: 800000
A87: 86 | B87: 标7：生产运行支持系统（变电域）智能巡视、智能监测、智能安全、变电驾驶舱功能模块更换 | C87: 包1：生产运行支持系统（变电域）智能巡视、智能监测、智能安全、变电驾驶舱功能模块更换 | D87: 05620000004201620260821000 | E87: 云南电科院高压技术研究所2026年生产运行支持系统（变电域）智能巡视、智能监测、智能安全、变电驾驶舱功能模块更换 | F87: 智能化系统 | G87: 010033000001 | H87: 1 | I87: 套 | J87: 云南电科院 | K87: 3005320
A88: 90 | B88: 标8：生产运行支持系统（输电域）地质灾害模块 | C88: 包1：生产运行支持系统（输电域）地质灾害模块 | D88: 05620000001301620260915000 | E88: 云南电科院2026年生产运行支持系统（输电域）地质灾害模块加装 | F88: 软件管理平台 | G88: 100900100000079 | H88: 1 | I88: 套 | J88: 云南电科院 | K88: 2512700
A89: 91 | B89: 标9：生产指挥数字化辅助工具 | C89: 包1：生产指挥数字化辅助工具 | D89: 05620000001101620260915000 | E89: 云南电网公司2026年生产指挥数字化辅助工具加装项目 | H89: 1 | J89: 云南电科院 | K89: 1450000

Sheet 核对 
A1: 序号 | B1: 标的名称 | C1: 标包名称 | D1: 需求计划明细单号 | E1: 项目名称 | F1: 标准物资名称 | G1: 物资品类编码 | H1: 采购数量 | I1: 计量单位 | J1: 物资需求单位 | K1: 总价最高限价（元） | L1: 备注
A2: 1 | B2: 标1：云南电网第二批测试设备仪器购置（公开招标） | C2: 包1：多倍频感应耐压测试仪 | D2: 05040000062301620260903000 | E2: 玉溪供电局2026年变电修试所共计25台工器具购置项目 | F2: 多倍频感应耐压测试仪 | G2: 091104500000004 | H2: 2 | I2: 台 | J2: 玉溪供电局 | K2: 175000 | L2: 输出功率：≥5kVA 供电电源：AC220V±10%、50±1Hz ★输出频率：45Hz～200Hz 频率调节细度：≤0.1Hz ★输出电压：0～360V ★输出电流：0～20A ★输出稳定度：≤1% 输出波形：正弦波 | M2: =D2&E2&F2&G2&H2&I2&J2&K2 -> 05040000062301620260903000玉溪供电局2026年变电修试所共计25台工器具购置项目多倍频感应耐压测试仪0911045000000042台玉溪供电局175000 | N2: 05040000062301620260903000玉溪供电局2026年变电修试所共计25台工器具购置项目多倍频感应耐压测试仪0911045000000042台玉溪供电局175000 | O2: =VLOOKUP(M2,[2]需求计划明细列表!$M:$M,1,FALSE) -> 05040000062301620260903000玉溪供电局2026年变电修试所共计25台工器具购置项目多倍频感应耐压测试仪0911045000000042台玉溪供电局175000 | P2: 05040000062301620260903000玉溪供电局2026年变电修试所共计25台工器具购置项目多倍频感应耐压测试仪0911045000000042台玉溪供电局175000
A3: 2 | B3: 标1：云南电网第二批测试设备仪器购置（公开招标） | C3: 包1：多倍频感应耐压测试仪 | D3: 05080000273201620260827000 | E3: 普洱供电局2026年变电修试所变压器短路阻抗测试仪等6台测试设备工器具购置 | F3: 多倍频感应耐压测试仪 | G3: 091104500000004 | H3: 1 | I3: 台 | J3: 普洱供电局 | K3: 87500 | L3: / | M3: =D3&E3&F3&G3&H3&I3&J3&K3 -> 05080000273201620260827000普洱供电局2026年变电修试所变压器短路阻抗测试仪等6台测试设备工器具购置多倍频感应耐压测试仪0911045000000041台普洱供电局87500 | N3: =VLOOKUP(M3,[1]Sheet1!$I:$I,1,FALSE) -> 05080000273201620260827000普洱供电局2026年变电修试所变压器短路阻抗测试仪等6台测试设备工器具购置多倍频感应耐压测试仪0911045000000041台普洱供电局87500 | O3: =VLOOKUP(M3,[2]需求计划明细列表!$M:$M,1,FALSE) -> #N/A | P3: #N/A
A4: 3 | B4: 标1：云南电网第二批测试设备仪器购置（公开招标） | C4: 包1：多倍频感应耐压测试仪 | D4: 05140000066801620260827000 | E4: 丽江供电局2026年变电修试所共计15台工器具购置 | F4: 多倍频感应耐压测试仪 | G4: 091104500000004 | H4: 1 | I4: 台 | J4: 丽江供电局 | K4: 87500 | M4: =D4&E4&F4&G4&H4&I4&J4&K4 -> 05140000066801620260827000丽江供电局2026年变电修试所共计15台工器具购置多倍频感应耐压测试仪0911045000000041台丽江供电局87500 | N4: =VLOOKUP(M4,[1]Sheet1!$I:$I,1,FALSE) -> 05140000066801620260827000丽江供电局2026年变电修试所共计15台工器具购置多倍频感应耐压测试仪0911045000000041台丽江供电局87500 | O4: =VLOOKUP(M4,[2]需求计划明细列表!$M:$M,1,FALSE) -> #N/A | P4: #N/A
A5: 4 | B5: 标1：云南电网第二批测试设备仪器购置（公开招标） | C5: 包1：多倍频感应耐压测试仪 | D5: 05130000239701620260826000 | E5: 德宏供电局2026年变电修试所共计24台生产工器具及仪器仪表购置 | F5: 多倍频感应耐压测试仪 | G5: 091104500000004 | H5: 1 | I5: 台 | J5: 德宏供电局 | K5: 87500 | L5: / | M5: =D5&E5&F5&G5&H5&I5&J5&K5 -> 05130000239701620260826000德宏供电局2026年变电修试所共计24台生产工器具及仪器仪表购置多倍频感应耐压测试仪0911045000000041台德宏供电局87500 | N5: =VLOOKUP(M5,[1]Sheet1!$I:$I,1,FALSE) -> 05130000239701620260826000德宏供电局2026年变电修试所共计24台生产工器具及仪器仪表购置多倍频感应耐压测试仪0911045000000041台德宏供电局87500 | O5: =VLOOKUP(M5,[2]需求计划明细列表!$M:$M,1,FALSE) -> #N/A | P5: #N/A
A6: 5 | B6: 标1：云南电网第二批测试设备仪器购置（公开招标） | C6: 包1：多倍频感应耐压测试仪 | D6: 05050000462801620260826000 | E6: 大理供电局2026年变电修试所共计19台工器具购置 | F6: 多倍频感应耐压测试仪 | G6: 091104500000004 | H6: 1 | I6: 台 | J6: 大理供电局 | K6: 87500 | L6: 输出功率：≥5kVA 供电电源：AC220V±10%、50±1Hz ★输出频率：45Hz～200Hz 频率调节细度：≤0.1Hz ★输出电压：0～360V ★输出电流：0～20A ★输出稳定度：≤1% 输出波形：正弦波 | M6: =D6&E6&F6&G6&H6&I6&J6&K6 -> 05050000462801620260826000大理供电局2026年变电修试所共计19台工器具购置多倍频感应耐压测试仪0911045000000041台大理供电局87500 | N6: 05050000462801620260826000大理供电局2026年变电修试所共计19台工器具购置多倍频感应耐压测试仪0911045000000041台大理供电局87500 | O6: =VLOOKUP(M6,[2]需求计划明细列表!$M:$M,1,FALSE) -> 05050000462801620260826000大理供电局2026年变电修试所共计19台工器具购置多倍频感应耐压测试仪0911045000000041台大理供电局87500 | P6: 05050000462801620260826000大理供电局2026年变电修试所共计19台工器具购置多倍频感应耐压测试仪0911045000000041台大理供电局87500
A7: 6 | B7: 标1：云南电网第二批测试设备仪器购置（公开招标） | C7: 包1：多倍频感应耐压测试仪 | D7: 05030000515501620260825000 | E7: 红河供电局2026年变电修试所电容电感测量仪等7类14台仪器购置 | F7: 多倍频感应耐压测试仪 | G7: 091104500000004 | H7: 1 | I7: 台 | J7: 红河供电局 | K7: 87500 | L7: 输出功率：≥5kVA 供电电源：AC220V±10%、50±1Hz ★输出频率：45Hz～200Hz 频率调节细度：≤0.1Hz ★输出电压：0～360V ★输出电流：0～20A ★输出稳定度：≤1% 输出波形：正弦波 | M7: =D7&E7&F7&G7&H7&I7&J7&K7 -> 05030000515501620260825000红河供电局2026年变电修试所电容电感测量仪等7类14台仪器购置多倍频感应耐压测试仪0911045000000041台红河供电局87500 | N7: 05030000515501620260825000红河供电局2026年变电修试所电容电感测量仪等7类14台仪器购置多倍频感应耐压测试仪0911045000000041台红河供电局87500 | O7: =VLOOKUP(M7,[2]需求计划明细列表!$M:$M,1,FALSE) -> 05030000515501620260825000红河供电局2026年变电修试所电容电感测量仪等7类14台仪器购置多倍频感应耐压测试仪0911045000000041台红河供电局87500 | P7: 05030000515501620260825000红河供电局2026年变电修试所电容电感测量仪等7类14台仪器购置多倍频感应耐压测试仪0911045000000041台红河供电局87500
A8: 7 | B8: 标1：云南电网第二批测试设备仪器购置（公开招标） | C8: 包1：多倍频感应耐压测试仪 | D8: 05020000345401620260824000 | E8: 曲靖供电局2026年修试所倍频感应耐压测试仪购置 | F8: 多倍频感应耐压测试仪 | G8: 091104500000004 | H8: 1 | I8: 台 | J8: 曲靖供电局 | K8: 87500 | M8: =D8&E8&F8&G8&H8&I8&J8&K8 -> 05020000345401620260824000曲靖供电局2026年修试所倍频感应耐压测试仪购置多倍频感应耐压测试仪0911045000000041台曲靖供电局87500 | N8: 05020000345401620260824000曲靖供电局2026年修试所倍频感应耐压测试仪购置多倍频感应耐压测试仪0911045000000041台曲靖供电局87500 | O8: =VLOOKUP(M8,[2]需求计划明细列表!$M:$M,1,FALSE) -> 05020000345401620260824000曲靖供电局2026年修试所倍频感应耐压测试仪购置多倍频感应耐压测试仪0911045000000041台曲靖供电局87500 | P8: 05020000345401620260824000曲靖供电局2026年修试所倍频感应耐压测试仪购置多倍频感应耐压测试仪0911045000000041台曲靖供电局87500
A9: 8 | B9: 标1：云南电网第二批测试设备仪器购置（公开招标） | C9: 包1：多倍频感应耐压测试仪 | D9: 05100000403001620260824000 | E9: 临沧供电局2026年变电修试所变压器绕组变形测试仪、直流电阻测试仪等共计39台设备购置 | F9: 多倍频感应耐压测试仪 | G9: 091104500000004 | H9: 2 | I9: 台 | J9: 临沧供电局 | K9: 175000 | L9: / | M9: =D9&E9&F9&G9&H9&I9&J9&K9 -> 05100000403001620260824000临沧供电局2026年变电修试所变压器绕组变形测试仪、直流电阻测试仪等共计39台设备购置多倍频感应耐压测试仪0911045000000042台临沧供电局175000 | N9: =VLOOKUP(M9,[1]Sheet1!$I:$I,1,FALSE) -> 05100000403001620260824000临沧供电局2026年变电修试所变压器绕组变形测试仪、直流电阻测试仪等共计39台设备购置多倍频感应耐压测试仪0911045000000042台临沧供电局175000 | O9: =VLOOKUP(M9,[2]需求计划明细列表!$M:$M,1,FALSE) -> #N/A | P9: #N/A
A10: 9 | B10: 标1：云南电网第二批测试设备仪器购置（公开招标） | C10: 包1：多倍频感应耐压测试仪 | D10: 05070000401901620260824000 | E10: 昭通供电局2026年变电修试所35kV及以下多倍频感应耐压试验装置（含控制箱、倍频电源、互感器综合测试仪）共计2套工器具购置（工器具配置） | F10: 多倍频感应耐压测试仪 | G10: 091104500000004 | H10: 1 | I10: 台 | J10: 昭通供电局 | K10: 87500 | L10: / | M10: =D10&E10&F10&G10&H10&I10&J10&K10 -> 05070000401901620260824000昭通供电局2026年变电修试所35kV及以下多倍频感应耐压试验装置（含控制箱、倍频电源、互感器综合测试仪）共计2套工器具购置（工器具配置）多倍频感应耐压测试仪0911045000000041台昭通供电局87500 | N10: 05070000401901620260824000昭通供电局2026年变电修试所35kV及以下多倍频感应耐压试验装置（含控制箱、倍频电源、互感器综合测试仪）共计2套工器具购置（工器具配置）多倍频感应耐压测试仪0911045000000041台昭通供电局87500 | O10: =VLOOKUP(M10,[2]需求计划明细列表!$M:$M,1,FALSE) -> 05070000401901620260824000昭通供电局2026年变电修试所35kV及以下多倍频感应耐压试验装置（含控制箱、倍频电源、互感器综合测试仪）共计2套工器具购置（工器具配置）多倍频感应耐压测试仪0911045000000041台昭通供电局87500 | P10: 05070000401901620260824000昭通供电局2026年变电修试所35kV及以下多倍频感应耐压试验装置（含控制箱、倍频电源、互感器综合测试仪）共计2套工器具购置（工器具配置）多倍频感应耐压测试仪0911045000000041台昭通供电局87500
A11: 10 | B11: 标1：云南电网第二批测试设备仪器购置（公开招标） | C11: 包1：多倍频感应耐压测试仪 | D11: 05160000096201620260824000 | E11: 怒江供电局2026年变电修试所共计26台仪器仪表购置 | F11: 多倍频感应耐压测试仪 | G11: 091104500000004 | H11: 1 | I11: 台 | J11: 怒江供电局 | K11: 87500 | M11: =D11&E11&F11&G11&H11&I11&J11&K11 -> 05160000096201620260824000怒江供电局2026年变电修试所共计26台仪器仪表购置多倍频感应耐压测试仪0911045000000041台怒江供电局87500 | N11: 05160000096201620260824000怒江供电局2026年变电修试所共计26台仪器仪表购置多倍频感应耐压测试仪0911045000000041台怒江供电局87500 | O11: =VLOOKUP(M11,[2]需求计划明细列表!$M:$M,1,FALSE) -> 05160000096201620260824000怒江供电局2026年变电修试所共计26台仪器仪表购置多倍频感应耐压测试仪0911045000000041台怒江供电局87500 | P11: 05160000096201620260824000怒江供电局2026年变电修试所共计26台仪器仪表购置多倍频感应耐压测试仪0911045000000041台怒江供电局87500
A12: 11 | B12: 标1：云南电网第二批测试设备仪器购置（公开招标） | C12: 包1：多倍频感应耐压测试仪 | D12: 05150000186101620260824000 | E12: 迪庆供电局变电修试所2026年变压器短路阻抗测试仪等共计11台测试设备购置 | F12: 多倍频感应耐压测试仪 | G12: 091104500000004 | H12: 1 | I12: 台 | J12: 迪庆供电局 | K12: 87500 | L12: 输出功率：≥5kVA 供电电源：AC220V±10%、50±1Hz ★输出频率：45Hz～200Hz 频率调节细度：≤0.1Hz ★输出电压：0～360V ★输出电流：0～20A ★输出稳定度：≤1% 输出波形：正弦波 | M12: =D12&E12&F12&G12&H12&I12&J12&K12 -> 05150000186101620260824000迪庆供电局变电修试所2026年变压器短路阻抗测试仪等共计11台测试设备购置多倍频感应耐压测试仪0911045000000041台迪庆供电局87500 | N12: =VLOOKUP(M12,[1]Sheet1!$I:$I,1,FALSE) -> 05150000186101620260824000迪庆供电局变电修试所2026年变压器短路阻抗测试仪等共计11台测试设备购置多倍频感应耐压测试仪0911045000000041台迪庆供电局87500 | O12: =VLOOKUP(M12,[2]需求计划明细列表!$M:$M,1,FALSE) -> #N/A | P12: #N/A
A13: 12 | B13: 标1：云南电网第二批测试设备仪器购置（公开招标） | C13: 包1：多倍频感应耐压测试仪 | D13: 05110000517101620260820000 | E13: 文山供电局2026年变电修试所共计21台工器具购置 | F13: 多倍频感应耐压测试仪 | G13: 091104500000004 | H13: 3 | I13: 台 | J13: 文山供电局 | K13: 262500 | M13: =D13&E13&F13&G13&H13&I13&J13&K13 -> 05110000517101620260820000文山供电局2026年变电修试所共计21台工器具购置多倍频感应耐压测试仪0911045000000043台文山供电局262500 | N13: 05110000517101620260820000文山供电局2026年变电修试所共计21台工器具购置多倍频感应耐压测试仪0911045000000043台文山供电局262500 | O13: =VLOOKUP(M13,[2]需求计划明细列表!$M:$M,1,FALSE) -> 05110000517101620260820000文山供电局2026年变电修试所共计21台工器具购置多倍频感应耐压测试仪0911045000000043台文山供电局262500 | P13: 05110000517101620260820000文山供电局2026年变电修试所共计21台工器具购置多倍频感应耐压测试仪0911045000000043台文山供电局262500
A14: 13 | B14: 标1：云南电网第二批测试设备仪器购置（公开招标） | C14: 包2：直流高压发生器 | D14: 05040000062601620260903000 | E14: 玉溪供电局2026年变电修试所共计25台工器具购置项目 | F14: 直流高压发生器 | G14: 091108000010009 | H14: 1 | I14: 套 | J14: 玉溪供电局 | K14: 130000 | L14: 400kV5mA | M14: =D14&E14&F14&G14&H14&I14&J14&K14 -> 05040000062601620260903000玉溪供电局2026年变电修试所共计25台工器具购置项目直流高压发生器0911080000100091套玉溪供电局130000 | N14: 05040000062601620260903000玉溪供电局2026年变电修试所共计25台工器具购置项目直流高压发生器0911080000100091套玉溪供电局130000 | O14: =VLOOKUP(M14,[2]需求计划明细列表!$M:$M,1,FALSE) -> 05040000062601620260903000玉溪供电局2026年变电修试所共计25台工器具购置项目直流高压发生器0911080000100091套玉溪供电局130000 | P14: 05040000062601620260903000玉溪供电局2026年变电修试所共计25台工器具购置项目直流高压发生器0911080000100091套玉溪供电局130000
A15: 14 | B15: 标1：云南电网第二批测试设备仪器购置（公开招标） | C15: 包2：直流高压发生器 | D15: 05080000271101620260827000 | E15: 普洱供电局2026年变电修试所直流高压试验装置等10台测试设备工器具购置 | F15: 直流高压发生器 | G15: 091108000010009 | H15: 2 | I15: 套 | J15: 普洱供电局 | K15: 260000 | L15: 400kV5mA | M15: =D15&E15&F15&G15&H15&I15&J15&K15 -> 05080000271101620260827000普洱供电局2026年变电修试所直流高压试验装置等10台测试设备工器具购置直流高压发生器0911080000100092套普洱供电局260000 | N15: =VLOOKUP(M15,[1]Sheet1!$I:$I,1,FALSE) -> 05080000271101620260827000普洱供电局2026年变电修试所直流高压试验装置等10台测试设备工器具购置直流高压发生器0911080000100092套普洱供电局260000 | O15: =VLOOKUP(M15,[2]需求计划明细列表!$M:$M,1,FALSE) -> #N/A | P15: #N/A
A16: 15 | B16: 标1：云南电网第二批测试设备仪器购置（公开招标） | C16: 包2：直流高压发生器 | D16: 05130000240001620260826000 | E16: 德宏供电局2026年变电修试所共计24台生产工器具及仪器仪表购置 | F16: 直流高压发生器 | G16: 091108000010009 | H16: 1 | I16: 套 | J16: 德宏供电局 | K16: 130000 | L16: 400kV5mA | M16: =D16&E16&F16&G16&H16&I16&J16&K16 -> 05130000240001620260826000德宏供电局2026年变电修试所共计24台生产工器具及仪器仪表购置直流高压发生器0911080000100091套德宏供电局130000 | N16: =VLOOKUP(M16,[1]Sheet1!$I:$I,1,FALSE) -> 05130000240001620260826000德宏供电局2026年变电修试所共计24台生产工器具及仪器仪表购置直流高压发生器0911080000100091套德宏供电局130000 | O16: =VLOOKUP(M16,[2]需求计划明细列表!$M:$M,1,FALSE) -> #N/A | P16: #N/A
A17: 16 | B17: 标1：云南电网第二批测试设备仪器购置（公开招标） | C17: 包2：直流高压发生器 | D17: 05050000458101620260826000 | E17: 大理供电局2026年购置2套300kV避雷器直流高压发生器测试仪 | F17: 直流高压发生器 | G17: 091108000010009 | H17: 2 | I17: 套 | J17: 大理供电局 | K17: 260000 | L17: 400kV5mA | M17: =D17&E17&F17&G17&H17&I17&J17&K17 -> 05050000458101620260826000大理供电局2026年购置2套300kV避雷器直流高压发生器测试仪直流高压发生器0911080000100092套大理供电局260000 | N17: 05050000458101620260826000大理供电局2026年购置2套300kV避雷器直流高压发生器测试仪直流高压发生器0911080000100092套大理供电局260000 | O17: =VLOOKUP(M17,[2]需求计划明细列表!$M:$M,1,FALSE) -> 05050000458101620260826000大理供电局2026年购置2套300kV避雷器直流高压发生器测试仪直流高压发生器0911080000100092套大理供电局260000 | P17: 05050000458101620260826000大理供电局2026年购置2套300kV避雷器直流高压发生器测试仪直流高压发生器0911080000100092套大理供电局260000
A18: 17 | B18: 标1：云南电网第二批测试设备仪器购置（公开招标） | C18: 包2：直流高压发生器 | D18: 05030000516801620260825000 | E18: 红河供电局2026年直流高压试验装置（控制箱、直流高压发生器）、直流电阻测试仪、避雷器工频全电流及动作测试仪购置 | F18: 直流高压发生器 | G18: 091108000010009 | H18: 7 | I18: 套 | J18: 红河供电局 | K18: 910000 | L18: 400kV5mA | M18: =D18&E18&F18&G18&H18&I18&J18&K18 -> 05030000516801620260825000红河供电局2026年直流高压试验装置（控制箱、直流高压发生器）、直流电阻测试仪、避雷器工频全电流及动作测试仪购置直流高压发生器0911080000100097套红河供电局910000 | N18: 05030000516801620260825000红河供电局2026年直流高压试验装置（控制箱、直流高压发生器）、直流电阻测试仪、避雷器工频全电流及动作测试仪购置直流高压发生器0911080000100097套红河供电局910000 | O18: =VLOOKUP(M18,[2]需求计划明细列表!$M:$M,1,FALSE) -> 05030000516801620260825000红河供电局2026年直流高压试验装置（控制箱、直流高压发生器）、直流电阻测试仪、避雷器工频全电流及动作测试仪购置直流高压发生器0911080000100097套红河供电局910000 | P18: 05030000516801620260825000红河供电局2026年直流高压试验装置（控制箱、直流高压发生器）、直流电阻测试仪、避雷器工频全电流及动作测试仪购置直流高压发生器0911080000100097套红河供电局910000
A19: 18 | B19: 标1：云南电网第二批测试设备仪器购置（公开招标） | C19: 包2：直流高压发生器 | D19: 05020000344301620260824000 | E19: 曲靖供电局2026年修试所直流高压发生器购置 | F19: 直流高压发生器 | G19: 091108000010009 | H19: 4 | I19: 套 | J19: 曲靖供电局 | K19: 520000 | L19: 400kV5mA | M19: =D19&E19&F19&G19&H19&I19&J19&K19 -> 05020000344301620260824000曲靖供电局2026年修试所直流高压发生器购置直流高压发生器0911080000100094套曲靖供电局520000 | N19: 05020000344301620260824000曲靖供电局2026年修试所直流高压发生器购置直流高压发生器0911080000100094套曲靖供电局520000 | O19: =VLOOKUP(M19,[2]需求计划明细列表!$M:$M,1,FALSE) -> 05020000344301620260824000曲靖供电局2026年修试所直流高压发生器购置直流高压发生器0911080000100094套曲靖供电局520000 | P19: 05020000344301620260824000曲靖供电局2026年修试所直流高压发生器购置直流高压发生器0911080000100094套曲靖供电局520000
A20: 19 | B20: 标1：云南电网第二批测试设备仪器购置（公开招标） | C20: 包2：直流高压发生器 | D20: 05150000186001620260824000 | E20: 迪庆供电局变电修试所2026年变压器短路阻抗测试仪等共计11台测试设备购置 | F20: 直流高压发生器 | G20: 091108000010009 | H20: 1 | I20: 套 | J20: 迪庆供电局 | K20: 32400 | L20: 120kV3mA | M20: =D20&E20&F20&G20&H20&I20&J20&K20 -> 05150000186001620260824000迪庆供电局变电修试所2026年变压器短路阻抗测试仪等共计11台测试设备购置直流高压发生器0911080000100091套迪庆供电局32400 | N20: #N/A | O20: =VLOOKUP(M20,[2]需求计划明细列表!$M:$M,1,FALSE) -> #N/A | P20: #N/A
A21: 20 | B21: 标1：云南电网第二批测试设备仪器购置（公开招标） | C21: 包3：电容电感测试仪 | D21: 05080000270901620260827000 | E21: 普洱供电局2026年变电修试所SF6综合分析仪等9台测试设备工器具购置 | F21: 电容电感测试仪 | G21: 090402600020001 | H21: 1 | I21: 个 | J21: 普洱供电局 | K21: 67200 | M21: =D21&E21&F21&G21&H21&I21&J21&K21 -> 05080000270901620260827000普洱供电局2026年变电修试所SF6综合分析仪等9台测试设备工器具购置电容电感测试仪0904026000200011个普洱供电局67200 | N21: 05080000270901620260827000普洱供电局2026年变电修试所SF6综合分析仪等9台测试设备工器具购置电容电感测试仪0904026000200011个普洱供电局67200 | O21: =VLOOKUP(M21,[2]需求计划明细列表!$M:$M,1,FALSE) -> 05080000270901620260827000普洱供电局2026年变电修试所SF6综合分析仪等9台测试设备工器具购置电容电感测试仪0904026000200011个普洱供电局67200 | P21: 05080000270901620260827000普洱供电局2026年变电修试所SF6综合分析仪等9台测试设备工器具购置电容电感测试仪0904026000200011个普洱供电局67200
A22: 21 | B22: 标1：云南电网第二批测试设备仪器购置（公开招标） | C22: 包3：电容电感测试仪 | D22: 05140000066701620260827000 | E22: 丽江供电局2026年变电修试所共计15台工器具购置 | F22: 电容电感测试仪 | G22: 090402600020001 | H22: 2 | I22: 个 | J22: 丽江供电局 | K22: 134400 | M22: =D22&E22&F22&G22&H22&I22&J22&K22 -> 05140000066701620260827000丽江供电局2026年变电修试所共计15台工器具购置电容电感测试仪0904026000200012个丽江供电局134400 | N22: =VLOOKUP(M22,[1]Sheet1!$I:$I,1,FALSE) -> 05140000066701620260827000丽江供电局2026年变电修试所共计15台工器具购置电容电感测试仪0904026000200012个丽江供电局134400 | O22: =VLOOKUP(M22,[2]需求计划明细列表!$M:$M,1,FALSE) -> #N/A | P22: #N/A
A23: 22 | B23: 标1：云南电网第二批测试设备仪器购置（公开招标） | C23: 包3：电容电感测试仪 | D23: 05130000239501620260826000 | E23: 德宏供电局2026年变电修试所共计24台生产工器具及仪器仪表购置 | F23: 电容电感测试仪 | G23: 090402600020001 | H23: 3 | I23: 个 | J23: 德宏供电局 | K23: 201600 | L23: 包含相关配套附件 | M23: =D23&E23&F23&G23&H23&I23&J23&K23 -> 05130000239501620260826000德宏供电局2026年变电修试所共计24台生产工器具及仪器仪表购置电容电感测试仪0904026000200013个德宏供电局201600 | N23: 05130000239501620260826000德宏供电局2026年变电修试所共计24台生产工器具及仪器仪表购置电容电感测试仪0904026000200013个德宏供电局201600 | O23: =VLOOKUP(M23,[2]需求计划明细列表!$M:$M,1,FALSE) -> 05130000239501620260826000德宏供电局2026年变电修试所共计24台生产工器具及仪器仪表购置电容电感测试仪0904026000200013个德宏供电局201600 | P23: 05130000239501620260826000德宏供电局2026年变电修试所共计24台生产工器具及仪器仪表购置电容电感测试仪0904026000200013个德宏供电局201600
A24: 23 | B24: 标1：云南电网第二批测试设备仪器购置（公开招标） | C24: 包3：电容电感测试仪 | D24: 05050000458201620260826000 | E24: 大理供电局变电修试所2026年购置1套电容电感测量仪 | F24: 电容电感测试仪 | G24: 090402600020001 | H24: 1 | I24: 个 | J24: 大理供电局 | K24: 67200 | M24: =D24&E24&F24&G24&H24&I24&J24&K24 -> 05050000458201620260826000大理供电局变电修试所2026年购置1套电容电感测量仪电容电感测试仪0904026000200011个大理供电局67200 | N24: 05050000458201620260826000大理供电局变电修试所2026年购置1套电容电感测量仪电容电感测试仪0904026000200011个大理供电局67200 | O24: =VLOOKUP(M24,[2]需求计划明细列表!$M:$M,1,FALSE) -> 05050000458201620260826000大理供电局变电修试所2026年购置1套电容电感测量仪电容电感测试仪0904026000200011个大理供电局67200 | P24: 05050000458201620260826000大理供电局变电修试所2026年购置1套电容电感测量仪电容电感测试仪0904026000200011个大理供电局67200
A25: 24 | B25: 标1：云南电网第二批测试设备仪器购置（公开招标） | C25: 包3：电容电感测试仪 | D25: 05030000515901620260825000 | E25: 红河供电局2026年变电修试所电容电感测量仪等7类14台仪器购置 | F25: 电容电感测试仪 | G25: 090402600020001 | H25: 4 | I25: 个 | J25: 红河供电局 | K25: 268800 | M25: =D25&E25&F25&G25&H25&I25&J25&K25 -> 05030000515901620260825000红河供电局2026年变电修试所电容电感测量仪等7类14台仪器购置电容电感测试仪0904026000200014个红河供电局268800 | N25: 05030000515901620260825000红河供电局2026年变电修试所电容电感测量仪等7类14台仪器购置电容电感测试仪0904026000200014个红河供电局268800 | O25: =VLOOKUP(M25,[2]需求计划明细列表!$M:$M,1,FALSE) -> 05030000515901620260825000红河供电局2026年变电修试所电容电感测量仪等7类14台仪器购置电容电感测试仪0904026000200014个红河供电局268800 | P25: 05030000515901620260825000红河供电局2026年变电修试所电容电感测量仪等7类14台仪器购置电容电感测试仪0904026000200014个红河供电局268800
A26: 25 | B26: 标1：云南电网第二批测试设备仪器购置（公开招标） | C26: 包3：电容电感测试仪 | D26: 05020000345301620260824000 | E26: 曲靖供电局2026年修试所电容电感测量仪购置 | F26: 电容电感测试仪 | G26: 090402600020001 | H26: 2 | I26: 个 | J26: 曲靖供电局 | K26: 134400 | M26: =D26&E26&F26&G26&H26&I26&J26&K26 -> 05020000345301620260824000曲靖供电局2026年修试所电容电感测量仪购置电容电感测试仪0904026000200012个曲靖供电局134400 | N26: 05020000345301620260824000曲靖供电局2026年修试所电容电感测量仪购置电容电感测试仪0904026000200012个曲靖供电局134400 | O26: =VLOOKUP(M26,[2]需求计划明细列表!$M:$M,1,FALSE) -> 05020000345301620260824000曲靖供电局2026年修试所电容电感测量仪购置电容电感测试仪0904026000200012个曲靖供电局134400 | P26: 05020000345301620260824000曲靖供电局2026年修试所电容电感测量仪购置电容电感测试仪0904026000200012个曲靖供电局134400
A27: 26 | B27: 标1：云南电网第二批测试设备仪器购置（公开招标） | C27: 包3：电容电感测试仪 | D27: 05160000096501620260824000 | E27: 怒江供电局2026年变电修试所共计26台仪器仪表购置 | F27: 电容电感测试仪 | G27: 090402600020001 | H27: 1 | I27: 个 | J27: 怒江供电局 | K27: 67200 | M27: =D27&E27&F27&G27&H27&I27&J27&K27 -> 05160000096501620260824000怒江供电局2026年变电修试所共计26台仪器仪表购置电容电感测试仪0904026000200011个怒江供电局67200 | N27: 05160000096501620260824000怒江供电局2026年变电修试所共计26台仪器仪表购置电容电感测试仪0904026000200011个怒江供电局67200 | O27: =VLOOKUP(M27,[2]需求计划明细列表!$M:$M,1,FALSE) -> 05160000096501620260824000怒江供电局2026年变电修试所共计26台仪器仪表购置电容电感测试仪0904026000200011个怒江供电局67200 | P27: 05160000096501620260824000怒江供电局2026年变电修试所共计26台仪器仪表购置电容电感测试仪0904026000200011个怒江供电局67200
A28: 27 | B28: 标1：云南电网第二批测试设备仪器购置（公开招标） | C28: 包3：电容电感测试仪 | D28: 05100000398301620260824000 | E28: 临沧供电局2026年变电修试所变压器绕组变形测试仪、直流电阻测试仪等共计39台设备购置 | F28: 电容电感测试仪 | G28: 090402600020001 | H28: 3 | I28: 个 | J28: 临沧供电局 | K28: 201600 | M28: =D28&E28&F28&G28&H28&I28&J28&K28 -> 05100000398301620260824000临沧供电局2026年变电修试所变压器绕组变形测试仪、直流电阻测试仪等共计39台设备购置电容电感测试仪0904026000200013个临沧供电局201600 | N28: =VLOOKUP(M28,[1]Sheet1!$I:$I,1,FALSE) -> 05100000398301620260824000临沧供电局2026年变电修试所变压器绕组变形测试仪、直流电阻测试仪等共计39台设备购置电容电感测试仪0904026000200013个临沧供电局201600 | O28: =VLOOKUP(M28,[2]需求计划明细列表!$M:$M,1,FALSE) -> #N/A | P28: #N/A
A29: 28 | B29: 标1：云南电网第二批测试设备仪器购置（公开招标） | C29: 包3：电容电感测试仪 | D29: 05070000394401620260824000 | E29: 昭通供电局2026年变电修试所电容电感测量仪共计3套工器具购置（工器具配置） | F29: 电容电感测试仪 | G29: 090402600020001 | H29: 3 | I29: 个 | J29: 昭通供电局 | K29: 201600 | M29: =D29&E29&F29&G29&H29&I29&J29&K29 -> 05070000394401620260824000昭通供电局2026年变电修试所电容电感测量仪共计3套工器具购置（工器具配置）电容电感测试仪0904026000200013个昭通供电局201600 | N29: 05070000394401620260824000昭通供电局2026年变电修试所电容电感测量仪共计3套工器具购置（工器具配置）电容电感测试仪0904026000200013个昭通供电局201600 | O29: =VLOOKUP(M29,[2]需求计划明细列表!$M:$M,1,FALSE) -> 05070000394401620260824000昭通供电局2026年变电修试所电容电感测量仪共计3套工器具购置（工器具配置）电容电感测试仪0904026000200013个昭通供电局201600 | P29: 05070000394401620260824000昭通供电局2026年变电修试所电容电感测量仪共计3套工器具购置（工器具配置）电容电感测试仪0904026000200013个昭通供电局201600
A30: 29 | B30: 标1：云南电网第二批测试设备仪器购置（公开招标） | C30: 包4：断路器动作特性测试仪 | D30: 05010000329201620260827000 | E30: 昆明供电局变电修试所2026年测试设备购置（断路器机械特性测试仪） | F30: 断路器动作特性测试仪 | G30: 030003000580 | H30: 3 | I30: 台 | J30: 昆明供电局 | K30: 699000 | M30: =D30&E30&F30&G30&H30&I30&J30&K30 -> 05010000329201620260827000昆明供电局变电修试所2026年测试设备购置（断路器机械特性测试仪）断路器动作特性测试仪0300030005803台昆明供电局699000 | N30: =VLOOKUP(M30,[1]Sheet1!$I:$I,1,FALSE) -> 05010000329201620260827000昆明供电局变电修试所2026年测试设备购置（断路器机械特性测试仪）断路器动作特性测试仪0300030005803台昆明供电局699000 | O30: =VLOOKUP(M30,[2]需求计划明细列表!$M:$M,1,FALSE) -> #N/A | P30: #N/A
A31: 30 | B31: 标1：云南电网第二批测试设备仪器购置（公开招标） | C31: 包4：断路器动作特性测试仪 | D31: 05140000067501620260827000 | E31: 丽江供电局2026年变电修试所共计15台工器具购置 | F31: 断路器动作特性测试仪 | G31: 030003000580 | H31: 1 | I31: 台 | J31: 丽江供电局 | K31: 175000 | M31: =D31&E31&F31&G31&H31&I31&J31&K31 -> 05140000067501620260827000丽江供电局2026年变电修试所共计15台工器具购置断路器动作特性测试仪0300030005801台丽江供电局175000 | N31: =VLOOKUP(M31,[1]Sheet1!$I:$I,1,FALSE) -> 05140000067501620260827000丽江供电局2026年变电修试所共计15台工器具购置断路器动作特性测试仪0300030005801台丽江供电局175000 | O31: =VLOOKUP(M31,[2]需求计划明细列表!$M:$M,1,FALSE) -> #N/A | P31: #N/A
A32: 31 | B32: 标1：云南电网第二批测试设备仪器购置（公开招标） | C32: 包4：断路器动作特性测试仪 | D32: 05030000517901620260825000 | E32: 红河供电局2026年变电修试所断路器机械特性测试仪、隔离开关触头夹紧力测试仪购置 | F32: 断路器动作特性测试仪 | G32: 030003000580 | H32: 3 | I32: 台 | J32: 红河供电局 | K32: 720000 | M32: =D32&E32&F32&G32&H32&I32&J32&K32 -> 05030000517901620260825000红河供电局2026年变电修试所断路器机械特性测试仪、隔离开关触头夹紧力测试仪购置断路器动作特性测试仪0300030005803台红河供电局720000 | N32: =VLOOKUP(M32,[1]Sheet1!$I:$I,1,FALSE) -> 05030000517901620260825000红河供电局2026年变电修试所断路器机械特性测试仪、隔离开关触头夹紧力测试仪购置断路器动作特性测试仪0300030005803台红河供电局720000 | O32: =VLOOKUP(M32,[2]需求计划明细列表!$M:$M,1,FALSE) -> #N/A | P32: #N/A
A33: 32 | B33: 标1：云南电网第二批测试设备仪器购置（公开招标） | C33: 包4：断路器动作特性测试仪 | D33: 05150000181201620260821000 | E33: 迪庆供电局变电修试所2026年断路器机械特性测试仪等共计5件仪器仪表购置 | F33: 断路器动作特性测试仪 | G33: 030003000580 | H33: 2 | I33: 台 | J33: 迪庆供电局 | K33: 374000 | M33: =D33&E33&F33&G33&H33&I33&J33&K33 -> 05150000181201620260821000迪庆供电局变电修试所2026年断路器机械特性测试仪等共计5件仪器仪表购置断路器动作特性测试仪0300030005802台迪庆供电局374000 | N33: =VLOOKUP(M33,[1]Sheet1!$I:$I,1,FALSE) -> 05150000181201620260821000迪庆供电局变电修试所2026年断路器机械特性测试仪等共计5件仪器仪表购置断路器动作特性测试仪0300030005802台迪庆供电局374000 | O33: =VLOOKUP(M33,[2]需求计划明细列表!$M:$M,1,FALSE) -> #N/A | P33: #N/A
A34: 33 | B34: 标1：云南电网第二批测试设备仪器购置（公开招标） | C34: 包4：断路器动作特性测试仪 | D34: 05070000363801620260821000 | E34: 昭通供电局2026年变电修试所断路器机械特性测试仪共计3套工器具购置（工器具配置） | F34: 断路器动作特性测试仪 | G34: 030003000580 | H34: 3 | I34: 台 | J34: 昭通供电局 | K34: 525000 | M34: =D34&E34&F34&G34&H34&I34&J34&K34 -> 05070000363801620260821000昭通供电局2026年变电修试所断路器机械特性测试仪共计3套工器具购置（工器具配置）断路器动作特性测试仪0300030005803台昭通供电局525000 | N34: =VLOOKUP(M34,[1]Sheet1!$I:$I,1,FALSE) -> 05070000363801620260821000昭通供电局2026年变电修试所断路器机械特性测试仪共计3套工器具购置（工器具配置）断路器动作特性测试仪0300030005803台昭通供电局525000 | O34: =VLOOKUP(M34,[2]需求计划明细列表!$M:$M,1,FALSE) -> #N/A | P34: #N/A
A35: 34 | B35: 标1：云南电网第二批测试设备仪器购置（公开招标） | C35: 包4：断路器动作特性测试仪 | D35: 05110000516601620260820000 | E35: 文山供电局2026年变电修试所共计21台工器具购置 | F35: 断路器动作特性测试仪 | G35: 030003000580 | H35: 1 | I35: 台 | J35: 文山供电局 | K35: 175000 | M35: =D35&E35&F35&G35&H35&I35&J35&K35 -> 05110000516601620260820000文山供电局2026年变电修试所共计21台工器具购置断路器动作特性测试仪0300030005801台文山供电局175000 | N35: 05110000516601620260820000文山供电局2026年变电修试所共计21台工器具购置断路器动作特性测试仪0300030005801台文山供电局175000 | O35: =VLOOKUP(M35,[2]需求计划明细列表!$M:$M,1,FALSE) -> 05110000516601620260820000文山供电局2026年变电修试所共计21台工器具购置断路器动作特性测试仪0300030005801台文山供电局175000 | P35: 05110000516601620260820000文山供电局2026年变电修试所共计21台工器具购置断路器动作特性测试仪0300030005801台文山供电局175000
A36: 35 | B36: 标1：云南电网第二批测试设备仪器购置（公开招标） | C36: 包4：断路器动作特性测试仪 | D36: 05140000066601620260827000 | E36: 丽江供电局2026年变电修试所共计15台工器具购置 | F36: 断路器双端接地机械特性测试仪 | G36: 030003100994 | H36: 1 | I36: 台 | J36: 丽江供电局 | K36: 335000 | M36: =D36&E36&F36&G36&H36&I36&J36&K36 -> 05140000066601620260827000丽江供电局2026年变电修试所共计15台工器具购置断路器双端接地机械特性测试仪0300031009941台丽江供电局335000 | N36: =VLOOKUP(M36,[1]Sheet1!$I:$I,1,FALSE) -> 05140000066601620260827000丽江供电局2026年变电修试所共计15台工器具购置断路器双端接地机械特性测试仪0300031009941台丽江供电局335000 | O36: =VLOOKUP(M36,[2]需求计划明细列表!$M:$M,1,FALSE) -> #N/A | P36: #N/A
A37: 36 | B37: 标1：云南电网第二批测试设备仪器购置（公开招标） | C37: 包5：SF6综合分析仪 | D37: 05040000062701620260903000 | E37: 玉溪供电局2026年变电修试所共计25台工器具购置项目 | F37: SF6综合分析仪 | G37: 090110500020001 | H37: 1 | I37: 个 | J37: 玉溪供电局 | K37: 198000 | M37: =D37&E37&F37&G37&H37&I37&J37&K37 -> 05040000062701620260903000玉溪供电局2026年变电修试所共计25台工器具购置项目SF6综合分析仪0901105000200011个玉溪供电局198000 | N37: 05040000062701620260903000玉溪供电局2026年变电修试所共计25台工器具购置项目SF6综合分析仪0901105000200011个玉溪供电局198000 | O37: =VLOOKUP(M37,[2]需求计划明细列表!$M:$M,1,FALSE) -> 05040000062701620260903000玉溪供电局2026年变电修试所共计25台工器具购置项目SF6综合分析仪0901105000200011个玉溪供电局198000 | P37: 05040000062701620260903000玉溪供电局2026年变电修试所共计25台工器具购置项目SF6综合分析仪0901105000200011个玉溪供电局198000
A38: 37 | B38: 标1：云南电网第二批测试设备仪器购置（公开招标） | C38: 包5：SF6综合分析仪 | D38: 05060000346201620260831000 | E38: 楚雄供电局2026年变电修试所共计8台工器具购置 | F38: SF6综合分析仪 | G38: 090110500020001 | H38: 2 | I38: 个 | J38: 楚雄供电局 | K38: 516000 | M38: =D38&E38&F38&G38&H38&I38&J38&K38 -> 05060000346201620260831000楚雄供电局2026年变电修试所共计8台工器具购置SF6综合分析仪0901105000200012个楚雄供电局516000 | N38: 05060000346201620260831000楚雄供电局2026年变电修试所共计8台工器具购置SF6综合分析仪0901105000200012个楚雄供电局516000 | O38: =VLOOKUP(M38,[2]需求计划明细列表!$M:$M,1,FALSE) -> 05060000346201620260831000楚雄供电局2026年变电修试所共计8台工器具购置SF6综合分析仪0901105000200012个楚雄供电局516000 | P38: 05060000346201620260831000楚雄供电局2026年变电修试所共计8台工器具购置SF6综合分析仪0901105000200012个楚雄供电局516000
A39: 38 | B39: 标1：云南电网第二批测试设备仪器购置（公开招标） | C39: 包5：SF6综合分析仪 | D39: 05100000450801620260828000 | E39: 临沧供电局2026年变电修试所变压器绕组变形测试仪、直流电阻测试仪等共计39台设备购置 | F39: SF6综合分析仪 | G39: 090110500020001 | H39: 1 | I39: 个 | J39: 临沧供电局 | K39: 258000 | M39: =D39&E39&F39&G39&H39&I39&J39&K39 -> 05100000450801620260828000临沧供电局2026年变电修试所变压器绕组变形测试仪、直流电阻测试仪等共计39台设备购置SF6综合分析仪0901105000200011个临沧供电局258000 | N39: =VLOOKUP(M39,[1]Sheet1!$I:$I,1,FALSE) -> 05100000450801620260828000临沧供电局2026年变电修试所变压器绕组变形测试仪、直流电阻测试仪等共计39台设备购置SF6综合分析仪0901105000200011个临沧供电局258000 | O39: =VLOOKUP(M39,[2]需求计划明细列表!$M:$M,1,FALSE) -> #N/A | P39: #N/A
A40: 39 | B40: 标1：云南电网第二批测试设备仪器购置（公开招标） | C40: 包5：SF6综合分析仪 | D40: 05100000450701620260828000 | E40: 临沧供电局2026年变电修试所变压器短路阻抗测试仪、充电机检测仪等共计11台试验设备购置 | F40: SF6综合分析仪 | G40: 090110500020001 | H40: 2 | I40: 个 | J40: 临沧供电局 | K40: 516000 | M40: =D40&E40&F40&G40&H40&I40&J40&K40 -> 05100000450701620260828000临沧供电局2026年变电修试所变压器短路阻抗测试仪、充电机检测仪等共计11台试验设备购置SF6综合分析仪0901105000200012个临沧供电局516000 | N40: =VLOOKUP(M40,[1]Sheet1!$I:$I,1,FALSE) -> 05100000450701620260828000临沧供电局2026年变电修试所变压器短路阻抗测试仪、充电机检测仪等共计11台试验设备购置SF6综合分析仪0901105000200012个临沧供电局516000 | O40: =VLOOKUP(M40,[2]需求计划明细列表!$M:$M,1,FALSE) -> #N/A | P40: #N/A
A41: 40 | B41: 标1：云南电网第二批测试设备仪器购置（公开招标） | C41: 包5：SF6综合分析仪 | D41: 05080000271001620260827000 | E41: 普洱供电局2026年变电修试所SF6综合分析仪等9台测试设备工器具购置 | F41: SF6综合分析仪 | G41: 090110500020001 | H41: 2 | I41: 个 | J41: 普洱供电局 | K41: 516000 | M41: =D41&E41&F41&G41&H41&I41&J41&K41 -> 05080000271001620260827000普洱供电局2026年变电修试所SF6综合分析仪等9台测试设备工器具购置SF6综合分析仪0901105000200012个普洱供电局516000 | N41: 05080000271001620260827000普洱供电局2026年变电修试所SF6综合分析仪等9台测试设备工器具购置SF6综合分析仪0901105000200012个普洱供电局516000 | O41: =VLOOKUP(M41,[2]需求计划明细列表!$M:$M,1,FALSE) -> 05080000271001620260827000普洱供电局2026年变电修试所SF6综合分析仪等9台测试设备工器具购置SF6综合分析仪0901105000200012个普洱供电局516000 | P41: 05080000271001620260827000普洱供电局2026年变电修试所SF6综合分析仪等9台测试设备工器具购置SF6综合分析仪0901105000200012个普洱供电局516000
A42: 41 | B42: 标1：云南电网第二批测试设备仪器购置（公开招标） | C42: 包5：SF6综合分析仪 | D42: 05130000239901620260826000 | E42: 德宏供电局2026年变电修试所共计24台生产工器具及仪器仪表购置 | F42: SF6综合分析仪 | G42: 090110500020001 | H42: 1 | I42: 个 | J42: 德宏供电局 | K42: 258000 | M42: =D42&E42&F42&G42&H42&I42&J42&K42 -> 05130000239901620260826000德宏供电局2026年变电修试所共计24台生产工器具及仪器仪表购置SF6综合分析仪0901105000200011个德宏供电局258000 | N42: 05130000239901620260826000德宏供电局2026年变电修试所共计24台生产工器具及仪器仪表购置SF6综合分析仪0901105000200011个德宏供电局258000 | O42: =VLOOKUP(M42,[2]需求计划明细列表!$M:$M,1,FALSE) -> 05130000239901620260826000德宏供电局2026年变电修试所共计24台生产工器具及仪器仪表购置SF6综合分析仪0901105000200011个德宏供电局258000 | P42: 05130000239901620260826000德宏供电局2026年变电修试所共计24台生产工器具及仪器仪表购置SF6综合分析仪0901105000200011个德宏供电局258000
A43: 42 | B43: 标1：云南电网第二批测试设备仪器购置（公开招标） | C43: 包5：SF6综合分析仪 | D43: 05050000459001620260826000 | E43: 大理供电局2026年购置2套SF6微水及分解产物综合测试仪 | F43: SF6综合分析仪 | G43: 090110500020001 | H43: 2 | I43: 个 | J43: 大理供电局 | K43: 516000 | M43: =D43&E43&F43&G43&H43&I43&J43&K43 -> 05050000459001620260826000大理供电局2026年购置2套SF6微水及分解产物综合测试仪SF6综合分析仪0901105000200012个大理供电局516000 | N43: 05050000459001620260826000大理供电局2026年购置2套SF6微水及分解产物综合测试仪SF6综合分析仪0901105000200012个大理供电局516000 | O43: =VLOOKUP(M43,[2]需求计划明细列表!$M:$M,1,FALSE) -> 05050000459001620260826000大理供电局2026年购置2套SF6微水及分解产物综合测试仪SF6综合分析仪0901105000200012个大理供电局516000 | P43: 05050000459001620260826000大理供电局2026年购置2套SF6微水及分解产物综合测试仪SF6综合分析仪0901105000200012个大理供电局516000
A44: 43 | B44: 标1：云南电网第二批测试设备仪器购置（公开招标） | C44: 包5：SF6综合分析仪 | D44: 05020000344501620260824000 | E44: 曲靖供电局2026年修试所SF6气体综合检测仪购置 | F44: SF6综合分析仪 | G44: 090110500020001 | H44: 4 | I44: 个 | J44: 曲靖供电局 | K44: 1032000 | M44: =D44&E44&F44&G44&H44&I44&J44&K44 -> 05020000344501620260824000曲靖供电局2026年修试所SF6气体综合检测仪购置SF6综合分析仪0901105000200014个曲靖供电局1032000 | N44: 05020000344501620260824000曲靖供电局2026年修试所SF6气体综合检测仪购置SF6综合分析仪0901105000200014个曲靖供电局1032000 | O44: =VLOOKUP(M44,[2]需求计划明细列表!$M:$M,1,FALSE) -> 05020000344501620260824000曲靖供电局2026年修试所SF6气体综合检测仪购置SF6综合分析仪0901105000200014个曲靖供电局1032000 | P44: 05020000344501620260824000曲靖供电局2026年修试所SF6气体综合检测仪购置SF6综合分析仪0901105000200014个曲靖供电局1032000
A45: 44 | B45: 标1：云南电网第二批测试设备仪器购置（公开招标） | C45: 包5：SF6综合分析仪 | D45: 05150000191501620260824000 | E45: 迪庆供电局变电修试所2026年SF6综合分析仪等共计7台油化实验仪器购置 | F45: SF6综合分析仪 | G45: 090110500020001 | H45: 2 | I45: 个 | J45: 迪庆供电局 | K45: 516000 | M45: =D45&E45&F45&G45&H45&I45&J45&K45 -> 05150000191501620260824000迪庆供电局变电修试所2026年SF6综合分析仪等共计7台油化实验仪器购置SF6综合分析仪0901105000200012个迪庆供电局516000 | N45: =VLOOKUP(M45,[1]Sheet1!$I:$I,1,FALSE) -> 05150000191501620260824000迪庆供电局变电修试所2026年SF6综合分析仪等共计7台油化实验仪器购置SF6综合分析仪0901105000200012个迪庆供电局516000 | O45: =VLOOKUP(M45,[2]需求计划明细列表!$M:$M,1,FALSE) -> #N/A | P45: #N/A
A46: 45 | B46: 标1：云南电网第二批测试设备仪器购置（公开招标） | C46: 包6：充电机稳压稳流特性测试仪 | D46: 05040000063001620260903000 | E46: 玉溪供电局2026年变电修试所共计25台工器具购置项目 | F46: 充电机稳压稳流特性测试仪 | G46: 090102400000001 | H46: 3 | I46: 台 | J46: 玉溪供电局 | K46: 193380 | M46: =D46&E46&F46&G46&H46&I46&J46&K46 -> 05040000063001620260903000玉溪供电局2026年变电修试所共计25台工器具购置项目充电机稳压稳流特性测试仪0901024000000013台玉溪供电局193380 | N46: 05040000063001620260903000玉溪供电局2026年变电修试所共计25台工器具购置项目充电机稳压稳流特性测试仪0901024000000013台玉溪供电局193380 | O46: =VLOOKUP(M46,[2]需求计划明细列表!$M:$M,1,FALSE) -> 05040000063001620260903000玉溪供电局2026年变电修试所共计25台工器具购置项目充电机稳压稳流特性测试仪0901024000000013台玉溪供电局193380 | P46: 05040000063001620260903000玉溪供电局2026年变电修试所共计25台工器具购置项目充电机稳压稳流特性测试仪0901024000000013台玉溪供电局193380
A47: 46 | B47: 标1：云南电网第二批测试设备仪器购置（公开招标） | C47: 包6：充电机稳压稳流特性测试仪 | D47: 05080000303501620260828000 | E47: 普洱供电局2026年变电修试所站用电源班测试设备购置 | F47: 充电机稳压稳流特性测试仪 | G47: 090102400000001 | H47: 2 | I47: 台 | J47: 普洱供电局 | K47: 129320 | M47: =D47&E47&F47&G47&H47&I47&J47&K47 -> 05080000303501620260828000普洱供电局2026年变电修试所站用电源班测试设备购置充电机稳压稳流特性测试仪0901024000000012台普洱供电局129320 | N47: 05080000303501620260828000普洱供电局2026年变电修试所站用电源班测试设备购置充电机稳压稳流特性测试仪0901024000000012台普洱供电局129320 | O47: =VLOOKUP(M47,[2]需求计划明细列表!$M:$M,1,FALSE) -> 05080000303501620260828000普洱供电局2026年变电修试所站用电源班测试设备购置充电机稳压稳流特性测试仪0901024000000012台普洱供电局129320 | P47: 05080000303501620260828000普洱供电局2026年变电修试所站用电源班测试设备购置充电机稳压稳流特性测试仪0901024000000012台普洱供电局129320
A48: 47 | B48: 标1：云南电网第二批测试设备仪器购置（公开招标） | C48: 包6：充电机稳压稳流特性测试仪 | D48: 05130000239801620260826000 | E48: 德宏供电局2026年变电修试所共计24台生产工器具及仪器仪表购置 | F48: 充电机稳压稳流特性测试仪 | G48: 090102400000001 | H48: 2 | I48: 台 | J48: 德宏供电局 | K48: 130000 | M48: =D48&E48&F48&G48&H48&I48&J48&K48 -> 05130000239801620260826000德宏供电局2026年变电修试所共计24台生产工器具及仪器仪表购置充电机稳压稳流特性测试仪0901024000000012台德宏供电局130000 | N48: =VLOOKUP(M48,[1]Sheet1!$I:$I,1,FALSE) -> 05130000239801620260826000德宏供电局2026年变电修试所共计24台生产工器具及仪器仪表购置充电机稳压稳流特性测试仪0901024000000012台德宏供电局130000 | O48: =VLOOKUP(M48,[2]需求计划明细列表!$M:$M,1,FALSE) -> #N/A | P48: #N/A
A49: 48 | B49: 标1：云南电网第二批测试设备仪器购置（公开招标） | C49: 包6：充电机稳压稳流特性测试仪 | D49: 05050000447601620260825000 | E49: 大理供电局2026年购置2套充电机特性测试仪 | F49: 充电机稳压稳流特性测试仪 | G49: 090102400000001 | H49: 2 | I49: 台 | J49: 大理供电局 | K49: 129320 | M49: =D49&E49&F49&G49&H49&I49&J49&K49 -> 05050000447601620260825000大理供电局2026年购置2套充电机特性测试仪充电机稳压稳流特性测试仪0901024000000012台大理供电局129320 | N49: 05050000447601620260825000大理供电局2026年购置2套充电机特性测试仪充电机稳压稳流特性测试仪0901024000000012台大理供电局129320 | O49: =VLOOKUP(M49,[2]需求计划明细列表!$M:$M,1,FALSE) -> 05050000447601620260825000大理供电局2026年购置2套充电机特性测试仪充电机稳压稳流特性测试仪0901024000000012台大理供电局129320 | P49: 05050000447601620260825000大理供电局2026年购置2套充电机特性测试仪充电机稳压稳流特性测试仪0901024000000012台大理供电局129320
A50: 49 | B50: 标1：云南电网第二批测试设备仪器购置（公开招标） | C50: 包6：充电机稳压稳流特性测试仪 | D50: 05030000515701620260825000 | E50: 红河供电局2026年变电修试所电容电感测量仪等7类14台仪器购置 | F50: 充电机稳压稳流特性测试仪 | G50: 090102400000001 | H50: 1 | I50: 台 | J50: 红河供电局 | K50: 64660 | M50: =D50&E50&F50&G50&H50&I50&J50&K50 -> 05030000515701620260825000红河供电局2026年变电修试所电容电感测量仪等7类14台仪器购置充电机稳压稳流特性测试仪0901024000000011台红河供电局64660 | N50: 05030000515701620260825000红河供电局2026年变电修试所电容电感测量仪等7类14台仪器购置充电机稳压稳流特性测试仪0901024000000011台红河供电局64660 | O50: =VLOOKUP(M50,[2]需求计划明细列表!$M:$M,1,FALSE) -> 05030000515701620260825000红河供电局2026年变电修试所电容电感测量仪等7类14台仪器购置充电机稳压稳流特性测试仪0901024000000011台红河供电局64660 | P50: 05030000515701620260825000红河供电局2026年变电修试所电容电感测量仪等7类14台仪器购置充电机稳压稳流特性测试仪0901024000000011台红河供电局64660
A51: 50 | B51: 标1：云南电网第二批测试设备仪器购置（公开招标） | C51: 包6：充电机稳压稳流特性测试仪 | D51: 05160000096901620260824000 | E51: 怒江供电局2026年变电修试所共计26台仪器仪表购置 | F51: 充电机稳压稳流特性测试仪 | G51: 090102400000001 | H51: 3 | I51: 台 | J51: 怒江供电局 | K51: 193980 | M51: =D51&E51&F51&G51&H51&I51&J51&K51 -> 05160000096901620260824000怒江供电局2026年变电修试所共计26台仪器仪表购置充电机稳压稳流特性测试仪0901024000000013台怒江供电局193980 | N51: 05160000096901620260824000怒江供电局2026年变电修试所共计26台仪器仪表购置充电机稳压稳流特性测试仪0901024000000013台怒江供电局193980 | O51: =VLOOKUP(M51,[2]需求计划明细列表!$M:$M,1,FALSE) -> 05160000096901620260824000怒江供电局2026年变电修试所共计26台仪器仪表购置充电机稳压稳流特性测试仪0901024000000013台怒江供电局193980 | P51: 05160000096901620260824000怒江供电局2026年变电修试所共计26台仪器仪表购置充电机稳压稳流特性测试仪0901024000000013台怒江供电局193980
A52: 51 | B52: 标1：云南电网第二批测试设备仪器购置（公开招标） | C52: 包6：充电机稳压稳流特性测试仪 | D52: 05100000369101620260821000 | E52: 临沧供电局2026年变电修试所变压器绕组变形测试仪、直流电阻测试仪等共计39台设备购置 | F52: 充电机稳压稳流特性测试仪 | G52: 090102400000001 | H52: 3 | I52: 台 | J52: 临沧供电局 | K52: 193380 | M52: =D52&E52&F52&G52&H52&I52&J52&K52 -> 05100000369101620260821000临沧供电局2026年变电修试所变压器绕组变形测试仪、直流电阻测试仪等共计39台设备购置充电机稳压稳流特性测试仪0901024000000013台临沧供电局193380 | N52: =VLOOKUP(M52,[1]Sheet1!$I:$I,1,FALSE) -> 05100000369101620260821000临沧供电局2026年变电修试所变压器绕组变形测试仪、直流电阻测试仪等共计39台设备购置充电机稳压稳流特性测试仪0901024000000013台临沧供电局193380 | O52: =VLOOKUP(M52,[2]需求计划明细列表!$M:$M,1,FALSE) -> #N/A | P52: #N/A
A53: 52 | B53: 标1：云南电网第二批测试设备仪器购置（公开招标） | C53: 包6：充电机稳压稳流特性测试仪 | D53: 05100000369001620260821000 | E53: 临沧供电局2026年变电修试所变压器短路阻抗测试仪、充电机检测仪等共计11台试验设备购置 | F53: 充电机稳压稳流特性测试仪 | G53: 090102400000001 | H53: 1 | I53: 台 | J53: 临沧供电局 | K53: 64460 | M53: =D53&E53&F53&G53&H53&I53&J53&K53 -> 05100000369001620260821000临沧供电局2026年变电修试所变压器短路阻抗测试仪、充电机检测仪等共计11台试验设备购置充电机稳压稳流特性测试仪0901024000000011台临沧供电局64460 | N53: =VLOOKUP(M53,[1]Sheet1!$I:$I,1,FALSE) -> 05100000369001620260821000临沧供电局2026年变电修试所变压器短路阻抗测试仪、充电机检测仪等共计11台试验设备购置充电机稳压稳流特性测试仪0901024000000011台临沧供电局64460 | O53: =VLOOKUP(M53,[2]需求计划明细列表!$M:$M,1,FALSE) -> #N/A | P53: #N/A
A54: 53 | B54: 标1：云南电网第二批测试设备仪器购置（公开招标） | C54: 包7：台式直读光谱仪 | E54: 云南电科院材化所2026年火花源台式直读光谱仪购置 | F54: X射线荧光光谱仪 | G54: 090113500000001 | H54: 1 | I54: 台 | J54: 云南电科院 | K54: 1520000 | M54: =D54&E54&F54&G54&H54&I54&J54&K54 -> 云南电科院材化所2026年火花源台式直读光谱仪购置X射线荧光光谱仪0901135000000011台云南电科院1520000 | N54: #N/A | O54: =VLOOKUP(M54,[2]需求计划明细列表!$M:$M,1,FALSE) -> #N/A | P54: #N/A
A55: 54 | B55: 标1：云南电网第二批测试设备仪器购置（公开招标） | C55: 包8：电缆综合测试试验平台 | E55: 云南电科院配电所2026年配网电力电缆综合试验及运检技术研究平台建设 | F55: 电力电缆试验区物资检测台工器具 | G55: 060011100415 | H55: 1 | I55: 套 | J55: 云南电科院 | K55: 2100000 | M55: =D55&E55&F55&G55&H55&I55&J55&K55 -> 云南电科院配电所2026年配网电力电缆综合试验及运检技术研究平台建设电力电缆试验区物资检测台工器具0600111004151套云南电科院2100000 | N55: #N/A | O55: =VLOOKUP(M55,[2]需求计划明细列表!$M:$M,1,FALSE) -> #N/A | P55: #N/A
A56: 55 | B56: 标1：云南电网第二批测试设备仪器购置（公开招标） | C56: 包9：电鸿设备功能检测及验证平台 | E56: 云南电科院配电所2026年电鸿设备及高价值场景功能验证平台建设 | F56: 电力开源物联版智能拓扑识别模块_智能台区终端 | G56: 041800500370001 | H56: 1 | I56: 套 | J56: 云南电科院 | K56: 1610000 | M56: =D56&E56&F56&G56&H56&I56&J56&K56 -> 云南电科院配电所2026年电鸿设备及高价值场景功能验证平台建设电力开源物联版智能拓扑识别模块_智能台区终端0418005003700011套云南电科院1610000 | N56: #N/A | O56: =VLOOKUP(M56,[2]需求计划明细列表!$M:$M,1,FALSE) -> #N/A | P56: #N/A
A57: 56 | B57: 标2：生产运行支持系统2.0 | C57: 包1：变电域生产运行支持系统2.0部署实施加装 | D57: 05160000129701620260908000 | E57: 怒江供电局2026年变电域生产运行支持系统2.0部署实施加装项目 | F57: 智能化系统 | G57: 010033000001 | H57: 1 | I57: 套 | J57: 怒江供电局 | K57: 1120300 | M57: =D57&E57&F57&G57&H57&I57&J57&K57 -> 05160000129701620260908000怒江供电局2026年变电域生产运行支持系统2.0部署实施加装项目智能化系统0100330000011套怒江供电局1120300 | N57: 05160000129701620260908000怒江供电局2026年变电域生产运行支持系统2.0部署实施加装项目智能化系统0100330000011套怒江供电局1120300 | O57: =VLOOKUP(M57,[2]需求计划明细列表!$M:$M,1,FALSE) -> 05160000129701620260908000怒江供电局2026年变电域生产运行支持系统2.0部署实施加装项目智能化系统0100330000011套怒江供电局1120300 | P57: 05160000129701620260908000怒江供电局2026年变电域生产运行支持系统2.0部署实施加装项目智能化系统0100330000011套怒江供电局1120300
A58: 57 | B58: 标2：生产运行支持系统2.0 | C58: 包1：变电域生产运行支持系统2.0部署实施加装 | D58: 05070000571801620260908000 | E58: 昭通供电局2026年变电运行一所变电域生产运行支持系统2.0部署实施加装（新技术） | F58: 智能化系统 | G58: 010033000001 | H58: 1 | I58: 套 | J58: 昭通供电局 | K58: 2377000 | M58: =D58&E58&F58&G58&H58&I58&J58&K58 -> 05070000571801620260908000昭通供电局2026年变电运行一所变电域生产运行支持系统2.0部署实施加装（新技术）智能化系统0100330000011套昭通供电局2377000 | N58: 05070000571801620260908000昭通供电局2026年变电运行一所变电域生产运行支持系统2.0部署实施加装（新技术）智能化系统0100330000011套昭通供电局2377000 | O58: =VLOOKUP(M58,[2]需求计划明细列表!$M:$M,1,FALSE) -> 05070000571801620260908000昭通供电局2026年变电运行一所变电域生产运行支持系统2.0部署实施加装（新技术）智能化系统0100330000011套昭通供电局2377000 | P58: 05070000571801620260908000昭通供电局2026年变电运行一所变电域生产运行支持系统2.0部署实施加装（新技术）智能化系统0100330000011套昭通供电局2377000
A59: 58 | B59: 标2：生产运行支持系统2.0 | C59: 包1：变电域生产运行支持系统2.0部署实施加装 | D59: 05080000314601620260830000 | E59: 普洱供电局2026年变电域生产运行支持系统2.0部署实施加装 | F59: 智能化系统 | G59: 010033000001 | H59: 1 | I59: 套 | J59: 普洱供电局 | K59: 2024100 | M59: =D59&E59&F59&G59&H59&I59&J59&K59 -> 05080000314601620260830000普洱供电局2026年变电域生产运行支持系统2.0部署实施加装智能化系统0100330000011套普洱供电局2024100 | N59: 05080000314601620260830000普洱供电局2026年变电域生产运行支持系统2.0部署实施加装智能化系统0100330000011套普洱供电局2024100 | O59: =VLOOKUP(M59,[2]需求计划明细列表!$M:$M,1,FALSE) -> 05080000314601620260830000普洱供电局2026年变电域生产运行支持系统2.0部署实施加装智能化系统0100330000011套普洱供电局2024100 | P59: 05080000314601620260830000普洱供电局2026年变电域生产运行支持系统2.0部署实施加装智能化系统0100330000011套普洱供电局2024100
A60: 59 | B60: 标2：生产运行支持系统2.0 | C60: 包1：变电域生产运行支持系统2.0部署实施加装 | D60: 05120000008201620260827000 | E60: 保山供电局2026年变电域生产运行支持系统2.0部署实施加装项目（专项） | F60: 智能化系统 | G60: 010033000001 | H60: 1 | I60: 套 | J60: 保山供电局 | K60: 638388 | M60: =D60&E60&F60&G60&H60&I60&J60&K60 -> 05120000008201620260827000保山供电局2026年变电域生产运行支持系统2.0部署实施加装项目（专项）智能化系统0100330000011套保山供电局638388 | N60: 05120000008201620260827000保山供电局2026年变电域生产运行支持系统2.0部署实施加装项目（专项）智能化系统0100330000011套保山供电局638388 | O60: =VLOOKUP(M60,[2]需求计划明细列表!$M:$M,1,FALSE) -> 05120000008201620260827000保山供电局2026年变电域生产运行支持系统2.0部署实施加装项目（专项）智能化系统0100330000011套保山供电局638388 | P60: 05120000008201620260827000保山供电局2026年变电域生产运行支持系统2.0部署实施加装项目（专项）智能化系统0100330000011套保山供电局638388
A61: 60 | B61: 标2：生产运行支持系统2.0 | C61: 包1：变电域生产运行支持系统2.0部署实施加装 | D61: 05140000070301620260827000 | E61: 丽江供电局2026年生产运行支持系统（变电域）2.0迁移加装 | F61: 智能化系统 | G61: 010033000001 | H61: 1 | I61: 套 | J61: 丽江供电局 | K61: 1167600 | M61: =D61&E61&F61&G61&H61&I61&J61&K61 -> 05140000070301620260827000丽江供电局2026年生产运行支持系统（变电域）2.0迁移加装智能化系统0100330000011套丽江供电局1167600 | N61: 05140000070301620260827000丽江供电局2026年生产运行支持系统（变电域）2.0迁移加装智能化系统0100330000011套丽江供电局1167600 | O61: =VLOOKUP(M61,[2]需求计划明细列表!$M:$M,1,FALSE) -> 05140000070301620260827000丽江供电局2026年生产运行支持系统（变电域）2.0迁移加装智能化系统0100330000011套丽江供电局1167600 | P61: 05140000070301620260827000丽江供电局2026年生产运行支持系统（变电域）2.0迁移加装智能化系统0100330000011套丽江供电局1167600
A62: 61 | B62: 标2：生产运行支持系统2.0 | C62: 包1：变电域生产运行支持系统2.0部署实施加装 | D62: 05130000241101620260827000 | E62: 德宏供电局2026年-2027年生产运行支持系统（变电域）2.0迁移加装 | F62: 智能化系统 | G62: 010033000001 | H62: 1 | I62: 套 | J62: 德宏供电局 | K62: 1247000 | M62: =D62&E62&F62&G62&H62&I62&J62&K62 -> 05130000241101620260827000德宏供电局2026年-2027年生产运行支持系统（变电域）2.0迁移加装智能化系统0100330000011套德宏供电局1247000 | N62: 05130000241101620260827000德宏供电局2026年-2027年生产运行支持系统（变电域）2.0迁移加装智能化系统0100330000011套德宏供电局1247000 | O62: =VLOOKUP(M62,[2]需求计划明细列表!$M:$M,1,FALSE) -> 05130000241101620260827000德宏供电局2026年-2027年生产运行支持系统（变电域）2.0迁移加装智能化系统0100330000011套德宏供电局1247000 | P62: 05130000241101620260827000德宏供电局2026年-2027年生产运行支持系统（变电域）2.0迁移加装智能化系统0100330000011套德宏供电局1247000
A63: 62 | B63: 标2：生产运行支持系统2.0 | C63: 包1：变电域生产运行支持系统2.0部署实施加装 | D63: 05040000258001620260824000 | E63: 玉溪供电局2026年变电运行所变电域生产运行支持系统2.0实施加装项目 | F63: 智能化系统 | G63: 010033000001 | H63: 1 | I63: 套 | J63: 玉溪供电局 | K63: 1869161 | M63: =D63&E63&F63&G63&H63&I63&J63&K63 -> 05040000258001620260824000玉溪供电局2026年变电运行所变电域生产运行支持系统2.0实施加装项目智能化系统0100330000011套玉溪供电局1869161 | N63: 05040000258001620260824000玉溪供电局2026年变电运行所变电域生产运行支持系统2.0实施加装项目智能化系统0100330000011套玉溪供电局1869161 | O63: =VLOOKUP(M63,[2]需求计划明细列表!$M:$M,1,FALSE) -> 05040000258001620260824000玉溪供电局2026年变电运行所变电域生产运行支持系统2.0实施加装项目智能化系统0100330000011套玉溪供电局1869161 | P63: 05040000258001620260824000玉溪供电局2026年变电运行所变电域生产运行支持系统2.0实施加装项目智能化系统0100330000011套玉溪供电局1869161
A64: 63 | B64: 标2：生产运行支持系统2.0 | C64: 包1：变电域生产运行支持系统2.0部署实施加装 | D64: 05110000703001620260824000 | E64: 文山供电局2026年变电域生产运行支持系统2.0部署实施加装 | F64: 智能化系统 | G64: 010033000001 | H64: 1 | I64: 套 | J64: 文山供电局 | K64: 1370000 | M64: =D64&E64&F64&G64&H64&I64&J64&K64 -> 05110000703001620260824000文山供电局2026年变电域生产运行支持系统2.0部署实施加装智能化系统0100330000011套文山供电局1370000 | N64: 05110000703001620260824000文山供电局2026年变电域生产运行支持系统2.0部署实施加装智能化系统0100330000011套文山供电局1370000 | O64: =VLOOKUP(M64,[2]需求计划明细列表!$M:$M,1,FALSE) -> 05110000703001620260824000文山供电局2026年变电域生产运行支持系统2.0部署实施加装智能化系统0100330000011套文山供电局1370000 | P64: 05110000703001620260824000文山供电局2026年变电域生产运行支持系统2.0部署实施加装智能化系统0100330000011套文山供电局1370000
A65: 64 | B65: 标2：生产运行支持系统2.0 | C65: 包1：变电域生产运行支持系统2.0部署实施加装 | D65: 05090000300901620260824000 | E65: 西双版纳供电局生产运行支持系统（变电域）南网云服务器迁移加装 | F65: 智能化系统 | G65: 010033000001 | H65: 1 | I65: 套 | J65: 西双版纳供电局 | K65: 1146500 | M65: =D65&E65&F65&G65&H65&I65&J65&K65 -> 05090000300901620260824000西双版纳供电局生产运行支持系统（变电域）南网云服务器迁移加装智能化系统0100330000011套西双版纳供电局1146500 | N65: #N/A | O65: =VLOOKUP(M65,[2]需求计划明细列表!$M:$M,1,FALSE) -> #N/A | P65: #N/A
A66: 65 | B66: 标2：生产运行支持系统2.0 | C66: 包1：变电域生产运行支持系统2.0部署实施加装 | D66: 05100000370201620260821000 | E66: 临沧供电局2026年变电域生产运行支持系统2.0部署实施加装 | F66: 智能化系统 | G66: 010033000001 | H66: 1 | I66: 套 | J66: 临沧供电局 | K66: 1194500 | M66: =D66&E66&F66&G66&H66&I66&J66&K66 -> 05100000370201620260821000临沧供电局2026年变电域生产运行支持系统2.0部署实施加装智能化系统0100330000011套临沧供电局1194500 | N66: 05100000370201620260821000临沧供电局2026年变电域生产运行支持系统2.0部署实施加装智能化系统0100330000011套临沧供电局1194500 | O66: =VLOOKUP(M66,[2]需求计划明细列表!$M:$M,1,FALSE) -> 05100000370201620260821000临沧供电局2026年变电域生产运行支持系统2.0部署实施加装智能化系统0100330000011套临沧供电局1194500 | P66: 05100000370201620260821000临沧供电局2026年变电域生产运行支持系统2.0部署实施加装智能化系统0100330000011套临沧供电局1194500
A67: 66 | B67: 标2：生产运行支持系统2.0 | C67: 包1：变电域生产运行支持系统2.0部署实施加装 | D67: 05020000309301620260821000 | E67: 曲靖供电局2026年变电域生产运行支持系统2.0实施加装 | F67: 智能化系统 | G67: 010033000001 | H67: 1 | I67: 套 | J67: 曲靖供电局 | K67: 1855500 | M67: =D67&E67&F67&G67&H67&I67&J67&K67 -> 05020000309301620260821000曲靖供电局2026年变电域生产运行支持系统2.0实施加装智能化系统0100330000011套曲靖供电局1855500 | N67: 05020000309301620260821000曲靖供电局2026年变电域生产运行支持系统2.0实施加装智能化系统0100330000011套曲靖供电局1855500 | O67: =VLOOKUP(M67,[2]需求计划明细列表!$M:$M,1,FALSE) -> 05020000309301620260821000曲靖供电局2026年变电域生产运行支持系统2.0实施加装智能化系统0100330000011套曲靖供电局1855500 | P67: 05020000309301620260821000曲靖供电局2026年变电域生产运行支持系统2.0实施加装智能化系统0100330000011套曲靖供电局1855500
A68: 67 | B68: 标2：生产运行支持系统2.0 | C68: 包1：变电域生产运行支持系统2.0部署实施加装 | D68: 05030000454601620260821000 | E68: 红河供电局2026年变电域生产运行支持系统2.0部署实施加装 | F68: 智能化系统 | G68: 010033000001 | H68: 1 | I68: 套 | J68: 红河供电局 | K68: 1792600 | M68: =D68&E68&F68&G68&H68&I68&J68&K68 -> 05030000454601620260821000红河供电局2026年变电域生产运行支持系统2.0部署实施加装智能化系统0100330000011套红河供电局1792600 | N68: 05030000454601620260821000红河供电局2026年变电域生产运行支持系统2.0部署实施加装智能化系统0100330000011套红河供电局1792600 | O68: =VLOOKUP(M68,[2]需求计划明细列表!$M:$M,1,FALSE) -> 05030000454601620260821000红河供电局2026年变电域生产运行支持系统2.0部署实施加装智能化系统0100330000011套红河供电局1792600 | P68: 05030000454601620260821000红河供电局2026年变电域生产运行支持系统2.0部署实施加装智能化系统0100330000011套红河供电局1792600
A69: 68 | B69: 标2：生产运行支持系统2.0 | C69: 包1：变电域生产运行支持系统2.0部署实施加装 | D69: 05150000179401620260821000 | E69: 迪庆供电局变电运行所变电域生产运行支持系统2.0部署实施加装项目 | F69: 智能化系统 | G69: 010033000001 | H69: 1 | I69: 套 | J69: 迪庆供电局 | K69: 866604 | M69: =D69&E69&F69&G69&H69&I69&J69&K69 -> 05150000179401620260821000迪庆供电局变电运行所变电域生产运行支持系统2.0部署实施加装项目智能化系统0100330000011套迪庆供电局866604 | N69: #N/A | O69: =VLOOKUP(M69,[2]需求计划明细列表!$M:$M,1,FALSE) -> 05150000179401620260821000迪庆供电局变电运行所变电域生产运行支持系统2.0部署实施加装项目智能化系统0100330000011套迪庆供电局866604 | P69: #N/A
A70: 69 | B70: 标2：生产运行支持系统2.0 | C70: 包1：变电域生产运行支持系统2.0部署实施加装 | D70: 05050000363501620260820000 | E70: 大理供电局2026年生产运行支持系统（变电域）2.0版的部署建设项目 | F70: 智能化系统 | G70: 010033000001 | H70: 1 | I70: 套 | J70: 大理供电局 | K70: 1494450 | M70: =D70&E70&F70&G70&H70&I70&J70&K70 -> 05050000363501620260820000大理供电局2026年生产运行支持系统（变电域）2.0版的部署建设项目智能化系统0100330000011套大理供电局1494450 | N70: 05050000363501620260820000大理供电局2026年生产运行支持系统（变电域）2.0版的部署建设项目智能化系统0100330000011套大理供电局1494450 | O70: =VLOOKUP(M70,[2]需求计划明细列表!$M:$M,1,FALSE) -> 05050000363501620260820000大理供电局2026年生产运行支持系统（变电域）2.0版的部署建设项目智能化系统0100330000011套大理供电局1494450 | P70: 05050000363501620260820000大理供电局2026年生产运行支持系统（变电域）2.0版的部署建设项目智能化系统0100330000011套大理供电局1494450
A71: 70 | B71: 标2：生产运行支持系统2.0 | C71: 包1：变电域生产运行支持系统2.0部署实施加装 | D71: 05060000220301620260820000 | E71: 楚雄供电局2026年变电运行所变电域生产运行支持系统2.0实施加装 | F71: 智能化系统 | G71: 010033000001 | H71: 1 | I71: 套 | J71: 楚雄供电局 | K71: 1681300 | M71: =D71&E71&F71&G71&H71&I71&J71&K71 -> 05060000220301620260820000楚雄供电局2026年变电运行所变电域生产运行支持系统2.0实施加装智能化系统0100330000011套楚雄供电局1681300 | N71: 05060000220301620260820000楚雄供电局2026年变电运行所变电域生产运行支持系统2.0实施加装智能化系统0100330000011套楚雄供电局1681300 | O71: =VLOOKUP(M71,[2]需求计划明细列表!$M:$M,1,FALSE) -> 05060000220301620260820000楚雄供电局2026年变电运行所变电域生产运行支持系统2.0实施加装智能化系统0100330000011套楚雄供电局1681300 | P71: 05060000220301620260820000楚雄供电局2026年变电运行所变电域生产运行支持系统2.0实施加装智能化系统0100330000011套楚雄供电局1681300
A72: 71 | B72: 标2：生产运行支持系统2.0 | C72: 包1：变电域生产运行支持系统2.0部署实施加装 | D72: 05060000220301620260820000（核实此单号，明细信息与系统不对应） | E72: 昆明供电局变电域生产运行支持系统2.0实施加装项目 | F72: 智能化系统 | G72: 010033000001 | H72: 1 | I72: 套 | J72: 昆明供电局 | K72: 2767119 | M72: =D72&E72&F72&G72&H72&I72&J72&K72 -> 05060000220301620260820000（核实此单号，明细信息与系统不对应）昆明供电局变电域生产运行支持系统2.0实施加装项目智能化系统0100330000011套昆明供电局2767119 | N72: #N/A | O72: =VLOOKUP(M72,[2]需求计划明细列表!$M:$M,1,FALSE) -> #N/A | P72: #N/A | Q72: 05060000220301620260820000楚雄供电局2026年变电运行所变电域生产运行支持系统2.0实施加装智能化系统0100330000011套楚雄供电局1681300
A73: 72 | B73: 标3：现场作业安全监控智能识别系统 | C73: 包1：现场作业安全监控智能识别系统 | D73: 05620000005001620260825000 | E73: 云南电网公司2026年数字生产作业全过程智能分析加装项目 | F73: 现场作业安全监控智能识别系统 | G73: 100900200000018 | H73: 1 | I73: 套 | J73: 电力科学研究院 | K73: 8458202 | L73: 数字生产作业全过程智能分析模块、全维风险联动管控模块、数字值班员与智能报告模块、作业流程断点识别模块、系统配置与数据集成模块。 | M73: =D73&E73&F73&G73&H73&I73&J73&K73 -> 05620000005001620260825000云南电网公司2026年数字生产作业全过程智能分析加装项目现场作业安全监控智能识别系统1009002000000181套电力科学研究院8458202 | N73: #N/A | O73: =VLOOKUP(M73,[2]需求计划明细列表!$M:$M,1,FALSE) -> #N/A | P73: #N/A
A74: 73 | B74: 标4：串补设备电流互感器 | C74: 包1：串补设备电流互感器 | D74: 05030000502001620260825000 | E74: 红河供电局2026年500kV建水串补站36只串补平台间隙CT更换 | F74: 串补设备MOV电流互感器 | G74: 100003000014 | H74: 12 | I74: 套 | J74: 红河供电局 | K74: 744000 | M74: =D74&E74&F74&G74&H74&I74&J74&K74 -> 05030000502001620260825000红河供电局2026年500kV建水串补站36只串补平台间隙CT更换串补设备MOV电流互感器10000300001412套红河供电局744000 | N74: #N/A | O74: =VLOOKUP(M74,[2]需求计划明细列表!$M:$M,1,FALSE) -> #N/A | P74: #N/A
A75: 74 | B75: 标4：串补设备电流互感器 | C75: 包1：串补设备电流互感器 | D75: 05030000501801620260825000 | E75: 红河供电局2026年500kV建水串补站36只串补平台间隙CT更换 | F75: 串补设备平台电流互感器 | G75: 100003000016 | H75: 6 | I75: 套 | J75: 红河供电局 | K75: 372000 | M75: =D75&E75&F75&G75&H75&I75&J75&K75 -> 05030000501801620260825000红河供电局2026年500kV建水串补站36只串补平台间隙CT更换串补设备平台电流互感器1000030000166套红河供电局372000 | N75: #N/A | O75: =VLOOKUP(M75,[2]需求计划明细列表!$M:$M,1,FALSE) -> #N/A | P75: #N/A
A76: 75 | B76: 标4：串补设备电流互感器 | C76: 包1：串补设备电流互感器 | D76: 05030000501901620260825000 | E76: 红河供电局2026年500kV建水串补站36只串补平台间隙CT更换 | F76: 串补设备火花间隙电流互感器 | G76: 100003000015 | H76: 6 | I76: 套 | J76: 红河供电局 | K76: 372000 | M76: =D76&E76&F76&G76&H76&I76&J76&K76 -> 05030000501901620260825000红河供电局2026年500kV建水串补站36只串补平台间隙CT更换串补设备火花间隙电流互感器1000030000156套红河供电局372000 | N76: #N/A | O76: =VLOOKUP(M76,[2]需求计划明细列表!$M:$M,1,FALSE) -> #N/A | P76: #N/A
A77: 76 | B77: 标4：串补设备电流互感器 | C77: 包1：串补设备电流互感器 | D77: 05030000501601620260825000 | E77: 红河供电局2026年500kV建水串补站36只串补平台间隙CT更换 | F77: 串补设备电容器组不平衡电流互感器 | G77: 100003000012 | H77: 6 | I77: 套 | J77: 红河供电局 | K77: 372000 | M77: =D77&E77&F77&G77&H77&I77&J77&K77 -> 05030000501601620260825000红河供电局2026年500kV建水串补站36只串补平台间隙CT更换串补设备电容器组不平衡电流互感器1000030000126套红河供电局372000 | N77: #N/A | O77: =VLOOKUP(M77,[2]需求计划明细列表!$M:$M,1,FALSE) -> #N/A | P77: #N/A
A78: 77 | B78: 标4：串补设备电流互感器 | C78: 包1：串补设备电流互感器 | D78: 05030000501701620260825000 | E78: 红河供电局2026年500kV建水串补站36只串补平台间隙CT更换 | F78: 串补设备电容电流互感器 | G78: 100003000011 | H78: 6 | I78: 套 | J78: 红河供电局 | K78: 372000 | M78: =D78&E78&F78&G78&H78&I78&J78&K78 -> 05030000501701620260825000红河供电局2026年500kV建水串补站36只串补平台间隙CT更换串补设备电容电流互感器1000030000116套红河供电局372000 | N78: #N/A | O78: =VLOOKUP(M78,[2]需求计划明细列表!$M:$M,1,FALSE) -> #N/A | P78: #N/A
A79: 78 | B79: 标5：28M高空作业车 | C79: 包1：28M高空作业车 | D79: 05040000063101620260903000 | E79: 玉溪供电局2026年变电修试所高空作业车购置项目 | F79: 高空作业车 | G79: 190204300010001 | H79: 2 | I79: 台 | J79: 玉溪供电局 | K79: 1186500 | M79: =D79&E79&F79&G79&H79&I79&J79&K79 -> 05040000063101620260903000玉溪供电局2026年变电修试所高空作业车购置项目高空作业车1902043000100012台玉溪供电局1186500 | N79: 05040000063101620260903000玉溪供电局2026年变电修试所高空作业车购置项目高空作业车1902043000100012台玉溪供电局1186500 | O79: =VLOOKUP(M79,[2]需求计划明细列表!$M:$M,1,FALSE) -> 05040000063101620260903000玉溪供电局2026年变电修试所高空作业车购置项目高空作业车1902043000100012台玉溪供电局1186500 | P79: 05040000063101620260903000玉溪供电局2026年变电修试所高空作业车购置项目高空作业车1902043000100012台玉溪供电局1186500
A80: 79 | B80: 标5：28M高空作业车 | C80: 包1：28M高空作业车 | D80: 05130000240101620260826000 | E80: 德宏供电局2026年变电修试所高空作业车购置 | F80: 高空作业车 | G80: 190204300010001 | H80: 1 | I80: 台 | J80: 德宏供电局 | K80: 600000 | M80: =D80&E80&F80&G80&H80&I80&J80&K80 -> 05130000240101620260826000德宏供电局2026年变电修试所高空作业车购置高空作业车1902043000100011台德宏供电局600000 | N80: =VLOOKUP(M80,[1]Sheet1!$I:$I,1,FALSE) -> 05130000240101620260826000德宏供电局2026年变电修试所高空作业车购置高空作业车1902043000100011台德宏供电局600000 | O80: =VLOOKUP(M80,[2]需求计划明细列表!$M:$M,1,FALSE) -> #N/A | P80: #N/A
A81: 80 | B81: 标5：28M高空作业车 | C81: 包1：28M高空作业车 | D81: 05050000459501620260826000 | E81: 大理供电局2026年修试所2台特种车辆购置 | F81: 高空作业车 | G81: 190204300010001 | H81: 2 | I81: 台 | J81: 大理供电局 | K81: 1186500 | M81: =D81&E81&F81&G81&H81&I81&J81&K81 -> 05050000459501620260826000大理供电局2026年修试所2台特种车辆购置高空作业车1902043000100012台大理供电局1186500 | N81: 05050000459501620260826000大理供电局2026年修试所2台特种车辆购置高空作业车1902043000100012台大理供电局1186500 | O81: =VLOOKUP(M81,[2]需求计划明细列表!$M:$M,1,FALSE) -> 05050000459501620260826000大理供电局2026年修试所2台特种车辆购置高空作业车1902043000100012台大理供电局1186500 | P81: 05050000459501620260826000大理供电局2026年修试所2台特种车辆购置高空作业车1902043000100012台大理供电局1186500
A82: 81 | B82: 标5：28M高空作业车 | C82: 包1：28M高空作业车 | D82: 05100000378901620260824000 | E82: 临沧供电局2026年变电修试所生产高空作业特种车辆购置 | F82: 高空作业车 | G82: 190204300010001 | H82: 2 | I82: 台 | J82: 临沧供电局 | K82: 1186500 | M82: =D82&E82&F82&G82&H82&I82&J82&K82 -> 05100000378901620260824000临沧供电局2026年变电修试所生产高空作业特种车辆购置高空作业车1902043000100012台临沧供电局1186500 | N82: =VLOOKUP(M82,[1]Sheet1!$I:$I,1,FALSE) -> 05100000378901620260824000临沧供电局2026年变电修试所生产高空作业特种车辆购置高空作业车1902043000100012台临沧供电局1186500 | O82: =VLOOKUP(M82,[2]需求计划明细列表!$M:$M,1,FALSE) -> #N/A | P82: #N/A
A83: 82 | B83: 标5：28M高空作业车 | C83: 包1：28M高空作业车 | D83: 05090000225501620260316000 | E83: 云南农垦电力有限责任公司2025年高空作业车购置 | F83: 高空作业车 | G83: 190204300010001 | H83: 2 | I83: 台 | J83: 西双版纳供电局 | K83: 1160000 | M83: =D83&E83&F83&G83&H83&I83&J83&K83 -> 05090000225501620260316000云南农垦电力有限责任公司2025年高空作业车购置高空作业车1902043000100012台西双版纳供电局1160000 | N83: #N/A | O83: =VLOOKUP(M83,[2]需求计划明细列表!$M:$M,1,FALSE) -> #N/A | P83: #N/A
A84: 83 | B84: 标5：28M高空作业车 | C84: 包1：28M高空作业车 | D84: 05140000192401620260320000 | E84: 500千伏德茂输变电工程 | F84: 高空作业车 | G84: 190204300010001 | H84: 1 | I84: 台 | J84: 丽江供电局 | K84: 580000 | M84: =D84&E84&F84&G84&H84&I84&J84&K84 -> 05140000192401620260320000500千伏德茂输变电工程高空作业车1902043000100011台丽江供电局580000 | N84: #N/A | O84: =VLOOKUP(M84,[2]需求计划明细列表!$M:$M,1,FALSE) -> #N/A | P84: #N/A
A85: 84 | B85: 标6：变压器综合监测与故障诊断系统 | C85: 包1：变压器综合监测与故障诊断系统 | D85: 05120000003301620260820000 | E85: 保山供电局2026年500kV兰城变、隆阳变共计5台主变压器震动、局放监测装置加装 | F85: 变压器综合监测与故障诊断系统 | G85: 033601700060001 | H85: 5 | I85: 套 | J85: 保山供电局 | K85: 2000000 | M85: =D85&E85&F85&G85&H85&I85&J85&K85 -> 05120000003301620260820000保山供电局2026年500kV兰城变、隆阳变共计5台主变压器震动、局放监测装置加装变压器综合监测与故障诊断系统0336017000600015套保山供电局2000000 | N85: #N/A | O85: =VLOOKUP(M85,[2]需求计划明细列表!$M:$M,1,FALSE) -> #N/A | P85: #N/A
A86: 85 | B86: 标6：变压器综合监测与故障诊断系统 | C86: 包1：变压器综合监测与故障诊断系统 | D86: 05120000003701620260821000 | E86: 保山供电局2026年220kV大寨变220kV1号、2号主变变压器震动、局放监测装置加装（新技术） | F86: 变压器综合监测与故障诊断系统 | G86: 033601700060001 | H86: 2 | I86: 套 | J86: 保山供电局 | K86: 800000 | M86: =D86&E86&F86&G86&H86&I86&J86&K86 -> 05120000003701620260821000保山供电局2026年220kV大寨变220kV1号、2号主变变压器震动、局放监测装置加装（新技术）变压器综合监测与故障诊断系统0336017000600012套保山供电局800000 | N86: #N/A | O86: =VLOOKUP(M86,[2]需求计划明细列表!$M:$M,1,FALSE) -> #N/A | P86: #N/A
A87: 86 | B87: 标7：生产运行支持系统（变电域）智能巡视、智能监测、智能安全、变电驾驶舱功能模块更换 | C87: 包1：生产运行支持系统（变电域）智能巡视、智能监测、智能安全、变电驾驶舱功能模块更换 | D87: 05620000004201620260821000 | E87: 云南电科院高压技术研究所2026年生产运行支持系统（变电域）智能巡视、智能监测、智能安全、变电驾驶舱功能模块更换 | F87: 智能化系统 | G87: 010033000001 | H87: 1 | I87: 套 | J87: 云南电科院 | K87: 300.53 | M87: =D87&E87&F87&G87&H87&I87&J87&K87 -> 05620000004201620260821000云南电科院高压技术研究所2026年生产运行支持系统（变电域）智能巡视、智能监测、智能安全、变电驾驶舱功能模块更换智能化系统0100330000011套云南电科院300.53 | N87: #N/A | O87: =VLOOKUP(M87,[2]需求计划明细列表!$M:$M,1,FALSE) -> #N/A | P87: #N/A
A88: 87 | B88: 标8：生产运行支持系统（输电域）地质灾害模块 | C88: 包1：生产运行支持系统（输电域）地质灾害模块 | E88: 云南电科院2026年生产运行支持系统（输电域）地质灾害模块加装 | F88: 软件管理平台 | G88: 100900100000079 | H88: 1 | I88: 套 | J88: 云南电科院 | K88: 2512700 | M88: =D88&E88&F88&G88&H88&I88&J88&K88 -> 云南电科院2026年生产运行支持系统（输电域）地质灾害模块加装软件管理平台1009001000000791套云南电科院2512700 | N88: #N/A | O88: =VLOOKUP(M88,[2]需求计划明细列表!$M:$M,1,FALSE) -> #N/A | P88: #N/A
A89: 88 | B89: 标9：生产指挥数字化辅助工具 | C89: 包1：生产指挥数字化辅助工具 | E89: 云南电网公司2026年生产指挥数字化辅助工具加装项目 | F89: 软件管理平台 | G89: 100900100000079 | H89: 1 | I89: 套 | J89: 云南电科院 | K89: 1450000 | M89: =D89&E89&F89&G89&H89&I89&J89&K89 -> 云南电网公司2026年生产指挥数字化辅助工具加装项目软件管理平台1009001000000791套云南电科院1450000 | N89: #N/A | O89: =VLOOKUP(M89,[2]需求计划明细列表!$M:$M,1,FALSE) -> #N/A | P89: #N/A
